| Back to Multiple platform build/check report for BioC 3.12 |
|
This page was generated on 2021-05-06 12:29:12 -0400 (Thu, 06 May 2021).
|
To the developers/maintainers of the SLGI package: Please make sure to use the following settings in order to reproduce any error or warning you see on this page. |
| Package 1733/1974 | Hostname | OS / Arch | INSTALL | BUILD | CHECK | BUILD BIN | ||||||||
| SLGI 1.50.0 (landing page) Nolwenn Le Meur
| malbec1 | Linux (Ubuntu 18.04.5 LTS) / x86_64 | OK | OK | OK | |||||||||
| tokay1 | Windows Server 2012 R2 Standard / x64 | OK | OK | OK | OK | |||||||||
| merida1 | macOS 10.14.6 Mojave / x86_64 | OK | OK | OK | OK | |||||||||
| Package: SLGI |
| Version: 1.50.0 |
| Command: /home/biocbuild/bbs-3.12-bioc/R/bin/R CMD check --install=check:SLGI.install-out.txt --library=/home/biocbuild/bbs-3.12-bioc/R/library --no-vignettes --timings SLGI_1.50.0.tar.gz |
| StartedAt: 2021-05-06 06:09:48 -0400 (Thu, 06 May 2021) |
| EndedAt: 2021-05-06 06:13:20 -0400 (Thu, 06 May 2021) |
| EllapsedTime: 211.9 seconds |
| RetCode: 0 |
| Status: OK |
| CheckDir: SLGI.Rcheck |
| Warnings: 0 |
##############################################################################
##############################################################################
###
### Running command:
###
### /home/biocbuild/bbs-3.12-bioc/R/bin/R CMD check --install=check:SLGI.install-out.txt --library=/home/biocbuild/bbs-3.12-bioc/R/library --no-vignettes --timings SLGI_1.50.0.tar.gz
###
##############################################################################
##############################################################################
* using log directory ‘/home/biocbuild/bbs-3.12-bioc/meat/SLGI.Rcheck’
* using R version 4.0.5 (2021-03-31)
* using platform: x86_64-pc-linux-gnu (64-bit)
* using session charset: UTF-8
* using option ‘--no-vignettes’
* checking for file ‘SLGI/DESCRIPTION’ ... OK
* this is package ‘SLGI’ version ‘1.50.0’
* checking package namespace information ... OK
* checking package dependencies ... OK
* checking if this is a source package ... OK
* checking if there is a namespace ... OK
* checking for hidden files and directories ... OK
* checking for portable file names ... OK
* checking for sufficient/correct file permissions ... OK
* checking whether package ‘SLGI’ can be installed ... OK
* checking installed package size ... NOTE
installed size is 15.9Mb
sub-directories of 1Mb or more:
data 4.2Mb
extdata 11.3Mb
* checking package directory ... OK
* checking ‘build’ directory ... OK
* checking DESCRIPTION meta-information ... NOTE
Malformed Description field: should contain one or more complete sentences.
Packages listed in more than one of Depends, Imports, Suggests, Enhances:
‘ScISI’ ‘lattice’ ‘GO.db’
A package should be listed in only one of these fields.
* checking top-level files ... OK
* checking for left-over files ... OK
* checking index information ... OK
* checking package subdirectories ... OK
* checking R files for non-ASCII characters ... OK
* checking R files for syntax errors ... OK
* checking whether the package can be loaded ... OK
* checking whether the package can be loaded with stated dependencies ... OK
* checking whether the package can be unloaded cleanly ... OK
* checking whether the namespace can be loaded with stated dependencies ... OK
* checking whether the namespace can be unloaded cleanly ... OK
* checking dependencies in R code ... NOTE
'library' or 'require' call to ‘GO.db’ in package code.
Please use :: or requireNamespace() instead.
See section 'Suggested packages' in the 'Writing R Extensions' manual.
* checking S3 generic/method consistency ... OK
* checking replacement functions ... OK
* checking foreign function calls ... OK
* checking R code for possible problems ... OK
* checking Rd files ... OK
* checking Rd metadata ... OK
* checking Rd cross-references ... OK
* checking for missing documentation entries ... OK
* checking for code/documentation mismatches ... OK
* checking Rd \usage sections ... OK
* checking Rd contents ... OK
* checking for unstated dependencies in examples ... OK
* checking contents of ‘data’ directory ... OK
* checking data for non-ASCII characters ... OK
* checking data for ASCII and uncompressed saves ... OK
* checking files in ‘vignettes’ ... OK
* checking examples ... OK
Examples with CPU (user + system) or elapsed time > 5s
user system elapsed
iSummary 15.472 0.088 15.598
compare 8.000 0.064 8.081
modelSLGI 7.972 0.028 8.007
siResult-class 7.508 0.056 7.576
plot 7.120 0.052 7.178
* checking for unstated dependencies in vignettes ... OK
* checking package vignettes in ‘inst/doc’ ... OK
* checking running R code from vignettes ... SKIPPED
* checking re-building of vignette outputs ... SKIPPED
* checking PDF version of manual ... OK
* DONE
Status: 3 NOTEs
See
‘/home/biocbuild/bbs-3.12-bioc/meat/SLGI.Rcheck/00check.log’
for details.
SLGI.Rcheck/00install.out
############################################################################## ############################################################################## ### ### Running command: ### ### /home/biocbuild/bbs-3.12-bioc/R/bin/R CMD INSTALL SLGI ### ############################################################################## ############################################################################## * installing to library ‘/home/biocbuild/bbs-3.12-bioc/R/library’ * installing *source* package ‘SLGI’ ... ** using staged installation ** R ** data ** inst ** byte-compile and prepare package for lazy loading No methods found in package ‘Biobase’ for request: ‘listlen’ when loading ‘RpsiXML’ No methods found in package ‘annotate’ for requests: ‘pubmed’, ‘buildPubMedAbst’ when loading ‘RpsiXML’ No methods found in package ‘BiocGenerics’ for request: ‘plot’ when loading ‘SLGI’ ** help *** installing help indices ** building package indices ** installing vignettes ** testing if installed package can be loaded from temporary location No methods found in package ‘Biobase’ for request: ‘listlen’ when loading ‘RpsiXML’ No methods found in package ‘annotate’ for requests: ‘pubmed’, ‘buildPubMedAbst’ when loading ‘RpsiXML’ No methods found in package ‘BiocGenerics’ for request: ‘plot’ when loading ‘SLGI’ ** testing if installed package can be loaded from final location No methods found in package ‘Biobase’ for request: ‘listlen’ when loading ‘RpsiXML’ No methods found in package ‘annotate’ for requests: ‘pubmed’, ‘buildPubMedAbst’ when loading ‘RpsiXML’ No methods found in package ‘BiocGenerics’ for request: ‘plot’ when loading ‘SLGI’ ** testing if installed package keeps a record of temporary installation path * DONE (SLGI)
SLGI.Rcheck/SLGI-Ex.timings
| name | user | system | elapsed | |
| Atong | 0.028 | 0.004 | 0.030 | |
| AtongFnDomain | 2.988 | 0.040 | 3.035 | |
| AtongPair | 0.724 | 0.004 | 0.731 | |
| SDL | 0.004 | 0.000 | 0.006 | |
| SGA | 0.008 | 0.000 | 0.009 | |
| SGD.SL | 0.176 | 0.004 | 0.182 | |
| TFmat | 0.096 | 0.004 | 0.103 | |
| byComplex | 0.284 | 0.020 | 0.304 | |
| comemberIn | 0.516 | 0.028 | 0.544 | |
| compare | 8.000 | 0.064 | 8.081 | |
| congruence | 0.004 | 0.000 | 0.003 | |
| createSquareMatrix | 0.076 | 0.004 | 0.081 | |
| domainDist | 3.028 | 0.032 | 3.063 | |
| essglist | 0.004 | 0.004 | 0.008 | |
| getInteraction | 0.000 | 0.000 | 0.002 | |
| getSharedDomains | 0.008 | 0.004 | 0.012 | |
| getSharedInteraction | 0.004 | 0.000 | 0.001 | |
| getTestedPairs | 0.008 | 0.000 | 0.009 | |
| getUniquePairs | 0.016 | 0.000 | 0.017 | |
| gi2005 | 0.060 | 0.000 | 0.061 | |
| gi2007 | 0.400 | 0.000 | 0.401 | |
| gi2Interactome | 0.000 | 0.000 | 0.001 | |
| hyperG | 0.008 | 0.000 | 0.007 | |
| iSummary | 15.472 | 0.088 | 15.598 | |
| modelSLGI | 7.972 | 0.028 | 8.007 | |
| normInteraction | 3.212 | 0.040 | 3.264 | |
| plot | 7.120 | 0.052 | 7.178 | |
| seqMatcherAlign | 0.000 | 0.000 | 0.001 | |
| sharedBy | 2.800 | 0.016 | 2.821 | |
| sharedInt | 0.000 | 0.000 | 0.002 | |
| siResult-class | 7.508 | 0.056 | 7.576 | |
| test2Interact | 0.004 | 0.000 | 0.002 | |
| topInteraction | 4.200 | 0.008 | 4.213 | |
| twoWayTable | 4.748 | 0.028 | 4.786 | |
| withinComplex | 0.280 | 0.020 | 0.301 | |