| Back to Multiple platform build/check report for BioC 3.12 |
|
This page was generated on 2021-05-06 12:36:40 -0400 (Thu, 06 May 2021).
|
To the developers/maintainers of the SCAN.UPC package: Please make sure to use the following settings in order to reproduce any error or warning you see on this page. |
| Package 1626/1974 | Hostname | OS / Arch | INSTALL | BUILD | CHECK | BUILD BIN | ||||||||
| SCAN.UPC 2.32.0 (landing page) Stephen R. Piccolo
| malbec1 | Linux (Ubuntu 18.04.5 LTS) / x86_64 | OK | OK | OK | |||||||||
| tokay1 | Windows Server 2012 R2 Standard / x64 | OK | OK | OK | OK | |||||||||
| merida1 | macOS 10.14.6 Mojave / x86_64 | OK | OK | OK | OK | |||||||||
| Package: SCAN.UPC |
| Version: 2.32.0 |
| Command: /Library/Frameworks/R.framework/Versions/Current/Resources/bin/R CMD build --keep-empty-dirs --no-resave-data SCAN.UPC |
| StartedAt: 2021-05-05 21:55:54 -0400 (Wed, 05 May 2021) |
| EndedAt: 2021-05-05 21:56:44 -0400 (Wed, 05 May 2021) |
| EllapsedTime: 49.6 seconds |
| RetCode: 0 |
| Status: OK |
| PackageFile: SCAN.UPC_2.32.0.tar.gz |
| PackageFileSize: 580 KiB |
############################################################################## ############################################################################## ### ### Running command: ### ### /Library/Frameworks/R.framework/Versions/Current/Resources/bin/R CMD build --keep-empty-dirs --no-resave-data SCAN.UPC ### ############################################################################## ############################################################################## * checking for file ‘SCAN.UPC/DESCRIPTION’ ... OK * preparing ‘SCAN.UPC’: * checking DESCRIPTION meta-information ... OK * installing the package to build vignettes * creating vignettes ... OK * checking for LF line-endings in source and make files and shell scripts * checking for empty or unneeded directories * building ‘SCAN.UPC_2.32.0.tar.gz’