| Back to Multiple platform build/check report for BioC 3.12 |
|
This page was generated on 2021-05-06 12:36:40 -0400 (Thu, 06 May 2021).
|
To the developers/maintainers of the SCAN.UPC package: Please make sure to use the following settings in order to reproduce any error or warning you see on this page. |
| Package 1626/1974 | Hostname | OS / Arch | INSTALL | BUILD | CHECK | BUILD BIN | ||||||||
| SCAN.UPC 2.32.0 (landing page) Stephen R. Piccolo
| malbec1 | Linux (Ubuntu 18.04.5 LTS) / x86_64 | OK | OK | OK | |||||||||
| tokay1 | Windows Server 2012 R2 Standard / x64 | OK | OK | OK | OK | |||||||||
| merida1 | macOS 10.14.6 Mojave / x86_64 | OK | OK | OK | OK | |||||||||
| Package: SCAN.UPC |
| Version: 2.32.0 |
| Command: rm -rf SCAN.UPC.buildbin-libdir && mkdir SCAN.UPC.buildbin-libdir && /Users/biocbuild/BBS/utils/build-universal.sh SCAN.UPC_2.32.0.tar.gz /Library/Frameworks/R.framework/Versions/Current/Resources/bin/R SCAN.UPC.buildbin-libdir |
| StartedAt: 2021-05-06 09:55:06 -0400 (Thu, 06 May 2021) |
| EndedAt: 2021-05-06 09:56:06 -0400 (Thu, 06 May 2021) |
| EllapsedTime: 59.7 seconds |
| RetCode: 0 |
| Status: OK |
| PackageFile: SCAN.UPC_2.32.0.tgz |
| PackageFileSize: 444 KiB |
##############################################################################
##############################################################################
###
### Running command:
###
### rm -rf SCAN.UPC.buildbin-libdir && mkdir SCAN.UPC.buildbin-libdir && /Users/biocbuild/BBS/utils/build-universal.sh SCAN.UPC_2.32.0.tar.gz /Library/Frameworks/R.framework/Versions/Current/Resources/bin/R SCAN.UPC.buildbin-libdir
###
##############################################################################
##############################################################################
>>>>>>>
>>>>>>> INSTALLATION WITH 'R CMD INSTALL --preclean --no-multiarch --library=SCAN.UPC.buildbin-libdir SCAN.UPC_2.32.0.tar.gz'
>>>>>>>
* installing *source* package ‘SCAN.UPC’ ...
** using staged installation
** R
** inst
** byte-compile and prepare package for lazy loading
Parallel computing support for 'oligo/crlmm': Disabled
- Load 'ff'
- Load and register a 'foreach' adaptor
Example - Using 'multicore' for 2 cores:
library(doMC)
registerDoMC(2)
================================================================================
** help
*** installing help indices
** building package indices
** installing vignettes
** testing if installed package can be loaded from temporary location
Parallel computing support for 'oligo/crlmm': Disabled
- Load 'ff'
- Load and register a 'foreach' adaptor
Example - Using 'multicore' for 2 cores:
library(doMC)
registerDoMC(2)
================================================================================
** testing if installed package can be loaded from final location
Parallel computing support for 'oligo/crlmm': Disabled
- Load 'ff'
- Load and register a 'foreach' adaptor
Example - Using 'multicore' for 2 cores:
library(doMC)
registerDoMC(2)
================================================================================
** testing if installed package keeps a record of temporary installation path
* DONE (SCAN.UPC)