| Back to Multiple platform build/check report for BioC 3.12 |
|
This page was generated on 2021-05-06 12:36:20 -0400 (Thu, 06 May 2021).
|
To the developers/maintainers of the ReactomeGSA package: Please make sure to use the following settings in order to reproduce any error or warning you see on this page. |
| Package 1481/1974 | Hostname | OS / Arch | INSTALL | BUILD | CHECK | BUILD BIN | ||||||||
| ReactomeGSA 1.4.2 (landing page) Johannes Griss
| malbec1 | Linux (Ubuntu 18.04.5 LTS) / x86_64 | OK | OK | OK | |||||||||
| tokay1 | Windows Server 2012 R2 Standard / x64 | OK | OK | OK | OK | |||||||||
| merida1 | macOS 10.14.6 Mojave / x86_64 | OK | OK | OK | OK | |||||||||
| Package: ReactomeGSA |
| Version: 1.4.2 |
| Command: /Library/Frameworks/R.framework/Versions/Current/Resources/bin/R CMD check --install=check:ReactomeGSA.install-out.txt --library=/Library/Frameworks/R.framework/Versions/Current/Resources/library --no-vignettes --timings ReactomeGSA_1.4.2.tar.gz |
| StartedAt: 2021-05-06 05:15:12 -0400 (Thu, 06 May 2021) |
| EndedAt: 2021-05-06 05:30:56 -0400 (Thu, 06 May 2021) |
| EllapsedTime: 944.4 seconds |
| RetCode: 0 |
| Status: OK |
| CheckDir: ReactomeGSA.Rcheck |
| Warnings: 0 |
##############################################################################
##############################################################################
###
### Running command:
###
### /Library/Frameworks/R.framework/Versions/Current/Resources/bin/R CMD check --install=check:ReactomeGSA.install-out.txt --library=/Library/Frameworks/R.framework/Versions/Current/Resources/library --no-vignettes --timings ReactomeGSA_1.4.2.tar.gz
###
##############################################################################
##############################################################################
* using log directory ‘/Users/biocbuild/bbs-3.12-bioc/meat/ReactomeGSA.Rcheck’
* using R version 4.0.5 (2021-03-31)
* using platform: x86_64-apple-darwin17.0 (64-bit)
* using session charset: UTF-8
* using option ‘--no-vignettes’
* checking for file ‘ReactomeGSA/DESCRIPTION’ ... OK
* checking extension type ... Package
* this is package ‘ReactomeGSA’ version ‘1.4.2’
* package encoding: UTF-8
* checking package namespace information ... OK
* checking package dependencies ... OK
* checking if this is a source package ... OK
* checking if there is a namespace ... OK
* checking for hidden files and directories ... OK
* checking for portable file names ... OK
* checking for sufficient/correct file permissions ... OK
* checking whether package ‘ReactomeGSA’ can be installed ... OK
* checking installed package size ... OK
* checking package directory ... OK
* checking ‘build’ directory ... OK
* checking DESCRIPTION meta-information ... OK
* checking top-level files ... OK
* checking for left-over files ... OK
* checking index information ... OK
* checking package subdirectories ... OK
* checking R files for non-ASCII characters ... OK
* checking R files for syntax errors ... OK
* checking whether the package can be loaded ... OK
* checking whether the package can be loaded with stated dependencies ... OK
* checking whether the package can be unloaded cleanly ... OK
* checking whether the namespace can be loaded with stated dependencies ... OK
* checking whether the namespace can be unloaded cleanly ... OK
* checking dependencies in R code ... OK
* checking S3 generic/method consistency ... OK
* checking replacement functions ... OK
* checking foreign function calls ... OK
* checking R code for possible problems ... NOTE
plot_correlations,ReactomeAnalysisResult: no visible binding for global
variable ‘combined_sig’
plot_correlations,ReactomeAnalysisResult: no visible binding for global
variable ‘alpha’
plot_gsva_pathway,ReactomeAnalysisResult: no visible binding for global
variable ‘cluster_id’
plot_gsva_pathway,ReactomeAnalysisResult: no visible binding for global
variable ‘expr’
plot_gsva_pca,ReactomeAnalysisResult: no visible binding for global
variable ‘gsva_result’
plot_gsva_pca,ReactomeAnalysisResult: no visible binding for global
variable ‘PC1’
plot_gsva_pca,ReactomeAnalysisResult: no visible binding for global
variable ‘PC2’
plot_volcano,ReactomeAnalysisResult: no visible binding for global
variable ‘av_foldchange’
plot_volcano,ReactomeAnalysisResult: no visible binding for global
variable ‘FDR’
Undefined global functions or variables:
FDR PC1 PC2 alpha av_foldchange cluster_id combined_sig expr
gsva_result
* checking Rd files ... OK
* checking Rd metadata ... OK
* checking Rd cross-references ... OK
* checking for missing documentation entries ... OK
* checking for code/documentation mismatches ... OK
* checking Rd \usage sections ... OK
* checking Rd contents ... OK
* checking for unstated dependencies in examples ... OK
* checking files in ‘vignettes’ ... OK
* checking examples ... OK
Examples with CPU (user + system) or elapsed time > 5s
user system elapsed
analyse_sc_clusters-Seurat-method 58.397 2.444 101.220
plot_gsva_heatmap-ReactomeAnalysisResult-method 53.459 1.448 94.071
analyse_sc_clusters 52.309 1.521 94.224
plot_gsva_heatmap 52.071 1.527 92.836
plot_gsva_pca-ReactomeAnalysisResult-method 50.440 2.081 95.066
plot_gsva_pathway 50.691 1.374 90.964
plot_gsva_pathway-ReactomeAnalysisResult-method 50.384 1.442 90.848
analyse_sc_clusters-SingleCellExperiment-method 49.511 1.375 91.677
plot_gsva_pca 44.885 1.415 87.338
ReactomeAnalysisRequest 5.222 0.313 5.632
pathways-ReactomeAnalysisResult-method 5.273 0.039 5.318
perform_reactome_analysis 3.038 0.098 15.530
* checking for unstated dependencies in ‘tests’ ... OK
* checking tests ...
Running ‘testthat.R’
OK
* checking for unstated dependencies in vignettes ... OK
* checking package vignettes in ‘inst/doc’ ... OK
* checking running R code from vignettes ... SKIPPED
* checking re-building of vignette outputs ... SKIPPED
* checking PDF version of manual ... OK
* DONE
Status: 1 NOTE
See
‘/Users/biocbuild/bbs-3.12-bioc/meat/ReactomeGSA.Rcheck/00check.log’
for details.
ReactomeGSA.Rcheck/00install.out
############################################################################## ############################################################################## ### ### Running command: ### ### /Library/Frameworks/R.framework/Versions/Current/Resources/bin/R CMD INSTALL ReactomeGSA ### ############################################################################## ############################################################################## * installing to library ‘/Library/Frameworks/R.framework/Versions/4.0/Resources/library’ * installing *source* package ‘ReactomeGSA’ ... ** using staged installation ** R ** inst ** byte-compile and prepare package for lazy loading in method for ‘analyse_sc_clusters’ with signature ‘object="Seurat"’: no definition for class “Seurat” in method for ‘analyse_sc_clusters’ with signature ‘object="SingleCellExperiment"’: no definition for class “SingleCellExperiment” in method for ‘add_dataset’ with signature ‘request="ReactomeAnalysisRequest",expression_values="EList"’: no definition for class “EList” in method for ‘add_dataset’ with signature ‘request="ReactomeAnalysisRequest",expression_values="DGEList"’: no definition for class “DGEList” in method for ‘add_dataset’ with signature ‘request="ReactomeAnalysisRequest",expression_values="ExpressionSet"’: no definition for class “ExpressionSet” ** help *** installing help indices ** building package indices ** installing vignettes ** testing if installed package can be loaded from temporary location ** testing if installed package can be loaded from final location ** testing if installed package keeps a record of temporary installation path * DONE (ReactomeGSA)
ReactomeGSA.Rcheck/tests/testthat.Rout
R version 4.0.5 (2021-03-31) -- "Shake and Throw"
Copyright (C) 2021 The R Foundation for Statistical Computing
Platform: x86_64-apple-darwin17.0 (64-bit)
R is free software and comes with ABSOLUTELY NO WARRANTY.
You are welcome to redistribute it under certain conditions.
Type 'license()' or 'licence()' for distribution details.
R is a collaborative project with many contributors.
Type 'contributors()' for more information and
'citation()' on how to cite R or R packages in publications.
Type 'demo()' for some demos, 'help()' for on-line help, or
'help.start()' for an HTML browser interface to help.
Type 'q()' to quit R.
> library(testthat)
> library(ReactomeGSA)
>
> test_check("ReactomeGSA")
[ FAIL 0 | WARN 0 | SKIP 0 | PASS 17 ]
>
> proc.time()
user system elapsed
1.307 0.128 1.421
ReactomeGSA.Rcheck/ReactomeGSA-Ex.timings
| name | user | system | elapsed | |
| ReactomeAnalysisRequest | 5.222 | 0.313 | 5.632 | |
| ReactomeAnalysisResult-class | 4.666 | 0.023 | 4.694 | |
| add_dataset-ReactomeAnalysisRequest-DGEList-method | 0.814 | 0.070 | 0.886 | |
| add_dataset-ReactomeAnalysisRequest-EList-method | 0.714 | 0.065 | 0.779 | |
| add_dataset-ReactomeAnalysisRequest-ExpressionSet-method | 0.750 | 0.049 | 0.800 | |
| add_dataset-ReactomeAnalysisRequest-data.frame-method | 0.697 | 0.047 | 0.744 | |
| add_dataset-ReactomeAnalysisRequest-matrix-method | 0.731 | 0.048 | 0.779 | |
| add_dataset | 0.763 | 0.047 | 0.812 | |
| analyse_sc_clusters-Seurat-method | 58.397 | 2.444 | 101.220 | |
| analyse_sc_clusters-SingleCellExperiment-method | 49.511 | 1.375 | 91.677 | |
| analyse_sc_clusters | 52.309 | 1.521 | 94.224 | |
| get_reactome_data_types | 0.056 | 0.007 | 1.526 | |
| get_reactome_methods | 0.110 | 0.011 | 2.320 | |
| get_result-ReactomeAnalysisResult-method | 0.196 | 0.006 | 0.202 | |
| get_result | 0.173 | 0.005 | 0.178 | |
| names-ReactomeAnalysisResult-method | 0.186 | 0.006 | 0.193 | |
| open_reactome-ReactomeAnalysisResult-method | 0.188 | 0.006 | 0.194 | |
| open_reactome | 0.226 | 0.008 | 0.234 | |
| pathways-ReactomeAnalysisResult-method | 5.273 | 0.039 | 5.318 | |
| pathways | 4.721 | 0.016 | 4.742 | |
| perform_reactome_analysis | 3.038 | 0.098 | 15.530 | |
| plot_correlations-ReactomeAnalysisResult-method | 4.816 | 0.032 | 4.854 | |
| plot_correlations | 4.904 | 0.055 | 4.963 | |
| plot_gsva_heatmap-ReactomeAnalysisResult-method | 53.459 | 1.448 | 94.071 | |
| plot_gsva_heatmap | 52.071 | 1.527 | 92.836 | |
| plot_gsva_pathway-ReactomeAnalysisResult-method | 50.384 | 1.442 | 90.848 | |
| plot_gsva_pathway | 50.691 | 1.374 | 90.964 | |
| plot_gsva_pca-ReactomeAnalysisResult-method | 50.440 | 2.081 | 95.066 | |
| plot_gsva_pca | 44.885 | 1.415 | 87.338 | |
| plot_volcano-ReactomeAnalysisResult-method | 0.191 | 0.005 | 0.196 | |
| plot_volcano | 0.204 | 0.005 | 0.209 | |
| print-ReactomeAnalysisRequest-method | 0.002 | 0.000 | 0.003 | |
| print-ReactomeAnalysisResult-method | 0.168 | 0.004 | 0.172 | |
| reactome_links-ReactomeAnalysisResult-method | 0.176 | 0.005 | 0.182 | |
| reactome_links | 0.185 | 0.005 | 0.190 | |
| result_types-ReactomeAnalysisResult-method | 0.167 | 0.004 | 0.172 | |
| result_types | 0.169 | 0.004 | 0.174 | |
| set_method-ReactomeAnalysisRequest-method | 0.002 | 0.002 | 0.004 | |
| set_method | 0.002 | 0.001 | 0.003 | |
| set_parameters-ReactomeAnalysisRequest-method | 0.002 | 0.000 | 0.002 | |
| set_parameters | 0.002 | 0.000 | 0.002 | |
| show-ReactomeAnalysisRequest-method | 0.002 | 0.000 | 0.002 | |
| show-ReactomeAnalysisResult-method | 0.164 | 0.004 | 0.168 | |