| Back to Multiple platform build/check report for BioC 3.12 |
|
This page was generated on 2021-05-06 12:28:46 -0400 (Thu, 06 May 2021).
|
To the developers/maintainers of the ReactomeGSA package: Please make sure to use the following settings in order to reproduce any error or warning you see on this page. |
| Package 1481/1974 | Hostname | OS / Arch | INSTALL | BUILD | CHECK | BUILD BIN | ||||||||
| ReactomeGSA 1.4.2 (landing page) Johannes Griss
| malbec1 | Linux (Ubuntu 18.04.5 LTS) / x86_64 | OK | OK | OK | |||||||||
| tokay1 | Windows Server 2012 R2 Standard / x64 | OK | OK | OK | OK | |||||||||
| merida1 | macOS 10.14.6 Mojave / x86_64 | OK | OK | OK | OK | |||||||||
| Package: ReactomeGSA |
| Version: 1.4.2 |
| Command: /home/biocbuild/bbs-3.12-bioc/R/bin/R CMD check --install=check:ReactomeGSA.install-out.txt --library=/home/biocbuild/bbs-3.12-bioc/R/library --no-vignettes --timings ReactomeGSA_1.4.2.tar.gz |
| StartedAt: 2021-05-06 05:03:32 -0400 (Thu, 06 May 2021) |
| EndedAt: 2021-05-06 05:18:29 -0400 (Thu, 06 May 2021) |
| EllapsedTime: 897.5 seconds |
| RetCode: 0 |
| Status: OK |
| CheckDir: ReactomeGSA.Rcheck |
| Warnings: 0 |
##############################################################################
##############################################################################
###
### Running command:
###
### /home/biocbuild/bbs-3.12-bioc/R/bin/R CMD check --install=check:ReactomeGSA.install-out.txt --library=/home/biocbuild/bbs-3.12-bioc/R/library --no-vignettes --timings ReactomeGSA_1.4.2.tar.gz
###
##############################################################################
##############################################################################
* using log directory ‘/home/biocbuild/bbs-3.12-bioc/meat/ReactomeGSA.Rcheck’
* using R version 4.0.5 (2021-03-31)
* using platform: x86_64-pc-linux-gnu (64-bit)
* using session charset: UTF-8
* using option ‘--no-vignettes’
* checking for file ‘ReactomeGSA/DESCRIPTION’ ... OK
* checking extension type ... Package
* this is package ‘ReactomeGSA’ version ‘1.4.2’
* package encoding: UTF-8
* checking package namespace information ... OK
* checking package dependencies ... OK
* checking if this is a source package ... OK
* checking if there is a namespace ... OK
* checking for hidden files and directories ... OK
* checking for portable file names ... OK
* checking for sufficient/correct file permissions ... OK
* checking whether package ‘ReactomeGSA’ can be installed ... OK
* checking installed package size ... OK
* checking package directory ... OK
* checking ‘build’ directory ... OK
* checking DESCRIPTION meta-information ... OK
* checking top-level files ... OK
* checking for left-over files ... OK
* checking index information ... OK
* checking package subdirectories ... OK
* checking R files for non-ASCII characters ... OK
* checking R files for syntax errors ... OK
* checking whether the package can be loaded ... OK
* checking whether the package can be loaded with stated dependencies ... OK
* checking whether the package can be unloaded cleanly ... OK
* checking whether the namespace can be loaded with stated dependencies ... OK
* checking whether the namespace can be unloaded cleanly ... OK
* checking dependencies in R code ... OK
* checking S3 generic/method consistency ... OK
* checking replacement functions ... OK
* checking foreign function calls ... OK
* checking R code for possible problems ... NOTE
plot_correlations,ReactomeAnalysisResult: no visible binding for global
variable ‘combined_sig’
plot_correlations,ReactomeAnalysisResult: no visible binding for global
variable ‘alpha’
plot_gsva_pathway,ReactomeAnalysisResult: no visible binding for global
variable ‘cluster_id’
plot_gsva_pathway,ReactomeAnalysisResult: no visible binding for global
variable ‘expr’
plot_gsva_pca,ReactomeAnalysisResult: no visible binding for global
variable ‘gsva_result’
plot_gsva_pca,ReactomeAnalysisResult: no visible binding for global
variable ‘PC1’
plot_gsva_pca,ReactomeAnalysisResult: no visible binding for global
variable ‘PC2’
plot_volcano,ReactomeAnalysisResult: no visible binding for global
variable ‘av_foldchange’
plot_volcano,ReactomeAnalysisResult: no visible binding for global
variable ‘FDR’
Undefined global functions or variables:
FDR PC1 PC2 alpha av_foldchange cluster_id combined_sig expr
gsva_result
* checking Rd files ... OK
* checking Rd metadata ... OK
* checking Rd cross-references ... OK
* checking for missing documentation entries ... OK
* checking for code/documentation mismatches ... OK
* checking Rd \usage sections ... OK
* checking Rd contents ... OK
* checking for unstated dependencies in examples ... OK
* checking files in ‘vignettes’ ... OK
* checking examples ... OK
Examples with CPU (user + system) or elapsed time > 5s
user system elapsed
analyse_sc_clusters-Seurat-method 55.236 0.668 91.310
plot_gsva_heatmap-ReactomeAnalysisResult-method 55.320 0.228 91.378
analyse_sc_clusters 54.120 0.376 91.315
plot_gsva_pathway-ReactomeAnalysisResult-method 53.968 0.404 91.222
analyse_sc_clusters-SingleCellExperiment-method 52.912 0.244 91.706
plot_gsva_heatmap 52.080 0.400 88.148
plot_gsva_pathway 51.816 0.444 88.777
plot_gsva_pca-ReactomeAnalysisResult-method 50.828 0.352 82.650
plot_gsva_pca 48.100 0.440 85.228
ReactomeAnalysisRequest 5.392 0.128 5.683
ReactomeAnalysisResult-class 5.164 0.004 5.276
perform_reactome_analysis 4.008 0.060 14.725
* checking for unstated dependencies in ‘tests’ ... OK
* checking tests ...
Running ‘testthat.R’
OK
* checking for unstated dependencies in vignettes ... OK
* checking package vignettes in ‘inst/doc’ ... OK
* checking running R code from vignettes ... SKIPPED
* checking re-building of vignette outputs ... SKIPPED
* checking PDF version of manual ... OK
* DONE
Status: 1 NOTE
See
‘/home/biocbuild/bbs-3.12-bioc/meat/ReactomeGSA.Rcheck/00check.log’
for details.
ReactomeGSA.Rcheck/00install.out
############################################################################## ############################################################################## ### ### Running command: ### ### /home/biocbuild/bbs-3.12-bioc/R/bin/R CMD INSTALL ReactomeGSA ### ############################################################################## ############################################################################## * installing to library ‘/home/biocbuild/bbs-3.12-bioc/R/library’ * installing *source* package ‘ReactomeGSA’ ... ** using staged installation ** R ** inst ** byte-compile and prepare package for lazy loading in method for ‘analyse_sc_clusters’ with signature ‘object="Seurat"’: no definition for class “Seurat” in method for ‘analyse_sc_clusters’ with signature ‘object="SingleCellExperiment"’: no definition for class “SingleCellExperiment” in method for ‘add_dataset’ with signature ‘request="ReactomeAnalysisRequest",expression_values="EList"’: no definition for class “EList” in method for ‘add_dataset’ with signature ‘request="ReactomeAnalysisRequest",expression_values="DGEList"’: no definition for class “DGEList” in method for ‘add_dataset’ with signature ‘request="ReactomeAnalysisRequest",expression_values="ExpressionSet"’: no definition for class “ExpressionSet” ** help *** installing help indices ** building package indices ** installing vignettes ** testing if installed package can be loaded from temporary location ** testing if installed package can be loaded from final location ** testing if installed package keeps a record of temporary installation path * DONE (ReactomeGSA)
ReactomeGSA.Rcheck/tests/testthat.Rout
R version 4.0.5 (2021-03-31) -- "Shake and Throw"
Copyright (C) 2021 The R Foundation for Statistical Computing
Platform: x86_64-pc-linux-gnu (64-bit)
R is free software and comes with ABSOLUTELY NO WARRANTY.
You are welcome to redistribute it under certain conditions.
Type 'license()' or 'licence()' for distribution details.
R is a collaborative project with many contributors.
Type 'contributors()' for more information and
'citation()' on how to cite R or R packages in publications.
Type 'demo()' for some demos, 'help()' for on-line help, or
'help.start()' for an HTML browser interface to help.
Type 'q()' to quit R.
> library(testthat)
> library(ReactomeGSA)
>
> test_check("ReactomeGSA")
[ FAIL 0 | WARN 0 | SKIP 0 | PASS 17 ]
>
> proc.time()
user system elapsed
1.424 0.056 1.481
ReactomeGSA.Rcheck/ReactomeGSA-Ex.timings
| name | user | system | elapsed | |
| ReactomeAnalysisRequest | 5.392 | 0.128 | 5.683 | |
| ReactomeAnalysisResult-class | 5.164 | 0.004 | 5.276 | |
| add_dataset-ReactomeAnalysisRequest-DGEList-method | 0.760 | 0.008 | 0.771 | |
| add_dataset-ReactomeAnalysisRequest-EList-method | 0.716 | 0.000 | 0.716 | |
| add_dataset-ReactomeAnalysisRequest-ExpressionSet-method | 1.024 | 0.000 | 1.024 | |
| add_dataset-ReactomeAnalysisRequest-data.frame-method | 1.184 | 0.004 | 1.191 | |
| add_dataset-ReactomeAnalysisRequest-matrix-method | 1.116 | 0.000 | 1.118 | |
| add_dataset | 0.956 | 0.000 | 0.958 | |
| analyse_sc_clusters-Seurat-method | 55.236 | 0.668 | 91.310 | |
| analyse_sc_clusters-SingleCellExperiment-method | 52.912 | 0.244 | 91.706 | |
| analyse_sc_clusters | 54.120 | 0.376 | 91.315 | |
| get_reactome_data_types | 0.392 | 0.028 | 1.903 | |
| get_reactome_methods | 0.608 | 0.032 | 2.856 | |
| get_result-ReactomeAnalysisResult-method | 0.268 | 0.000 | 0.267 | |
| get_result | 0.176 | 0.004 | 0.192 | |
| names-ReactomeAnalysisResult-method | 0.172 | 0.004 | 0.176 | |
| open_reactome-ReactomeAnalysisResult-method | 0.200 | 0.000 | 0.199 | |
| open_reactome | 0.252 | 0.004 | 0.256 | |
| pathways-ReactomeAnalysisResult-method | 2.960 | 0.004 | 2.965 | |
| pathways | 3.948 | 0.000 | 3.974 | |
| perform_reactome_analysis | 4.008 | 0.060 | 14.725 | |
| plot_correlations-ReactomeAnalysisResult-method | 4.412 | 0.016 | 4.434 | |
| plot_correlations | 4.856 | 0.016 | 4.879 | |
| plot_gsva_heatmap-ReactomeAnalysisResult-method | 55.320 | 0.228 | 91.378 | |
| plot_gsva_heatmap | 52.080 | 0.400 | 88.148 | |
| plot_gsva_pathway-ReactomeAnalysisResult-method | 53.968 | 0.404 | 91.222 | |
| plot_gsva_pathway | 51.816 | 0.444 | 88.777 | |
| plot_gsva_pca-ReactomeAnalysisResult-method | 50.828 | 0.352 | 82.650 | |
| plot_gsva_pca | 48.100 | 0.440 | 85.228 | |
| plot_volcano-ReactomeAnalysisResult-method | 0.188 | 0.000 | 0.188 | |
| plot_volcano | 0.204 | 0.000 | 0.203 | |
| print-ReactomeAnalysisRequest-method | 0.004 | 0.000 | 0.001 | |
| print-ReactomeAnalysisResult-method | 0.156 | 0.004 | 0.160 | |
| reactome_links-ReactomeAnalysisResult-method | 0.192 | 0.000 | 0.193 | |
| reactome_links | 0.180 | 0.000 | 0.179 | |
| result_types-ReactomeAnalysisResult-method | 0.164 | 0.000 | 0.167 | |
| result_types | 0.164 | 0.000 | 0.167 | |
| set_method-ReactomeAnalysisRequest-method | 0.000 | 0.000 | 0.013 | |
| set_method | 0.000 | 0.004 | 0.001 | |
| set_parameters-ReactomeAnalysisRequest-method | 0.000 | 0.000 | 0.001 | |
| set_parameters | 0.004 | 0.000 | 0.001 | |
| show-ReactomeAnalysisRequest-method | 0.000 | 0.000 | 0.002 | |
| show-ReactomeAnalysisResult-method | 0.160 | 0.008 | 0.165 | |