| Back to Multiple platform build/check report for BioC 3.12 |
|
This page was generated on 2021-05-06 12:36:19 -0400 (Thu, 06 May 2021).
|
To the developers/maintainers of the RchyOptimyx package: Please make sure to use the following settings in order to reproduce any error or warning you see on this page. |
| Package 1469/1974 | Hostname | OS / Arch | INSTALL | BUILD | CHECK | BUILD BIN | ||||||||
| RchyOptimyx 2.30.0 (landing page) Adrin Jalali
| malbec1 | Linux (Ubuntu 18.04.5 LTS) / x86_64 | OK | OK | OK | |||||||||
| tokay1 | Windows Server 2012 R2 Standard / x64 | OK | OK | OK | OK | |||||||||
| merida1 | macOS 10.14.6 Mojave / x86_64 | OK | OK | WARNINGS | OK | |||||||||
| Package: RchyOptimyx |
| Version: 2.30.0 |
| Command: /Library/Frameworks/R.framework/Versions/Current/Resources/bin/R CMD INSTALL RchyOptimyx |
| StartedAt: 2021-05-05 17:57:09 -0400 (Wed, 05 May 2021) |
| EndedAt: 2021-05-05 17:57:34 -0400 (Wed, 05 May 2021) |
| EllapsedTime: 25.7 seconds |
| RetCode: 0 |
| Status: OK |
##############################################################################
##############################################################################
###
### Running command:
###
### /Library/Frameworks/R.framework/Versions/Current/Resources/bin/R CMD INSTALL RchyOptimyx
###
##############################################################################
##############################################################################
* installing to library ‘/Library/Frameworks/R.framework/Versions/4.0/Resources/library’
* installing *source* package ‘RchyOptimyx’ ...
** using staged installation
** libs
clang++ -mmacosx-version-min=10.13 -std=gnu++11 -I"/Library/Frameworks/R.framework/Resources/include" -DNDEBUG -I/usr/local/include -fPIC -Wall -g -O2 -c RchyOptimyx.cpp -o RchyOptimyx.o
In file included from RchyOptimyx.cpp:13:
./graehl/graph.h:75:8: warning: explicitly assigning value of variable of type 'int' to itself [-Wself-assign]
pred = pred; // dummy statement to avoid warnings
~~~~ ^ ~~~~
In file included from RchyOptimyx.cpp:13:
In file included from ./graehl/graph.h:279:
./graehl/kbest.h:37:9: warning: explicitly assigning value of variable of type 'size_t' (aka 'unsigned long') to itself [-Wself-assign]
dummy = dummy;
~~~~~ ^ ~~~~~
2 warnings generated.
clang++ -mmacosx-version-min=10.13 -std=gnu++11 -I"/Library/Frameworks/R.framework/Resources/include" -DNDEBUG -I/usr/local/include -fPIC -Wall -g -O2 -c dataRead.cpp -o dataRead.o
clang++ -mmacosx-version-min=10.13 -std=gnu++11 -I"/Library/Frameworks/R.framework/Resources/include" -DNDEBUG -I/usr/local/include -fPIC -Wall -g -O2 -c mystring.cpp -o mystring.o
clang++ -mmacosx-version-min=10.13 -std=gnu++11 -I"/Library/Frameworks/R.framework/Resources/include" -DNDEBUG -I/usr/local/include -fPIC -Wall -g -O2 -c numberGenerator.cpp -o numberGenerator.o
clang++ -mmacosx-version-min=10.13 -std=gnu++11 -dynamiclib -Wl,-headerpad_max_install_names -undefined dynamic_lookup -single_module -multiply_defined suppress -L/Library/Frameworks/R.framework/Resources/lib -L/usr/local/lib -o RchyOptimyx.so RchyOptimyx.o dataRead.o mystring.o numberGenerator.o -F/Library/Frameworks/R.framework/.. -framework R -Wl,-framework -Wl,CoreFoundation
installing to /Library/Frameworks/R.framework/Versions/4.0/Resources/library/00LOCK-RchyOptimyx/00new/RchyOptimyx/libs
** R
** data
** inst
** byte-compile and prepare package for lazy loading
Creating a new generic function for ‘merge’ in package ‘RchyOptimyx’
** help
*** installing help indices
** building package indices
** installing vignettes
** testing if installed package can be loaded from temporary location
** checking absolute paths in shared objects and dynamic libraries
** testing if installed package can be loaded from final location
** testing if installed package keeps a record of temporary installation path
* DONE (RchyOptimyx)