| Back to Multiple platform build/check report for BioC 3.12 |
|
This page was generated on 2021-05-06 12:28:45 -0400 (Thu, 06 May 2021).
|
To the developers/maintainers of the RchyOptimyx package: Please make sure to use the following settings in order to reproduce any error or warning you see on this page. |
| Package 1469/1974 | Hostname | OS / Arch | INSTALL | BUILD | CHECK | BUILD BIN | ||||||||
| RchyOptimyx 2.30.0 (landing page) Adrin Jalali
| malbec1 | Linux (Ubuntu 18.04.5 LTS) / x86_64 | OK | OK | OK | |||||||||
| tokay1 | Windows Server 2012 R2 Standard / x64 | OK | OK | OK | OK | |||||||||
| merida1 | macOS 10.14.6 Mojave / x86_64 | OK | OK | WARNINGS | OK | |||||||||
| Package: RchyOptimyx |
| Version: 2.30.0 |
| Command: /home/biocbuild/bbs-3.12-bioc/R/bin/R CMD check --install=check:RchyOptimyx.install-out.txt --library=/home/biocbuild/bbs-3.12-bioc/R/library --no-vignettes --timings RchyOptimyx_2.30.0.tar.gz |
| StartedAt: 2021-05-06 05:00:23 -0400 (Thu, 06 May 2021) |
| EndedAt: 2021-05-06 05:02:18 -0400 (Thu, 06 May 2021) |
| EllapsedTime: 115.2 seconds |
| RetCode: 0 |
| Status: OK |
| CheckDir: RchyOptimyx.Rcheck |
| Warnings: 0 |
##############################################################################
##############################################################################
###
### Running command:
###
### /home/biocbuild/bbs-3.12-bioc/R/bin/R CMD check --install=check:RchyOptimyx.install-out.txt --library=/home/biocbuild/bbs-3.12-bioc/R/library --no-vignettes --timings RchyOptimyx_2.30.0.tar.gz
###
##############################################################################
##############################################################################
* using log directory ‘/home/biocbuild/bbs-3.12-bioc/meat/RchyOptimyx.Rcheck’
* using R version 4.0.5 (2021-03-31)
* using platform: x86_64-pc-linux-gnu (64-bit)
* using session charset: UTF-8
* using option ‘--no-vignettes’
* checking for file ‘RchyOptimyx/DESCRIPTION’ ... OK
* checking extension type ... Package
* this is package ‘RchyOptimyx’ version ‘2.30.0’
* checking package namespace information ... OK
* checking package dependencies ... OK
* checking if this is a source package ... OK
* checking if there is a namespace ... OK
* checking for hidden files and directories ... OK
* checking for portable file names ... OK
* checking for sufficient/correct file permissions ... OK
* checking whether package ‘RchyOptimyx’ can be installed ... OK
* checking installed package size ... OK
* checking package directory ... OK
* checking ‘build’ directory ... OK
* checking DESCRIPTION meta-information ... OK
* checking top-level files ... OK
* checking for left-over files ... OK
* checking index information ... OK
* checking package subdirectories ... OK
* checking R files for non-ASCII characters ... OK
* checking R files for syntax errors ... OK
* checking whether the package can be loaded ... OK
* checking whether the package can be loaded with stated dependencies ... OK
* checking whether the package can be unloaded cleanly ... OK
* checking whether the namespace can be loaded with stated dependencies ... OK
* checking whether the namespace can be unloaded cleanly ... OK
* checking dependencies in R code ... OK
* checking S3 generic/method consistency ... OK
* checking replacement functions ... OK
* checking foreign function calls ... OK
* checking R code for possible problems ... NOTE
plot,OptimizedHierarchy-ANY : <anonymous>: no visible global function
definition for ‘change.adrin.nima.base3.type’
plot,OptimizedHierarchy-ANY: no visible global function definition for
‘dev.size’
Undefined global functions or variables:
change.adrin.nima.base3.type dev.size
Consider adding
importFrom("grDevices", "dev.size")
to your NAMESPACE file.
* checking Rd files ... OK
* checking Rd metadata ... OK
* checking Rd cross-references ... OK
* checking for missing documentation entries ... OK
* checking for code/documentation mismatches ... OK
* checking Rd \usage sections ... OK
* checking Rd contents ... OK
* checking for unstated dependencies in examples ... OK
* checking contents of ‘data’ directory ... OK
* checking data for non-ASCII characters ... OK
* checking data for ASCII and uncompressed saves ... OK
* checking line endings in C/C++/Fortran sources/headers ... OK
* checking compiled code ... OK
* checking files in ‘vignettes’ ... OK
* checking examples ... OK
* checking for unstated dependencies in vignettes ... OK
* checking package vignettes in ‘inst/doc’ ... OK
* checking running R code from vignettes ... SKIPPED
* checking re-building of vignette outputs ... SKIPPED
* checking PDF version of manual ... OK
* DONE
Status: 1 NOTE
See
‘/home/biocbuild/bbs-3.12-bioc/meat/RchyOptimyx.Rcheck/00check.log’
for details.
RchyOptimyx.Rcheck/00install.out
##############################################################################
##############################################################################
###
### Running command:
###
### /home/biocbuild/bbs-3.12-bioc/R/bin/R CMD INSTALL RchyOptimyx
###
##############################################################################
##############################################################################
* installing to library ‘/home/biocbuild/bbs-3.12-bioc/R/library’
* installing *source* package ‘RchyOptimyx’ ...
** using staged installation
** libs
g++ -std=gnu++11 -I"/home/biocbuild/bbs-3.12-bioc/R/include" -DNDEBUG -I/usr/local/include -fpic -g -O2 -Wall -c RchyOptimyx.cpp -o RchyOptimyx.o
In file included from graehl/graph.h:279:0,
from RchyOptimyx.cpp:13:
graehl/kbest.h: In function ‘void buildSidetracksHeap(int, int)’:
graehl/kbest.h:322:5: warning: this ‘else’ clause does not guard... [-Wmisleading-indentation]
} else
^~~~
graehl/kbest.h:324:4: note: ...this statement, but the latter is misleadingly indented as if it were guarded by the ‘else’
pathGraph[state] = newTreeHeapAdd(prev, pathGraph[state]);
^~~~~~~~~
g++ -std=gnu++11 -I"/home/biocbuild/bbs-3.12-bioc/R/include" -DNDEBUG -I/usr/local/include -fpic -g -O2 -Wall -c dataRead.cpp -o dataRead.o
g++ -std=gnu++11 -I"/home/biocbuild/bbs-3.12-bioc/R/include" -DNDEBUG -I/usr/local/include -fpic -g -O2 -Wall -c mystring.cpp -o mystring.o
g++ -std=gnu++11 -I"/home/biocbuild/bbs-3.12-bioc/R/include" -DNDEBUG -I/usr/local/include -fpic -g -O2 -Wall -c numberGenerator.cpp -o numberGenerator.o
g++ -std=gnu++11 -shared -L/home/biocbuild/bbs-3.12-bioc/R/lib -L/usr/local/lib -o RchyOptimyx.so RchyOptimyx.o dataRead.o mystring.o numberGenerator.o -L/home/biocbuild/bbs-3.12-bioc/R/lib -lR
installing to /home/biocbuild/bbs-3.12-bioc/R/library/00LOCK-RchyOptimyx/00new/RchyOptimyx/libs
** R
** data
** inst
** byte-compile and prepare package for lazy loading
Creating a new generic function for ‘merge’ in package ‘RchyOptimyx’
** help
*** installing help indices
** building package indices
** installing vignettes
** testing if installed package can be loaded from temporary location
** checking absolute paths in shared objects and dynamic libraries
** testing if installed package can be loaded from final location
** testing if installed package keeps a record of temporary installation path
* DONE (RchyOptimyx)
RchyOptimyx.Rcheck/RchyOptimyx-Ex.timings
| name | user | system | elapsed | |
| RchyOptimyx-package | 2.752 | 0.060 | 2.817 | |
| RchyOptimyx | 0.808 | 0.072 | 0.905 | |