| Back to Multiple platform build/check report for BioC 3.12 |
|
This page was generated on 2021-05-06 12:33:23 -0400 (Thu, 06 May 2021).
|
To the developers/maintainers of the RTopper package: Please make sure to use the following settings in order to reproduce any error or warning you see on this page. |
| Package 1596/1974 | Hostname | OS / Arch | INSTALL | BUILD | CHECK | BUILD BIN | ||||||||
| RTopper 1.36.0 (landing page) Luigi Marchionni
| malbec1 | Linux (Ubuntu 18.04.5 LTS) / x86_64 | OK | OK | OK | |||||||||
| tokay1 | Windows Server 2012 R2 Standard / x64 | OK | OK | WARNINGS | OK | |||||||||
| merida1 | macOS 10.14.6 Mojave / x86_64 | OK | OK | OK | OK | |||||||||
| Package: RTopper |
| Version: 1.36.0 |
| Command: rm -rf RTopper.buildbin-libdir && mkdir RTopper.buildbin-libdir && C:\Users\biocbuild\bbs-3.12-bioc\R\bin\R.exe CMD INSTALL --merge-multiarch --build --library=RTopper.buildbin-libdir RTopper_1.36.0.tar.gz |
| StartedAt: 2021-05-06 10:01:08 -0400 (Thu, 06 May 2021) |
| EndedAt: 2021-05-06 10:01:33 -0400 (Thu, 06 May 2021) |
| EllapsedTime: 24.7 seconds |
| RetCode: 0 |
| Status: OK |
| PackageFile: RTopper_1.36.0.zip |
| PackageFileSize: 1.304 MiB |
##############################################################################
##############################################################################
###
### Running command:
###
### rm -rf RTopper.buildbin-libdir && mkdir RTopper.buildbin-libdir && C:\Users\biocbuild\bbs-3.12-bioc\R\bin\R.exe CMD INSTALL --merge-multiarch --build --library=RTopper.buildbin-libdir RTopper_1.36.0.tar.gz
###
##############################################################################
##############################################################################
install for i386
* installing *source* package 'RTopper' ...
** using staged installation
** R
** data
** inst
** byte-compile and prepare package for lazy loading
** help
*** installing help indices
converting help for package 'RTopper'
finding HTML links ... done
RTopper-package html
adjustPvalGSE html
finding level-2 HTML links ... done
combineGSE html
computeDrStat html
convertToDr html
dat html
fgsList html
Rd warning: C:/Users/biocbuild/bbs-3.12-bioc/tmpdir/Rtmp6HCatJ/R.INSTALL3ab810dea49/RTopper/man/fgsList.Rd:37: file link 'org.Hs.eg' in package 'org.Hs.eg.db' does not exist and so has been treated as a topic
Rd warning: C:/Users/biocbuild/bbs-3.12-bioc/tmpdir/Rtmp6HCatJ/R.INSTALL3ab810dea49/RTopper/man/fgsList.Rd:41: file link 'GO' in package 'GO.db' does not exist and so has been treated as a topic
Rd warning: C:/Users/biocbuild/bbs-3.12-bioc/tmpdir/Rtmp6HCatJ/R.INSTALL3ab810dea49/RTopper/man/fgsList.Rd:42: file link 'KEGG' in package 'KEGG.db' does not exist and so has been treated as a topic
gseResultsSep html
intScores html
pheno html
runBatchGSE html
sepScores html
** building package indices
** installing vignettes
** testing if installed package can be loaded from temporary location
** testing if installed package can be loaded from final location
** testing if installed package keeps a record of temporary installation path
install for x64
* installing *source* package 'RTopper' ...
** testing if installed package can be loaded
* MD5 sums
packaged installation of 'RTopper' as RTopper_1.36.0.zip
* DONE (RTopper)