| Back to Multiple platform build/check report for BioC 3.12 |
|
This page was generated on 2021-05-06 12:28:56 -0400 (Thu, 06 May 2021).
|
To the developers/maintainers of the RTopper package: Please make sure to use the following settings in order to reproduce any error or warning you see on this page. |
| Package 1596/1974 | Hostname | OS / Arch | INSTALL | BUILD | CHECK | BUILD BIN | ||||||||
| RTopper 1.36.0 (landing page) Luigi Marchionni
| malbec1 | Linux (Ubuntu 18.04.5 LTS) / x86_64 | OK | OK | OK | |||||||||
| tokay1 | Windows Server 2012 R2 Standard / x64 | OK | OK | WARNINGS | OK | |||||||||
| merida1 | macOS 10.14.6 Mojave / x86_64 | OK | OK | OK | OK | |||||||||
| Package: RTopper |
| Version: 1.36.0 |
| Command: /home/biocbuild/bbs-3.12-bioc/R/bin/R CMD check --install=check:RTopper.install-out.txt --library=/home/biocbuild/bbs-3.12-bioc/R/library --no-vignettes --timings RTopper_1.36.0.tar.gz |
| StartedAt: 2021-05-06 05:33:21 -0400 (Thu, 06 May 2021) |
| EndedAt: 2021-05-06 05:34:40 -0400 (Thu, 06 May 2021) |
| EllapsedTime: 78.8 seconds |
| RetCode: 0 |
| Status: OK |
| CheckDir: RTopper.Rcheck |
| Warnings: 0 |
##############################################################################
##############################################################################
###
### Running command:
###
### /home/biocbuild/bbs-3.12-bioc/R/bin/R CMD check --install=check:RTopper.install-out.txt --library=/home/biocbuild/bbs-3.12-bioc/R/library --no-vignettes --timings RTopper_1.36.0.tar.gz
###
##############################################################################
##############################################################################
* using log directory ‘/home/biocbuild/bbs-3.12-bioc/meat/RTopper.Rcheck’
* using R version 4.0.5 (2021-03-31)
* using platform: x86_64-pc-linux-gnu (64-bit)
* using session charset: UTF-8
* using option ‘--no-vignettes’
* checking for file ‘RTopper/DESCRIPTION’ ... OK
* checking extension type ... Package
* this is package ‘RTopper’ version ‘1.36.0’
* checking package namespace information ... OK
* checking package dependencies ... OK
* checking if this is a source package ... OK
* checking if there is a namespace ... OK
* checking for hidden files and directories ... OK
* checking for portable file names ... OK
* checking for sufficient/correct file permissions ... OK
* checking whether package ‘RTopper’ can be installed ... OK
* checking installed package size ... OK
* checking package directory ... OK
* checking ‘build’ directory ... OK
* checking DESCRIPTION meta-information ... NOTE
Package listed in more than one of Depends, Imports, Suggests, Enhances:
‘limma’
A package should be listed in only one of these fields.
* checking top-level files ... NOTE
File
LICENSE
is not mentioned in the DESCRIPTION file.
* checking for left-over files ... OK
* checking index information ... OK
* checking package subdirectories ... OK
* checking R files for non-ASCII characters ... OK
* checking R files for syntax errors ... OK
* checking whether the package can be loaded ... OK
* checking whether the package can be loaded with stated dependencies ... OK
* checking whether the package can be unloaded cleanly ... OK
* checking whether the namespace can be loaded with stated dependencies ... OK
* checking whether the namespace can be unloaded cleanly ... OK
* checking dependencies in R code ... OK
* checking S3 generic/method consistency ... OK
* checking replacement functions ... OK
* checking foreign function calls ... OK
* checking R code for possible problems ... NOTE
computeScore: no visible global function definition for ‘glm’
computeScore: no visible global function definition for ‘binomial’
computeScore: no visible global function definition for ‘AIC’
convertToDr: no visible binding for global variable ‘data’
myMean : medianM: no visible binding for global variable ‘median’
Undefined global functions or variables:
AIC binomial data glm median
Consider adding
importFrom("stats", "AIC", "binomial", "glm", "median")
importFrom("utils", "data")
to your NAMESPACE file.
* checking Rd files ... OK
* checking Rd metadata ... OK
* checking Rd cross-references ... OK
* checking for missing documentation entries ... OK
* checking for code/documentation mismatches ... OK
* checking Rd \usage sections ... OK
* checking Rd contents ... OK
* checking for unstated dependencies in examples ... OK
* checking contents of ‘data’ directory ... OK
* checking data for non-ASCII characters ... OK
* checking data for ASCII and uncompressed saves ... OK
* checking files in ‘vignettes’ ... OK
* checking examples ... OK
Examples with CPU (user + system) or elapsed time > 5s
user system elapsed
computeDrStat 15.624 0.044 15.685
convertToDr 5.540 0.004 5.550
* checking for unstated dependencies in vignettes ... OK
* checking package vignettes in ‘inst/doc’ ... OK
* checking running R code from vignettes ... SKIPPED
* checking re-building of vignette outputs ... SKIPPED
* checking PDF version of manual ... OK
* DONE
Status: 3 NOTEs
See
‘/home/biocbuild/bbs-3.12-bioc/meat/RTopper.Rcheck/00check.log’
for details.
RTopper.Rcheck/00install.out
############################################################################## ############################################################################## ### ### Running command: ### ### /home/biocbuild/bbs-3.12-bioc/R/bin/R CMD INSTALL RTopper ### ############################################################################## ############################################################################## * installing to library ‘/home/biocbuild/bbs-3.12-bioc/R/library’ * installing *source* package ‘RTopper’ ... ** using staged installation ** R ** data ** inst ** byte-compile and prepare package for lazy loading ** help *** installing help indices ** building package indices ** installing vignettes ** testing if installed package can be loaded from temporary location ** testing if installed package can be loaded from final location ** testing if installed package keeps a record of temporary installation path * DONE (RTopper)
RTopper.Rcheck/RTopper-Ex.timings
| name | user | system | elapsed | |
| adjustPvalGSE | 0.020 | 0.000 | 0.021 | |
| combineGSE | 0.008 | 0.000 | 0.007 | |
| computeDrStat | 15.624 | 0.044 | 15.685 | |
| convertToDr | 5.540 | 0.004 | 5.550 | |
| dat | 0.128 | 0.000 | 0.128 | |
| fgsList | 0.024 | 0.000 | 0.025 | |
| gseResultsSep | 0.028 | 0.000 | 0.030 | |
| intScores | 0.004 | 0.000 | 0.007 | |
| pheno | 0.140 | 0.000 | 0.137 | |
| runBatchGSE | 0.108 | 0.000 | 0.109 | |
| sepScores | 0.016 | 0.000 | 0.018 | |