| Back to Multiple platform build/check report for BioC 3.12 |
|
This page was generated on 2021-05-06 12:33:09 -0400 (Thu, 06 May 2021).
|
To the developers/maintainers of the RDRToolbox package: Please make sure to use the following settings in order to reproduce any error or warning you see on this page. |
| Package 1480/1974 | Hostname | OS / Arch | INSTALL | BUILD | CHECK | BUILD BIN | ||||||||
| RDRToolbox 1.40.0 (landing page) Christoph Bartenhagen
| malbec1 | Linux (Ubuntu 18.04.5 LTS) / x86_64 | OK | OK | OK | |||||||||
| tokay1 | Windows Server 2012 R2 Standard / x64 | OK | OK | OK | OK | |||||||||
| merida1 | macOS 10.14.6 Mojave / x86_64 | ERROR | ERROR | skipped | skipped | |||||||||
| Package: RDRToolbox |
| Version: 1.40.0 |
| Command: chmod a+r RDRToolbox -R && C:\Users\biocbuild\bbs-3.12-bioc\R\bin\R.exe CMD build --keep-empty-dirs --no-resave-data RDRToolbox |
| StartedAt: 2021-05-05 23:03:14 -0400 (Wed, 05 May 2021) |
| EndedAt: 2021-05-05 23:03:46 -0400 (Wed, 05 May 2021) |
| EllapsedTime: 32.3 seconds |
| RetCode: 0 |
| Status: OK |
| PackageFile: RDRToolbox_1.40.0.tar.gz |
| PackageFileSize: 241.5 KiB |
############################################################################## ############################################################################## ### ### Running command: ### ### chmod a+r RDRToolbox -R && C:\Users\biocbuild\bbs-3.12-bioc\R\bin\R.exe CMD build --keep-empty-dirs --no-resave-data RDRToolbox ### ############################################################################## ############################################################################## * checking for file 'RDRToolbox/DESCRIPTION' ... OK * preparing 'RDRToolbox': * checking DESCRIPTION meta-information ... OK * installing the package to build vignettes * creating vignettes ... OK * checking for LF line-endings in source and make files and shell scripts * checking for empty or unneeded directories * building 'RDRToolbox_1.40.0.tar.gz'