| Back to Multiple platform build/check report for BioC 3.12 |
|
This page was generated on 2021-05-06 12:36:20 -0400 (Thu, 06 May 2021).
|
To the developers/maintainers of the RDRToolbox package: Please make sure to use the following settings in order to reproduce any error or warning you see on this page. |
| Package 1480/1974 | Hostname | OS / Arch | INSTALL | BUILD | CHECK | BUILD BIN | ||||||||
| RDRToolbox 1.40.0 (landing page) Christoph Bartenhagen
| malbec1 | Linux (Ubuntu 18.04.5 LTS) / x86_64 | OK | OK | OK | |||||||||
| tokay1 | Windows Server 2012 R2 Standard / x64 | OK | OK | OK | OK | |||||||||
| merida1 | macOS 10.14.6 Mojave / x86_64 | ERROR | ERROR | skipped | skipped | |||||||||
| Package: RDRToolbox |
| Version: 1.40.0 |
| Command: /Library/Frameworks/R.framework/Versions/Current/Resources/bin/R CMD build --keep-empty-dirs --no-resave-data RDRToolbox |
| StartedAt: 2021-05-05 21:36:35 -0400 (Wed, 05 May 2021) |
| EndedAt: 2021-05-05 21:36:45 -0400 (Wed, 05 May 2021) |
| EllapsedTime: 9.7 seconds |
| RetCode: 1 |
| Status: ERROR |
| PackageFile: None |
| PackageFileSize: NA |
##############################################################################
##############################################################################
###
### Running command:
###
### /Library/Frameworks/R.framework/Versions/Current/Resources/bin/R CMD build --keep-empty-dirs --no-resave-data RDRToolbox
###
##############################################################################
##############################################################################
* checking for file ‘RDRToolbox/DESCRIPTION’ ... OK
* preparing ‘RDRToolbox’:
* checking DESCRIPTION meta-information ... OK
* installing the package to build vignettes
-----------------------------------
* installing *source* package ‘RDRToolbox’ ...
** using staged installation
** R
** byte-compile and prepare package for lazy loading
ERROR: lazy loading failed for package ‘RDRToolbox’
* removing ‘/private/tmp/RtmpKpyIyZ/Rinst9311b793083/RDRToolbox’
-----------------------------------
ERROR: package installation failed