| Back to Multiple platform build/check report for BioC 3.12 | 
  | 
This page was generated on 2021-05-06 12:32:40 -0400 (Thu, 06 May 2021).
| 
To the developers/maintainers of the OUTRIDER package: Please make sure to use the following settings in order to reproduce any error or warning you see on this page.  | 
| Package 1285/1974 | Hostname | OS / Arch | INSTALL | BUILD | CHECK | BUILD BIN | ||||||||
| OUTRIDER 1.8.0  (landing page) Christian Mertes 
  | malbec1 | Linux (Ubuntu 18.04.5 LTS) / x86_64 | OK | OK | OK | |||||||||
| tokay1 | Windows Server 2012 R2 Standard / x64 | OK | OK | OK | OK | |||||||||
| merida1 | macOS 10.14.6 Mojave / x86_64 | OK | OK | OK | OK | |||||||||
| Package: OUTRIDER | 
| Version: 1.8.0 | 
| Command: rm -rf OUTRIDER.buildbin-libdir && mkdir OUTRIDER.buildbin-libdir && C:\Users\biocbuild\bbs-3.12-bioc\R\bin\R.exe CMD INSTALL --merge-multiarch --build --library=OUTRIDER.buildbin-libdir OUTRIDER_1.8.0.tar.gz | 
| StartedAt: 2021-05-06 09:42:20 -0400 (Thu, 06 May 2021) | 
| EndedAt: 2021-05-06 09:44:18 -0400 (Thu, 06 May 2021) | 
| EllapsedTime: 118.4 seconds | 
| RetCode: 0 | 
| Status: OK | 
| PackageFile: OUTRIDER_1.8.0.zip | 
| PackageFileSize: 2.413 MiB | 
##############################################################################
##############################################################################
###
### Running command:
###
###   rm -rf OUTRIDER.buildbin-libdir && mkdir OUTRIDER.buildbin-libdir && C:\Users\biocbuild\bbs-3.12-bioc\R\bin\R.exe CMD INSTALL --merge-multiarch --build --library=OUTRIDER.buildbin-libdir OUTRIDER_1.8.0.tar.gz
###
##############################################################################
##############################################################################
install for i386
* installing *source* package 'OUTRIDER' ...
** using staged installation
** libs
"C:/rtools40/mingw32/bin/"g++  -std=gnu++11 -I"C:/Users/BIOCBU~1/BBS-3~1.12-/R/include" -DNDEBUG  -I'C:/Users/biocbuild/bbs-3.12-bioc/R/library/Rcpp/include' -I'C:/Users/biocbuild/bbs-3.12-bioc/R/library/RcppArmadillo/include'   -I"C:/extsoft/include"  -fopenmp -DARMA_DONT_USE_OPENMP   -O2 -Wall  -mfpmath=sse -msse2 -mstackrealign -c RcppExports.cpp -o RcppExports.o
"C:/rtools40/mingw32/bin/"g++  -std=gnu++11 -I"C:/Users/BIOCBU~1/BBS-3~1.12-/R/include" -DNDEBUG  -I'C:/Users/biocbuild/bbs-3.12-bioc/R/library/Rcpp/include' -I'C:/Users/biocbuild/bbs-3.12-bioc/R/library/RcppArmadillo/include'   -I"C:/extsoft/include"  -fopenmp -DARMA_DONT_USE_OPENMP   -O2 -Wall  -mfpmath=sse -msse2 -mstackrealign -c loss_n_gradient_functions.cpp -o loss_n_gradient_functions.o
C:/rtools40/mingw32/bin/g++ -shared -s -static-libgcc -o OUTRIDER.dll tmp.def RcppExports.o loss_n_gradient_functions.o -fopenmp -LC:/Users/BIOCBU~1/BBS-3~1.12-/R/bin/i386 -lRlapack -LC:/Users/BIOCBU~1/BBS-3~1.12-/R/bin/i386 -lRblas -lgfortran -lm -lquadmath -LC:/extsoft/lib/i386 -LC:/extsoft/lib -LC:/Users/BIOCBU~1/BBS-3~1.12-/R/bin/i386 -lR
installing to C:/Users/biocbuild/bbs-3.12-bioc/meat/OUTRIDER.buildbin-libdir/00LOCK-OUTRIDER/00new/OUTRIDER/libs/i386
** R
** inst
** byte-compile and prepare package for lazy loading
** help
*** installing help indices
  converting help for package 'OUTRIDER'
    finding HTML links ... done
    OUTRIDER                                html  
    OutriderDataSet-class                   html  
    aberrant                                html  
    computeGeneLength                       html  
    computeLatentSpace                      html  
    computePvalues                          html  
    computeZscores                          html  
    controlForConfounders                   html  
    counts                                  html  
    estimateBestQ                           html  
    filterExpression                        html  
    findEncodingDim                         html  
    fit                                     html  
    fpkm                                    html  
    getter_setter_functions                 html  
    makeExampleOutriderDataSet              html  
    normalizationFactors                    html  
    plotFunctions                           html  
    results                                 html  
    sampleExclusionMask                     html  
    sizeFactors                             html  
** building package indices
** installing vignettes
** testing if installed package can be loaded from temporary location
** testing if installed package can be loaded from final location
** testing if installed package keeps a record of temporary installation path
install for x64
* installing *source* package 'OUTRIDER' ...
** libs
"C:/rtools40/mingw64/bin/"g++  -std=gnu++11 -I"C:/Users/BIOCBU~1/BBS-3~1.12-/R/include" -DNDEBUG  -I'C:/Users/biocbuild/bbs-3.12-bioc/R/library/Rcpp/include' -I'C:/Users/biocbuild/bbs-3.12-bioc/R/library/RcppArmadillo/include'   -I"C:/extsoft/include"  -fopenmp -DARMA_DONT_USE_OPENMP   -O2 -Wall  -mfpmath=sse -msse2 -mstackrealign -c RcppExports.cpp -o RcppExports.o
"C:/rtools40/mingw64/bin/"g++  -std=gnu++11 -I"C:/Users/BIOCBU~1/BBS-3~1.12-/R/include" -DNDEBUG  -I'C:/Users/biocbuild/bbs-3.12-bioc/R/library/Rcpp/include' -I'C:/Users/biocbuild/bbs-3.12-bioc/R/library/RcppArmadillo/include'   -I"C:/extsoft/include"  -fopenmp -DARMA_DONT_USE_OPENMP   -O2 -Wall  -mfpmath=sse -msse2 -mstackrealign -c loss_n_gradient_functions.cpp -o loss_n_gradient_functions.o
C:/rtools40/mingw64/bin/g++ -shared -s -static-libgcc -o OUTRIDER.dll tmp.def RcppExports.o loss_n_gradient_functions.o -fopenmp -LC:/Users/BIOCBU~1/BBS-3~1.12-/R/bin/x64 -lRlapack -LC:/Users/BIOCBU~1/BBS-3~1.12-/R/bin/x64 -lRblas -lgfortran -lm -lquadmath -LC:/extsoft/lib/x64 -LC:/extsoft/lib -LC:/Users/BIOCBU~1/BBS-3~1.12-/R/bin/x64 -lR
installing to C:/Users/biocbuild/bbs-3.12-bioc/meat/OUTRIDER.buildbin-libdir/OUTRIDER/libs/x64
** testing if installed package can be loaded
* MD5 sums
packaged installation of 'OUTRIDER' as OUTRIDER_1.8.0.zip
* DONE (OUTRIDER)