| Back to Multiple platform build/check report for BioC 3.12 |
|
This page was generated on 2021-05-06 12:36:02 -0400 (Thu, 06 May 2021).
|
To the developers/maintainers of the OUTRIDER package: Please make sure to use the following settings in order to reproduce any error or warning you see on this page. |
| Package 1285/1974 | Hostname | OS / Arch | INSTALL | BUILD | CHECK | BUILD BIN | ||||||||
| OUTRIDER 1.8.0 (landing page) Christian Mertes
| malbec1 | Linux (Ubuntu 18.04.5 LTS) / x86_64 | OK | OK | OK | |||||||||
| tokay1 | Windows Server 2012 R2 Standard / x64 | OK | OK | OK | OK | |||||||||
| merida1 | macOS 10.14.6 Mojave / x86_64 | OK | OK | OK | OK | |||||||||
| Package: OUTRIDER |
| Version: 1.8.0 |
| Command: /Library/Frameworks/R.framework/Versions/Current/Resources/bin/R CMD check --install=check:OUTRIDER.install-out.txt --library=/Library/Frameworks/R.framework/Versions/Current/Resources/library --no-vignettes --timings OUTRIDER_1.8.0.tar.gz |
| StartedAt: 2021-05-06 04:27:09 -0400 (Thu, 06 May 2021) |
| EndedAt: 2021-05-06 04:37:33 -0400 (Thu, 06 May 2021) |
| EllapsedTime: 623.3 seconds |
| RetCode: 0 |
| Status: OK |
| CheckDir: OUTRIDER.Rcheck |
| Warnings: 0 |
##############################################################################
##############################################################################
###
### Running command:
###
### /Library/Frameworks/R.framework/Versions/Current/Resources/bin/R CMD check --install=check:OUTRIDER.install-out.txt --library=/Library/Frameworks/R.framework/Versions/Current/Resources/library --no-vignettes --timings OUTRIDER_1.8.0.tar.gz
###
##############################################################################
##############################################################################
* using log directory ‘/Users/biocbuild/bbs-3.12-bioc/meat/OUTRIDER.Rcheck’
* using R version 4.0.5 (2021-03-31)
* using platform: x86_64-apple-darwin17.0 (64-bit)
* using session charset: UTF-8
* using option ‘--no-vignettes’
* checking for file ‘OUTRIDER/DESCRIPTION’ ... OK
* checking extension type ... Package
* this is package ‘OUTRIDER’ version ‘1.8.0’
* package encoding: UTF-8
* checking package namespace information ... OK
* checking package dependencies ... OK
* checking if this is a source package ... OK
* checking if there is a namespace ... OK
* checking for hidden files and directories ... OK
* checking for portable file names ... OK
* checking for sufficient/correct file permissions ... OK
* checking whether package ‘OUTRIDER’ can be installed ... OK
* checking installed package size ... OK
* checking package directory ... OK
* checking ‘build’ directory ... OK
* checking DESCRIPTION meta-information ... OK
* checking top-level files ... OK
* checking for left-over files ... OK
* checking index information ... OK
* checking package subdirectories ... OK
* checking R files for non-ASCII characters ... OK
* checking R files for syntax errors ... OK
* checking whether the package can be loaded ... OK
* checking whether the package can be loaded with stated dependencies ... OK
* checking whether the package can be unloaded cleanly ... OK
* checking whether the namespace can be loaded with stated dependencies ... OK
* checking whether the namespace can be unloaded cleanly ... OK
* checking dependencies in R code ... NOTE
Namespace in Imports field not imported from: ‘Rcpp’
All declared Imports should be used.
* checking S3 generic/method consistency ... OK
* checking replacement functions ... OK
* checking foreign function calls ... OK
* checking R code for possible problems ... OK
* checking Rd files ... OK
* checking Rd metadata ... OK
* checking Rd cross-references ... OK
* checking for missing documentation entries ... OK
* checking for code/documentation mismatches ... OK
* checking Rd \usage sections ... OK
* checking Rd contents ... OK
* checking for unstated dependencies in examples ... OK
* checking line endings in C/C++/Fortran sources/headers ... OK
* checking line endings in Makefiles ... OK
* checking compilation flags in Makevars ... OK
* checking for GNU extensions in Makefiles ... OK
* checking for portable use of $(BLAS_LIBS) and $(LAPACK_LIBS) ... OK
* checking use of PKG_*FLAGS in Makefiles ... OK
* checking compiled code ... NOTE
Note: information on .o files is not available
* checking sizes of PDF files under ‘inst/doc’ ... OK
* checking files in ‘vignettes’ ... OK
* checking examples ... OK
Examples with CPU (user + system) or elapsed time > 5s
user system elapsed
findEncodingDim 28.096 0.211 28.349
plotFunctions 20.674 0.427 21.172
aberrant 7.183 1.929 3.907
getter_setter_functions 7.159 0.069 7.260
OUTRIDER 5.304 0.910 5.491
fit 5.236 0.049 5.292
results 5.070 0.060 5.142
* checking for unstated dependencies in ‘tests’ ... OK
* checking tests ...
Running ‘testthat.R’
OK
* checking for unstated dependencies in vignettes ... OK
* checking package vignettes in ‘inst/doc’ ... OK
* checking running R code from vignettes ... SKIPPED
* checking re-building of vignette outputs ... SKIPPED
* checking PDF version of manual ... OK
* DONE
Status: 2 NOTEs
See
‘/Users/biocbuild/bbs-3.12-bioc/meat/OUTRIDER.Rcheck/00check.log’
for details.
OUTRIDER.Rcheck/00install.out
##############################################################################
##############################################################################
###
### Running command:
###
### /Library/Frameworks/R.framework/Versions/Current/Resources/bin/R CMD INSTALL OUTRIDER
###
##############################################################################
##############################################################################
* installing to library ‘/Library/Frameworks/R.framework/Versions/4.0/Resources/library’
* installing *source* package ‘OUTRIDER’ ...
** using staged installation
** libs
clang++ -mmacosx-version-min=10.13 -std=gnu++11 -I"/Library/Frameworks/R.framework/Resources/include" -DNDEBUG -I'/Library/Frameworks/R.framework/Versions/4.0/Resources/library/Rcpp/include' -I'/Library/Frameworks/R.framework/Versions/4.0/Resources/library/RcppArmadillo/include' -I/usr/local/include -DARMA_DONT_USE_OPENMP -fPIC -Wall -g -O2 -c RcppExports.cpp -o RcppExports.o
In file included from RcppExports.cpp:4:
In file included from /Library/Frameworks/R.framework/Versions/4.0/Resources/library/RcppArmadillo/include/RcppArmadillo.h:34:
In file included from /Library/Frameworks/R.framework/Versions/4.0/Resources/library/Rcpp/include/Rcpp.h:57:
/Library/Frameworks/R.framework/Versions/4.0/Resources/library/Rcpp/include/Rcpp/DataFrame.h:136:18: warning: unused variable 'data' [-Wunused-variable]
SEXP data = Parent::get__();
^
1 warning generated.
clang++ -mmacosx-version-min=10.13 -std=gnu++11 -I"/Library/Frameworks/R.framework/Resources/include" -DNDEBUG -I'/Library/Frameworks/R.framework/Versions/4.0/Resources/library/Rcpp/include' -I'/Library/Frameworks/R.framework/Versions/4.0/Resources/library/RcppArmadillo/include' -I/usr/local/include -DARMA_DONT_USE_OPENMP -fPIC -Wall -g -O2 -c loss_n_gradient_functions.cpp -o loss_n_gradient_functions.o
In file included from loss_n_gradient_functions.cpp:4:
In file included from /Library/Frameworks/R.framework/Versions/4.0/Resources/library/RcppArmadillo/include/RcppArmadillo.h:34:
In file included from /Library/Frameworks/R.framework/Versions/4.0/Resources/library/Rcpp/include/Rcpp.h:57:
/Library/Frameworks/R.framework/Versions/4.0/Resources/library/Rcpp/include/Rcpp/DataFrame.h:136:18: warning: unused variable 'data' [-Wunused-variable]
SEXP data = Parent::get__();
^
1 warning generated.
clang++ -mmacosx-version-min=10.13 -std=gnu++11 -dynamiclib -Wl,-headerpad_max_install_names -undefined dynamic_lookup -single_module -multiply_defined suppress -L/Library/Frameworks/R.framework/Resources/lib -L/usr/local/lib -o OUTRIDER.so RcppExports.o loss_n_gradient_functions.o -L/Library/Frameworks/R.framework/Resources/lib -lRlapack -L/Library/Frameworks/R.framework/Resources/lib -lRblas -L/usr/local/gfortran/lib/gcc/x86_64-apple-darwin18/8.2.0 -L/usr/local/gfortran/lib -lgfortran -lquadmath -lm -F/Library/Frameworks/R.framework/.. -framework R -Wl,-framework -Wl,CoreFoundation
installing to /Library/Frameworks/R.framework/Versions/4.0/Resources/library/00LOCK-OUTRIDER/00new/OUTRIDER/libs
** R
** inst
** byte-compile and prepare package for lazy loading
** help
*** installing help indices
** building package indices
** installing vignettes
** testing if installed package can be loaded from temporary location
** checking absolute paths in shared objects and dynamic libraries
** testing if installed package can be loaded from final location
** testing if installed package keeps a record of temporary installation path
* DONE (OUTRIDER)
OUTRIDER.Rcheck/tests/testthat.Rout
R version 4.0.5 (2021-03-31) -- "Shake and Throw"
Copyright (C) 2021 The R Foundation for Statistical Computing
Platform: x86_64-apple-darwin17.0 (64-bit)
R is free software and comes with ABSOLUTELY NO WARRANTY.
You are welcome to redistribute it under certain conditions.
Type 'license()' or 'licence()' for distribution details.
R is a collaborative project with many contributors.
Type 'contributors()' for more information and
'citation()' on how to cite R or R packages in publications.
Type 'demo()' for some demos, 'help()' for on-line help, or
'help.start()' for an HTML browser interface to help.
Type 'q()' to quit R.
> library(testthat)
> library(OUTRIDER)
Loading required package: BiocParallel
Loading required package: GenomicFeatures
Loading required package: BiocGenerics
Loading required package: parallel
Attaching package: 'BiocGenerics'
The following objects are masked from 'package:parallel':
clusterApply, clusterApplyLB, clusterCall, clusterEvalQ,
clusterExport, clusterMap, parApply, parCapply, parLapply,
parLapplyLB, parRapply, parSapply, parSapplyLB
The following objects are masked from 'package:stats':
IQR, mad, sd, var, xtabs
The following objects are masked from 'package:base':
Filter, Find, Map, Position, Reduce, anyDuplicated, append,
as.data.frame, basename, cbind, colnames, dirname, do.call,
duplicated, eval, evalq, get, grep, grepl, intersect, is.unsorted,
lapply, mapply, match, mget, order, paste, pmax, pmax.int, pmin,
pmin.int, rank, rbind, rownames, sapply, setdiff, sort, table,
tapply, union, unique, unsplit, which.max, which.min
Loading required package: S4Vectors
Loading required package: stats4
Attaching package: 'S4Vectors'
The following object is masked from 'package:base':
expand.grid
Loading required package: IRanges
Loading required package: GenomeInfoDb
Loading required package: GenomicRanges
Loading required package: AnnotationDbi
Loading required package: Biobase
Welcome to Bioconductor
Vignettes contain introductory material; view with
'browseVignettes()'. To cite Bioconductor, see
'citation("Biobase")', and for packages 'citation("pkgname")'.
Loading required package: SummarizedExperiment
Loading required package: MatrixGenerics
Loading required package: matrixStats
Attaching package: 'matrixStats'
The following objects are masked from 'package:Biobase':
anyMissing, rowMedians
Attaching package: 'MatrixGenerics'
The following objects are masked from 'package:matrixStats':
colAlls, colAnyNAs, colAnys, colAvgsPerRowSet, colCollapse,
colCounts, colCummaxs, colCummins, colCumprods, colCumsums,
colDiffs, colIQRDiffs, colIQRs, colLogSumExps, colMadDiffs,
colMads, colMaxs, colMeans2, colMedians, colMins, colOrderStats,
colProds, colQuantiles, colRanges, colRanks, colSdDiffs, colSds,
colSums2, colTabulates, colVarDiffs, colVars, colWeightedMads,
colWeightedMeans, colWeightedMedians, colWeightedSds,
colWeightedVars, rowAlls, rowAnyNAs, rowAnys, rowAvgsPerColSet,
rowCollapse, rowCounts, rowCummaxs, rowCummins, rowCumprods,
rowCumsums, rowDiffs, rowIQRDiffs, rowIQRs, rowLogSumExps,
rowMadDiffs, rowMads, rowMaxs, rowMeans2, rowMedians, rowMins,
rowOrderStats, rowProds, rowQuantiles, rowRanges, rowRanks,
rowSdDiffs, rowSds, rowSums2, rowTabulates, rowVarDiffs, rowVars,
rowWeightedMads, rowWeightedMeans, rowWeightedMedians,
rowWeightedSds, rowWeightedVars
The following object is masked from 'package:Biobase':
rowMedians
Loading required package: data.table
Attaching package: 'data.table'
The following object is masked from 'package:SummarizedExperiment':
shift
The following object is masked from 'package:GenomicRanges':
shift
The following object is masked from 'package:IRanges':
shift
The following objects are masked from 'package:S4Vectors':
first, second
>
> register(SerialParam())
>
> test_check("OUTRIDER")
[1] "Thu May 6 04:35:21 2021: Initial PCA loss: 6.56957348884148"
[1] "Thu May 6 04:35:25 2021: Iteration: 1 loss: 4.69069612148289"
[1] "Thu May 6 04:35:27 2021: Iteration: 2 loss: 4.61772293201911"
[1] "Thu May 6 04:35:29 2021: Iteration: 3 loss: 4.5711474043413"
[1] "Thu May 6 04:35:31 2021: Iteration: 4 loss: 4.54331732619069"
[1] "Thu May 6 04:35:33 2021: Iteration: 5 loss: 4.52710236011438"
[1] "Thu May 6 04:35:35 2021: Iteration: 6 loss: 4.51975507602486"
Time difference of 12.21206 secs
[1] "Thu May 6 04:35:35 2021: 6 Final nb-AE loss: 4.51975507602486"
[1] "Thu May 6 04:35:37 2021: Initial PCA loss: 6.56957348884148"
[1] "Thu May 6 04:35:41 2021: Iteration: 1 loss: 4.69069612148289"
[1] "Thu May 6 04:35:43 2021: Iteration: 2 loss: 4.61772293201911"
[1] "Thu May 6 04:35:45 2021: Iteration: 3 loss: 4.5711474043413"
[1] "Thu May 6 04:35:47 2021: Iteration: 4 loss: 4.54331732619069"
[1] "Thu May 6 04:35:48 2021: Iteration: 5 loss: 4.52710236011438"
[1] "Thu May 6 04:35:51 2021: Iteration: 6 loss: 4.51975507602486"
Time difference of 11.6892 secs
[1] "Thu May 6 04:35:51 2021: 6 Final nb-AE loss: 4.51975507602486"
class: OutriderDataSet
class: RangedSummarizedExperiment
dim: 100 50
metadata(1): version
assays(1): counts
rownames(100): ENSG00000223972.4 ENSG00000227232.4 ...
ENSG00000107404.13 ENSG00000162576.12
rowData names(0):
colnames(50): GTEX.UPK5.0426.SM.3GAEK GTEX.WFG7.2026.SM.3GIL7 ...
GTEX.11UD2.2526.SM.5CVNU GTEX.13O61.1426.SM.5KM3D
colData names(1): sampleID
[1] "Thu May 6 04:36:13 2021: Initial PCA loss: 4.50966826859711"
[1] "Thu May 6 04:36:18 2021: Iteration: 1 loss: 4.1451800300105"
[1] "Thu May 6 04:36:20 2021: Iteration: 2 loss: 4.10755663950494"
Time difference of 4.75245 secs
[1] "Thu May 6 04:36:20 2021: 2 Final nb-AE loss: 4.10755663950494"
[1] "Evaluation loss: 0.607993326566632 for q=3"
[1] "Thu May 6 04:36:22 2021: Initial PCA loss: 4.47421492507939"
[1] "Thu May 6 04:36:26 2021: Iteration: 1 loss: 4.05438207284948"
[1] "Thu May 6 04:36:28 2021: Iteration: 2 loss: 4.00977187625605"
Time difference of 4.067864 secs
[1] "Thu May 6 04:36:28 2021: 2 Final nb-AE loss: 4.00977187625605"
[1] "Evaluation loss: 0.565002539356519 for q=4"
[1] "Thu May 6 04:36:30 2021: Initial PCA loss: 4.44982218168886"
[1] "Thu May 6 04:36:34 2021: Iteration: 1 loss: 3.97069662885489"
[1] "Thu May 6 04:36:36 2021: Iteration: 2 loss: 3.93604613003185"
Time difference of 3.710763 secs
[1] "Thu May 6 04:36:36 2021: 2 Final nb-AE loss: 3.93604613003185"
[1] "Evaluation loss: 0.543136212058429 for q=5"
[1] "Thu May 6 04:36:50 2021: Initial PCA loss: 6.46616282459584"
[1] "Thu May 6 04:37:00 2021: Iteration: 1 loss: 4.81518048146922"
[1] "Thu May 6 04:37:05 2021: Iteration: 2 loss: 4.78972706919211"
Time difference of 10.34708 secs
[1] "Thu May 6 04:37:05 2021: 2 Final nb-AE loss: 4.78972706919211"
[ FAIL 0 | WARN 32 | SKIP 0 | PASS 103 ]
>
> proc.time()
user system elapsed
142.948 1.603 146.045
OUTRIDER.Rcheck/OUTRIDER-Ex.timings
| name | user | system | elapsed | |
| OUTRIDER | 5.304 | 0.910 | 5.491 | |
| OutriderDataSet-class | 1.219 | 0.019 | 1.242 | |
| aberrant | 7.183 | 1.929 | 3.907 | |
| computeGeneLength | 1.906 | 0.088 | 1.998 | |
| computeLatentSpace | 1.271 | 0.006 | 1.278 | |
| computePvalues | 2.482 | 1.500 | 2.460 | |
| computeZscores | 1.491 | 0.088 | 1.582 | |
| controlForConfounders | 2.153 | 0.044 | 2.208 | |
| counts | 1.044 | 0.011 | 1.060 | |
| estimateBestQ | 0.678 | 0.005 | 0.686 | |
| filterExpression | 2.405 | 0.026 | 2.438 | |
| findEncodingDim | 28.096 | 0.211 | 28.349 | |
| fit | 5.236 | 0.049 | 5.292 | |
| fpkm | 1.528 | 0.053 | 1.585 | |
| getter_setter_functions | 7.159 | 0.069 | 7.260 | |
| makeExampleOutriderDataSet | 1.837 | 0.031 | 1.871 | |
| normalizationFactors | 1.206 | 0.004 | 1.212 | |
| plotFunctions | 20.674 | 0.427 | 21.172 | |
| results | 5.070 | 0.060 | 5.142 | |
| sampleExclusionMask | 0.759 | 0.017 | 0.776 | |
| sizeFactors | 1.099 | 0.016 | 1.116 | |