| Back to Multiple platform build/check report for BioC 3.12 |
|
This page was generated on 2021-05-06 12:32:37 -0400 (Thu, 06 May 2021).
|
To the developers/maintainers of the OMICsPCA package: Please make sure to use the following settings in order to reproduce any error or warning you see on this page. |
| Package 1257/1974 | Hostname | OS / Arch | INSTALL | BUILD | CHECK | BUILD BIN | ||||||||
| OMICsPCA 1.8.0 (landing page) Subhadeep Das
| malbec1 | Linux (Ubuntu 18.04.5 LTS) / x86_64 | OK | OK | OK | |||||||||
| tokay1 | Windows Server 2012 R2 Standard / x64 | OK | OK | OK | OK | |||||||||
| merida1 | macOS 10.14.6 Mojave / x86_64 | ERROR | ERROR | skipped | skipped | |||||||||
| Package: OMICsPCA |
| Version: 1.8.0 |
| Command: rm -rf OMICsPCA.buildbin-libdir && mkdir OMICsPCA.buildbin-libdir && C:\Users\biocbuild\bbs-3.12-bioc\R\bin\R.exe CMD INSTALL --merge-multiarch --build --library=OMICsPCA.buildbin-libdir OMICsPCA_1.8.0.tar.gz |
| StartedAt: 2021-05-06 09:40:43 -0400 (Thu, 06 May 2021) |
| EndedAt: 2021-05-06 09:41:57 -0400 (Thu, 06 May 2021) |
| EllapsedTime: 74.4 seconds |
| RetCode: 0 |
| Status: OK |
| PackageFile: OMICsPCA_1.8.0.zip |
| PackageFileSize: 1.671 MiB |
##############################################################################
##############################################################################
###
### Running command:
###
### rm -rf OMICsPCA.buildbin-libdir && mkdir OMICsPCA.buildbin-libdir && C:\Users\biocbuild\bbs-3.12-bioc\R\bin\R.exe CMD INSTALL --merge-multiarch --build --library=OMICsPCA.buildbin-libdir OMICsPCA_1.8.0.tar.gz
###
##############################################################################
##############################################################################
install for i386
* installing *source* package 'OMICsPCA' ...
** using staged installation
** R
** inst
** byte-compile and prepare package for lazy loading
** help
*** installing help indices
converting help for package 'OMICsPCA'
finding HTML links ... done
analyse_individuals html
analyse_integrated_individuals html
analyse_integrated_variables html
analyse_variables html
chart_correlation html
cluster html
cluster_boxplot html
cluster_parameters html
create_group html
descriptor html
extract html
extract_assay html
integrate_pca html
integrate_variables html
intersect html
merge_cells html
plot_density html
plot_density_3D html
plot_integrated_density html
plot_integrated_density_3D html
prepare_dataset html
** building package indices
** installing vignettes
** testing if installed package can be loaded from temporary location
** testing if installed package can be loaded from final location
** testing if installed package keeps a record of temporary installation path
install for x64
* installing *source* package 'OMICsPCA' ...
** testing if installed package can be loaded
* MD5 sums
packaged installation of 'OMICsPCA' as OMICsPCA_1.8.0.zip
* DONE (OMICsPCA)