| Back to Multiple platform build/check report for BioC 3.12 |
|
This page was generated on 2021-05-06 12:36:00 -0400 (Thu, 06 May 2021).
|
To the developers/maintainers of the OMICsPCA package: Please make sure to use the following settings in order to reproduce any error or warning you see on this page. |
| Package 1257/1974 | Hostname | OS / Arch | INSTALL | BUILD | CHECK | BUILD BIN | ||||||||
| OMICsPCA 1.8.0 (landing page) Subhadeep Das
| malbec1 | Linux (Ubuntu 18.04.5 LTS) / x86_64 | OK | OK | OK | |||||||||
| tokay1 | Windows Server 2012 R2 Standard / x64 | OK | OK | OK | OK | |||||||||
| merida1 | macOS 10.14.6 Mojave / x86_64 | ERROR | ERROR | skipped | skipped | |||||||||
| Package: OMICsPCA |
| Version: 1.8.0 |
| Command: /Library/Frameworks/R.framework/Versions/Current/Resources/bin/R CMD build --keep-empty-dirs --no-resave-data OMICsPCA |
| StartedAt: 2021-05-05 21:00:43 -0400 (Wed, 05 May 2021) |
| EndedAt: 2021-05-05 21:01:10 -0400 (Wed, 05 May 2021) |
| EllapsedTime: 27.5 seconds |
| RetCode: 1 |
| Status: ERROR |
| PackageFile: None |
| PackageFileSize: NA |
##############################################################################
##############################################################################
###
### Running command:
###
### /Library/Frameworks/R.framework/Versions/Current/Resources/bin/R CMD build --keep-empty-dirs --no-resave-data OMICsPCA
###
##############################################################################
##############################################################################
* checking for file ‘OMICsPCA/DESCRIPTION’ ... OK
* preparing ‘OMICsPCA’:
* checking DESCRIPTION meta-information ... OK
* installing the package to build vignettes
-----------------------------------
* installing *source* package ‘OMICsPCA’ ...
** using staged installation
** R
** inst
** byte-compile and prepare package for lazy loading
ERROR: lazy loading failed for package ‘OMICsPCA’
* removing ‘/private/tmp/RtmpLhqkI0/Rinst8eb536e22da9/OMICsPCA’
-----------------------------------
ERROR: package installation failed