| Back to Multiple platform build/check report for BioC 3.12 |
|
This page was generated on 2021-05-06 12:32:33 -0400 (Thu, 06 May 2021).
|
To the developers/maintainers of the NormqPCR package: Please make sure to use the following settings in order to reproduce any error or warning you see on this page. |
| Package 1233/1974 | Hostname | OS / Arch | INSTALL | BUILD | CHECK | BUILD BIN | ||||||||
| NormqPCR 1.36.0 (landing page) James Perkins
| malbec1 | Linux (Ubuntu 18.04.5 LTS) / x86_64 | OK | OK | OK | |||||||||
| tokay1 | Windows Server 2012 R2 Standard / x64 | OK | OK | WARNINGS | OK | |||||||||
| merida1 | macOS 10.14.6 Mojave / x86_64 | ERROR | ERROR | skipped | skipped | |||||||||
| Package: NormqPCR |
| Version: 1.36.0 |
| Command: rm -rf NormqPCR.buildbin-libdir && mkdir NormqPCR.buildbin-libdir && C:\Users\biocbuild\bbs-3.12-bioc\R\bin\R.exe CMD INSTALL --merge-multiarch --build --library=NormqPCR.buildbin-libdir NormqPCR_1.36.0.tar.gz |
| StartedAt: 2021-05-06 09:39:16 -0400 (Thu, 06 May 2021) |
| EndedAt: 2021-05-06 09:39:41 -0400 (Thu, 06 May 2021) |
| EllapsedTime: 25.1 seconds |
| RetCode: 0 |
| Status: OK |
| PackageFile: NormqPCR_1.36.0.zip |
| PackageFileSize: 439.2 KiB |
##############################################################################
##############################################################################
###
### Running command:
###
### rm -rf NormqPCR.buildbin-libdir && mkdir NormqPCR.buildbin-libdir && C:\Users\biocbuild\bbs-3.12-bioc\R\bin\R.exe CMD INSTALL --merge-multiarch --build --library=NormqPCR.buildbin-libdir NormqPCR_1.36.0.tar.gz
###
##############################################################################
##############################################################################
install for i386
* installing *source* package 'NormqPCR' ...
** using staged installation
** R
** data
*** moving datasets to lazyload DB
** inst
** byte-compile and prepare package for lazy loading
** help
*** installing help indices
converting help for package 'NormqPCR'
finding HTML links ... done
Bladder html
BladderRepro html
Colon html
ComputeNRQs html
Rd warning: C:/Users/biocbuild/bbs-3.12-bioc/tmpdir/RtmpgfhRUz/R.INSTALL3b80241079d9/NormqPCR/man/ComputeNRQs.Rd:14: file link 'qPCRBatch' in package 'ReadqPCR' does not exist and so has been treated as a topic
CqValues html
Rd warning: C:/Users/biocbuild/bbs-3.12-bioc/tmpdir/RtmpgfhRUz/R.INSTALL3b80241079d9/NormqPCR/man/CqValues.Rd:23: file link 'CyclesSet' in package 'ReadqPCR' does not exist and so has been treated as a topic
NormqPCR-package html
combineTechReps html
combineTechRepsSD html
deltaCt html
deltaDeltaCt html
geNorm html
geomMean html
makeAllNAs html
makeAllNewVal html
replaceAboveCutOff html
replaceNAs html
selectHKs html
stabMeasureM html
stabMeasureRho html
** building package indices
** installing vignettes
** testing if installed package can be loaded from temporary location
** testing if installed package can be loaded from final location
** testing if installed package keeps a record of temporary installation path
install for x64
* installing *source* package 'NormqPCR' ...
** testing if installed package can be loaded
* MD5 sums
packaged installation of 'NormqPCR' as NormqPCR_1.36.0.zip
* DONE (NormqPCR)