| Back to Multiple platform build/check report for BioC 3.12 |
|
This page was generated on 2021-05-06 12:35:56 -0400 (Thu, 06 May 2021).
|
To the developers/maintainers of the NBSplice package: Please make sure to use the following settings in order to reproduce any error or warning you see on this page. |
| Package 1203/1974 | Hostname | OS / Arch | INSTALL | BUILD | CHECK | BUILD BIN | ||||||||
| NBSplice 1.8.0 (landing page) Gabriela Merino
| malbec1 | Linux (Ubuntu 18.04.5 LTS) / x86_64 | OK | OK | OK | |||||||||
| tokay1 | Windows Server 2012 R2 Standard / x64 | OK | OK | OK | OK | |||||||||
| merida1 | macOS 10.14.6 Mojave / x86_64 | OK | OK | OK | OK | |||||||||
| Package: NBSplice |
| Version: 1.8.0 |
| Command: /Library/Frameworks/R.framework/Versions/Current/Resources/bin/R CMD check --install=check:NBSplice.install-out.txt --library=/Library/Frameworks/R.framework/Versions/Current/Resources/library --no-vignettes --timings NBSplice_1.8.0.tar.gz |
| StartedAt: 2021-05-06 04:10:07 -0400 (Thu, 06 May 2021) |
| EndedAt: 2021-05-06 04:12:39 -0400 (Thu, 06 May 2021) |
| EllapsedTime: 151.7 seconds |
| RetCode: 0 |
| Status: OK |
| CheckDir: NBSplice.Rcheck |
| Warnings: 0 |
##############################################################################
##############################################################################
###
### Running command:
###
### /Library/Frameworks/R.framework/Versions/Current/Resources/bin/R CMD check --install=check:NBSplice.install-out.txt --library=/Library/Frameworks/R.framework/Versions/Current/Resources/library --no-vignettes --timings NBSplice_1.8.0.tar.gz
###
##############################################################################
##############################################################################
* using log directory ‘/Users/biocbuild/bbs-3.12-bioc/meat/NBSplice.Rcheck’
* using R version 4.0.5 (2021-03-31)
* using platform: x86_64-apple-darwin17.0 (64-bit)
* using session charset: UTF-8
* using option ‘--no-vignettes’
* checking for file ‘NBSplice/DESCRIPTION’ ... OK
* checking extension type ... Package
* this is package ‘NBSplice’ version ‘1.8.0’
* checking package namespace information ... OK
* checking package dependencies ... OK
* checking if this is a source package ... OK
* checking if there is a namespace ... OK
* checking for hidden files and directories ... OK
* checking for portable file names ... OK
* checking for sufficient/correct file permissions ... OK
* checking whether package ‘NBSplice’ can be installed ... OK
* checking installed package size ... OK
* checking package directory ... OK
* checking ‘build’ directory ... OK
* checking DESCRIPTION meta-information ... OK
* checking top-level files ... OK
* checking for left-over files ... OK
* checking index information ... OK
* checking package subdirectories ... OK
* checking R files for non-ASCII characters ... OK
* checking R files for syntax errors ... OK
* checking whether the package can be loaded ... OK
* checking whether the package can be loaded with stated dependencies ... OK
* checking whether the package can be unloaded cleanly ... OK
* checking whether the namespace can be loaded with stated dependencies ... OK
* checking whether the namespace can be unloaded cleanly ... OK
* checking dependencies in R code ... OK
* checking S3 generic/method consistency ... OK
* checking replacement functions ... OK
* checking foreign function calls ... OK
* checking R code for possible problems ... OK
* checking Rd files ... OK
* checking Rd metadata ... OK
* checking Rd cross-references ... OK
* checking for missing documentation entries ... OK
* checking for code/documentation mismatches ... OK
* checking Rd \usage sections ... OK
* checking Rd contents ... OK
* checking for unstated dependencies in examples ... OK
* checking contents of ‘data’ directory ... OK
* checking data for non-ASCII characters ... OK
* checking data for ASCII and uncompressed saves ... OK
* checking files in ‘vignettes’ ... OK
* checking examples ... OK
Examples with CPU (user + system) or elapsed time > 5s
user system elapsed
IsoDataSet-class 35.754 4.325 10.617
IsoDataSet-core 34.753 3.964 9.639
IsoDataSet-NBTest 31.023 2.487 9.245
IsoDataSet-buildLowExpIdx 17.828 0.942 4.809
totalGeneCounts 4.193 1.235 1.154
* checking for unstated dependencies in ‘tests’ ... OK
* checking tests ...
Running ‘runTests.R’
OK
* checking for unstated dependencies in vignettes ... OK
* checking package vignettes in ‘inst/doc’ ... OK
* checking running R code from vignettes ... SKIPPED
* checking re-building of vignette outputs ... SKIPPED
* checking PDF version of manual ... OK
* DONE
Status: OK
NBSplice.Rcheck/00install.out
############################################################################## ############################################################################## ### ### Running command: ### ### /Library/Frameworks/R.framework/Versions/Current/Resources/bin/R CMD INSTALL NBSplice ### ############################################################################## ############################################################################## * installing to library ‘/Library/Frameworks/R.framework/Versions/4.0/Resources/library’ * installing *source* package ‘NBSplice’ ... ** using staged installation ** R ** data ** inst ** byte-compile and prepare package for lazy loading ** help *** installing help indices ** building package indices ** installing vignettes ** testing if installed package can be loaded from temporary location ** testing if installed package can be loaded from final location ** testing if installed package keeps a record of temporary installation path * DONE (NBSplice)
NBSplice.Rcheck/tests/runTests.Rout
R version 4.0.5 (2021-03-31) -- "Shake and Throw"
Copyright (C) 2021 The R Foundation for Statistical Computing
Platform: x86_64-apple-darwin17.0 (64-bit)
R is free software and comes with ABSOLUTELY NO WARRANTY.
You are welcome to redistribute it under certain conditions.
Type 'license()' or 'licence()' for distribution details.
R is a collaborative project with many contributors.
Type 'contributors()' for more information and
'citation()' on how to cite R or R packages in publications.
Type 'demo()' for some demos, 'help()' for on-line help, or
'help.start()' for an HTML browser interface to help.
Type 'q()' to quit R.
> BiocGenerics:::testPackage("NBSplice")
Loading required package: BiocParallel
Loading required package: ggplot2
RUNIT TEST PROTOCOL -- Thu May 6 04:12:31 2021
***********************************************
Number of test functions: 20
Number of errors: 0
Number of failures: 0
1 Test Suite :
NBSplice RUnit Tests - 20 test functions, 0 errors, 0 failures
Number of test functions: 20
Number of errors: 0
Number of failures: 0
>
>
> proc.time()
user system elapsed
36.702 0.382 37.114
NBSplice.Rcheck/NBSplice-Ex.timings
| name | user | system | elapsed | |
| IsoDataSet-NBTest | 31.023 | 2.487 | 9.245 | |
| IsoDataSet-buildLowExpIdx | 17.828 | 0.942 | 4.809 | |
| IsoDataSet-class | 35.754 | 4.325 | 10.617 | |
| IsoDataSet-constructor | 1.559 | 0.505 | 1.085 | |
| IsoDataSet-core | 34.753 | 3.964 | 9.639 | |
| IsoDataSet-getters | 0.380 | 0.027 | 0.407 | |
| IsoDataSet-initialize | 0.874 | 0.278 | 1.141 | |
| IsoDataSet-print | 1.067 | 0.332 | 0.332 | |
| IsoDataSet-show | 0.211 | 0.024 | 0.235 | |
| NBSpliceRes-GetDSGenes | 0.024 | 0.003 | 0.027 | |
| NBSpliceRes-GetDSResults | 0.054 | 0.040 | 0.093 | |
| NBSpliceRes-GetGeneResults | 0.021 | 0.002 | 0.023 | |
| NBSpliceRes-class | 0.028 | 0.002 | 0.030 | |
| NBSpliceRes-constructor | 0.018 | 0.001 | 0.020 | |
| NBSpliceRes-getters | 0.022 | 0.001 | 0.023 | |
| NBSpliceRes-initialize | 0.021 | 0.001 | 0.022 | |
| NBSpliceRes-plotGeneResults | 0.062 | 0.005 | 0.068 | |
| NBSpliceRes-plotRatiosDisp | 0.035 | 0.001 | 0.037 | |
| NBSpliceRes-plotVolcano | 0.024 | 0.002 | 0.025 | |
| NBSpliceRes-print | 0.027 | 0.002 | 0.029 | |
| NBSpliceRes-show | 0.026 | 0.003 | 0.028 | |
| totalGeneCounts | 4.193 | 1.235 | 1.154 | |