| Back to Multiple platform build/check report for BioC 3.12 |
|
This page was generated on 2021-05-06 12:28:23 -0400 (Thu, 06 May 2021).
|
To the developers/maintainers of the NBSplice package: Please make sure to use the following settings in order to reproduce any error or warning you see on this page. |
| Package 1203/1974 | Hostname | OS / Arch | INSTALL | BUILD | CHECK | BUILD BIN | ||||||||
| NBSplice 1.8.0 (landing page) Gabriela Merino
| malbec1 | Linux (Ubuntu 18.04.5 LTS) / x86_64 | OK | OK | OK | |||||||||
| tokay1 | Windows Server 2012 R2 Standard / x64 | OK | OK | OK | OK | |||||||||
| merida1 | macOS 10.14.6 Mojave / x86_64 | OK | OK | OK | OK | |||||||||
| Package: NBSplice |
| Version: 1.8.0 |
| Command: /home/biocbuild/bbs-3.12-bioc/R/bin/R CMD check --install=check:NBSplice.install-out.txt --library=/home/biocbuild/bbs-3.12-bioc/R/library --no-vignettes --timings NBSplice_1.8.0.tar.gz |
| StartedAt: 2021-05-06 03:57:33 -0400 (Thu, 06 May 2021) |
| EndedAt: 2021-05-06 03:59:59 -0400 (Thu, 06 May 2021) |
| EllapsedTime: 145.2 seconds |
| RetCode: 0 |
| Status: OK |
| CheckDir: NBSplice.Rcheck |
| Warnings: 0 |
##############################################################################
##############################################################################
###
### Running command:
###
### /home/biocbuild/bbs-3.12-bioc/R/bin/R CMD check --install=check:NBSplice.install-out.txt --library=/home/biocbuild/bbs-3.12-bioc/R/library --no-vignettes --timings NBSplice_1.8.0.tar.gz
###
##############################################################################
##############################################################################
* using log directory ‘/home/biocbuild/bbs-3.12-bioc/meat/NBSplice.Rcheck’
* using R version 4.0.5 (2021-03-31)
* using platform: x86_64-pc-linux-gnu (64-bit)
* using session charset: UTF-8
* using option ‘--no-vignettes’
* checking for file ‘NBSplice/DESCRIPTION’ ... OK
* checking extension type ... Package
* this is package ‘NBSplice’ version ‘1.8.0’
* checking package namespace information ... OK
* checking package dependencies ... OK
* checking if this is a source package ... OK
* checking if there is a namespace ... OK
* checking for hidden files and directories ... OK
* checking for portable file names ... OK
* checking for sufficient/correct file permissions ... OK
* checking whether package ‘NBSplice’ can be installed ... OK
* checking installed package size ... OK
* checking package directory ... OK
* checking ‘build’ directory ... OK
* checking DESCRIPTION meta-information ... OK
* checking top-level files ... OK
* checking for left-over files ... OK
* checking index information ... OK
* checking package subdirectories ... OK
* checking R files for non-ASCII characters ... OK
* checking R files for syntax errors ... OK
* checking whether the package can be loaded ... OK
* checking whether the package can be loaded with stated dependencies ... OK
* checking whether the package can be unloaded cleanly ... OK
* checking whether the namespace can be loaded with stated dependencies ... OK
* checking whether the namespace can be unloaded cleanly ... OK
* checking dependencies in R code ... OK
* checking S3 generic/method consistency ... OK
* checking replacement functions ... OK
* checking foreign function calls ... OK
* checking R code for possible problems ... OK
* checking Rd files ... OK
* checking Rd metadata ... OK
* checking Rd cross-references ... OK
* checking for missing documentation entries ... OK
* checking for code/documentation mismatches ... OK
* checking Rd \usage sections ... OK
* checking Rd contents ... OK
* checking for unstated dependencies in examples ... OK
* checking contents of ‘data’ directory ... OK
* checking data for non-ASCII characters ... OK
* checking data for ASCII and uncompressed saves ... OK
* checking files in ‘vignettes’ ... OK
* checking examples ... OK
Examples with CPU (user + system) or elapsed time > 5s
user system elapsed
IsoDataSet-class 36.748 1.972 10.438
IsoDataSet-core 35.488 1.884 9.594
IsoDataSet-NBTest 33.676 1.132 9.725
IsoDataSet-buildLowExpIdx 8.716 0.220 5.086
* checking for unstated dependencies in ‘tests’ ... OK
* checking tests ...
Running ‘runTests.R’
OK
* checking for unstated dependencies in vignettes ... OK
* checking package vignettes in ‘inst/doc’ ... OK
* checking running R code from vignettes ... SKIPPED
* checking re-building of vignette outputs ... SKIPPED
* checking PDF version of manual ... OK
* DONE
Status: OK
NBSplice.Rcheck/00install.out
############################################################################## ############################################################################## ### ### Running command: ### ### /home/biocbuild/bbs-3.12-bioc/R/bin/R CMD INSTALL NBSplice ### ############################################################################## ############################################################################## * installing to library ‘/home/biocbuild/bbs-3.12-bioc/R/library’ * installing *source* package ‘NBSplice’ ... ** using staged installation ** R ** data ** inst ** byte-compile and prepare package for lazy loading ** help *** installing help indices ** building package indices ** installing vignettes ** testing if installed package can be loaded from temporary location ** testing if installed package can be loaded from final location ** testing if installed package keeps a record of temporary installation path * DONE (NBSplice)
NBSplice.Rcheck/tests/runTests.Rout
R version 4.0.5 (2021-03-31) -- "Shake and Throw"
Copyright (C) 2021 The R Foundation for Statistical Computing
Platform: x86_64-pc-linux-gnu (64-bit)
R is free software and comes with ABSOLUTELY NO WARRANTY.
You are welcome to redistribute it under certain conditions.
Type 'license()' or 'licence()' for distribution details.
R is a collaborative project with many contributors.
Type 'contributors()' for more information and
'citation()' on how to cite R or R packages in publications.
Type 'demo()' for some demos, 'help()' for on-line help, or
'help.start()' for an HTML browser interface to help.
Type 'q()' to quit R.
> BiocGenerics:::testPackage("NBSplice")
Loading required package: BiocParallel
Loading required package: ggplot2
RUNIT TEST PROTOCOL -- Thu May 6 03:59:55 2021
***********************************************
Number of test functions: 20
Number of errors: 0
Number of failures: 0
1 Test Suite :
NBSplice RUnit Tests - 20 test functions, 0 errors, 0 failures
Number of test functions: 20
Number of errors: 0
Number of failures: 0
>
>
> proc.time()
user system elapsed
42.108 0.264 42.496
NBSplice.Rcheck/NBSplice-Ex.timings
| name | user | system | elapsed | |
| IsoDataSet-NBTest | 33.676 | 1.132 | 9.725 | |
| IsoDataSet-buildLowExpIdx | 8.716 | 0.220 | 5.086 | |
| IsoDataSet-class | 36.748 | 1.972 | 10.438 | |
| IsoDataSet-constructor | 0.960 | 0.180 | 1.188 | |
| IsoDataSet-core | 35.488 | 1.884 | 9.594 | |
| IsoDataSet-getters | 0.512 | 0.016 | 0.527 | |
| IsoDataSet-initialize | 1.828 | 0.256 | 1.143 | |
| IsoDataSet-print | 2.052 | 0.260 | 0.234 | |
| IsoDataSet-show | 0.200 | 0.008 | 0.207 | |
| NBSpliceRes-GetDSGenes | 0.020 | 0.000 | 0.017 | |
| NBSpliceRes-GetDSResults | 0.016 | 0.000 | 0.016 | |
| NBSpliceRes-GetGeneResults | 0.032 | 0.004 | 0.034 | |
| NBSpliceRes-class | 0.024 | 0.000 | 0.025 | |
| NBSpliceRes-constructor | 0.016 | 0.000 | 0.015 | |
| NBSpliceRes-getters | 0.016 | 0.000 | 0.016 | |
| NBSpliceRes-initialize | 0.016 | 0.000 | 0.015 | |
| NBSpliceRes-plotGeneResults | 0.044 | 0.000 | 0.047 | |
| NBSpliceRes-plotRatiosDisp | 0.036 | 0.000 | 0.035 | |
| NBSpliceRes-plotVolcano | 0.032 | 0.000 | 0.034 | |
| NBSpliceRes-print | 0.032 | 0.000 | 0.032 | |
| NBSpliceRes-show | 0.032 | 0.000 | 0.032 | |
| totalGeneCounts | 1.756 | 0.280 | 1.071 | |