| Back to Multiple platform build/check report for BioC 3.12 |
|
This page was generated on 2021-05-06 12:32:21 -0400 (Thu, 06 May 2021).
|
To the developers/maintainers of the MouseFM package: Please make sure to use the following settings in order to reproduce any error or warning you see on this page. |
| Package 1148/1974 | Hostname | OS / Arch | INSTALL | BUILD | CHECK | BUILD BIN | ||||||||
| MouseFM 1.0.0 (landing page) Matthias Munz
| malbec1 | Linux (Ubuntu 18.04.5 LTS) / x86_64 | OK | OK | ERROR | |||||||||
| tokay1 | Windows Server 2012 R2 Standard / x64 | OK | OK | ERROR | OK | |||||||||
| merida1 | macOS 10.14.6 Mojave / x86_64 | OK | OK | ERROR | OK | |||||||||
| Package: MouseFM |
| Version: 1.0.0 |
| Command: C:\cygwin\bin\curl.exe -O http://172.29.0.3/BBS/3.12/bioc/src/contrib/MouseFM_1.0.0.tar.gz && rm -rf MouseFM.buildbin-libdir && mkdir MouseFM.buildbin-libdir && C:\Users\biocbuild\bbs-3.12-bioc\R\bin\R.exe CMD INSTALL --merge-multiarch --build --library=MouseFM.buildbin-libdir MouseFM_1.0.0.tar.gz && C:\Users\biocbuild\bbs-3.12-bioc\R\bin\R.exe CMD INSTALL MouseFM_1.0.0.zip && rm MouseFM_1.0.0.tar.gz MouseFM_1.0.0.zip |
| StartedAt: 2021-05-05 18:28:17 -0400 (Wed, 05 May 2021) |
| EndedAt: 2021-05-05 18:29:16 -0400 (Wed, 05 May 2021) |
| EllapsedTime: 58.5 seconds |
| RetCode: 0 |
| Status: OK |
##############################################################################
##############################################################################
###
### Running command:
###
### C:\cygwin\bin\curl.exe -O http://172.29.0.3/BBS/3.12/bioc/src/contrib/MouseFM_1.0.0.tar.gz && rm -rf MouseFM.buildbin-libdir && mkdir MouseFM.buildbin-libdir && C:\Users\biocbuild\bbs-3.12-bioc\R\bin\R.exe CMD INSTALL --merge-multiarch --build --library=MouseFM.buildbin-libdir MouseFM_1.0.0.tar.gz && C:\Users\biocbuild\bbs-3.12-bioc\R\bin\R.exe CMD INSTALL MouseFM_1.0.0.zip && rm MouseFM_1.0.0.tar.gz MouseFM_1.0.0.zip
###
##############################################################################
##############################################################################
% Total % Received % Xferd Average Speed Time Time Time Current
Dload Upload Total Spent Left Speed
0 0 0 0 0 0 0 0 --:--:-- --:--:-- --:--:-- 0
100 18057 100 18057 0 0 512k 0 --:--:-- --:--:-- --:--:-- 534k
install for i386
* installing *source* package 'MouseFM' ...
** using staged installation
** R
** byte-compile and prepare package for lazy loading
** help
*** installing help indices
converting help for package 'MouseFM'
finding HTML links ... done
GRanges2df html
annotate_consequences html
annotate_mouse_genes html
avail_chromosomes html
avail_consequences html
avail_strains html
backend_request html
comb html
df2GRanges html
df_split html
ensembl_rest_vep html
fetch html
finemap html
finemap_query html
getURL html
get_top html
prio html
reduction html
ref_genome html
setURL html
vis_reduction_factors html
** building package indices
** installing vignettes
** testing if installed package can be loaded from temporary location
** testing if installed package can be loaded from final location
** testing if installed package keeps a record of temporary installation path
install for x64
* installing *source* package 'MouseFM' ...
** testing if installed package can be loaded
* MD5 sums
packaged installation of 'MouseFM' as MouseFM_1.0.0.zip
* DONE (MouseFM)
* installing to library 'C:/Users/biocbuild/bbs-3.12-bioc/R/library'
package 'MouseFM' successfully unpacked and MD5 sums checked