| Back to Multiple platform build/check report for BioC 3.12 |
|
This page was generated on 2021-05-06 12:32:21 -0400 (Thu, 06 May 2021).
|
To the developers/maintainers of the MouseFM package: Please make sure to use the following settings in order to reproduce any error or warning you see on this page. |
| Package 1148/1974 | Hostname | OS / Arch | INSTALL | BUILD | CHECK | BUILD BIN | ||||||||
| MouseFM 1.0.0 (landing page) Matthias Munz
| malbec1 | Linux (Ubuntu 18.04.5 LTS) / x86_64 | OK | OK | ERROR | |||||||||
| tokay1 | Windows Server 2012 R2 Standard / x64 | OK | OK | ERROR | OK | |||||||||
| merida1 | macOS 10.14.6 Mojave / x86_64 | OK | OK | ERROR | OK | |||||||||
| Package: MouseFM |
| Version: 1.0.0 |
| Command: rm -rf MouseFM.buildbin-libdir && mkdir MouseFM.buildbin-libdir && C:\Users\biocbuild\bbs-3.12-bioc\R\bin\R.exe CMD INSTALL --merge-multiarch --build --library=MouseFM.buildbin-libdir MouseFM_1.0.0.tar.gz |
| StartedAt: 2021-05-06 09:34:36 -0400 (Thu, 06 May 2021) |
| EndedAt: 2021-05-06 09:35:22 -0400 (Thu, 06 May 2021) |
| EllapsedTime: 45.8 seconds |
| RetCode: 0 |
| Status: OK |
| PackageFile: MouseFM_1.0.0.zip |
| PackageFileSize: 775.1 KiB |
##############################################################################
##############################################################################
###
### Running command:
###
### rm -rf MouseFM.buildbin-libdir && mkdir MouseFM.buildbin-libdir && C:\Users\biocbuild\bbs-3.12-bioc\R\bin\R.exe CMD INSTALL --merge-multiarch --build --library=MouseFM.buildbin-libdir MouseFM_1.0.0.tar.gz
###
##############################################################################
##############################################################################
install for i386
* installing *source* package 'MouseFM' ...
** using staged installation
** R
** inst
** byte-compile and prepare package for lazy loading
** help
*** installing help indices
converting help for package 'MouseFM'
finding HTML links ... done
GRanges2df html
annotate_consequences html
annotate_mouse_genes html
avail_chromosomes html
avail_consequences html
avail_strains html
backend_request html
comb html
df2GRanges html
df_split html
ensembl_rest_vep html
fetch html
finemap html
finemap_query html
getURL html
get_top html
prio html
reduction html
ref_genome html
setURL html
vis_reduction_factors html
** building package indices
** installing vignettes
** testing if installed package can be loaded from temporary location
** testing if installed package can be loaded from final location
** testing if installed package keeps a record of temporary installation path
install for x64
* installing *source* package 'MouseFM' ...
** testing if installed package can be loaded
* MD5 sums
packaged installation of 'MouseFM' as MouseFM_1.0.0.zip
* DONE (MouseFM)