| Back to Multiple platform build/check report for BioC 3.12 |
|
This page was generated on 2021-05-06 12:32:11 -0400 (Thu, 06 May 2021).
|
To the developers/maintainers of the MetaboSignal package: Please make sure to use the following settings in order to reproduce any error or warning you see on this page. |
| Package 1048/1974 | Hostname | OS / Arch | INSTALL | BUILD | CHECK | BUILD BIN | ||||||||
| MetaboSignal 1.20.0 (landing page) Andrea Rodriguez-Martinez
| malbec1 | Linux (Ubuntu 18.04.5 LTS) / x86_64 | OK | OK | OK | |||||||||
| tokay1 | Windows Server 2012 R2 Standard / x64 | OK | OK | OK | OK | |||||||||
| merida1 | macOS 10.14.6 Mojave / x86_64 | OK | OK | OK | OK | |||||||||
| Package: MetaboSignal |
| Version: 1.20.0 |
| Command: rm -rf MetaboSignal.buildbin-libdir && mkdir MetaboSignal.buildbin-libdir && C:\Users\biocbuild\bbs-3.12-bioc\R\bin\R.exe CMD INSTALL --merge-multiarch --build --library=MetaboSignal.buildbin-libdir MetaboSignal_1.20.0.tar.gz |
| StartedAt: 2021-05-06 09:29:02 -0400 (Thu, 06 May 2021) |
| EndedAt: 2021-05-06 09:30:19 -0400 (Thu, 06 May 2021) |
| EllapsedTime: 77.1 seconds |
| RetCode: 0 |
| Status: OK |
| PackageFile: MetaboSignal_1.20.0.zip |
| PackageFileSize: 2.71 MiB |
##############################################################################
##############################################################################
###
### Running command:
###
### rm -rf MetaboSignal.buildbin-libdir && mkdir MetaboSignal.buildbin-libdir && C:\Users\biocbuild\bbs-3.12-bioc\R\bin\R.exe CMD INSTALL --merge-multiarch --build --library=MetaboSignal.buildbin-libdir MetaboSignal_1.20.0.tar.gz
###
##############################################################################
##############################################################################
install for i386
* installing *source* package 'MetaboSignal' ...
** using staged installation
** R
** data
*** moving datasets to lazyload DB
** inst
** byte-compile and prepare package for lazy loading
** help
*** installing help indices
converting help for package 'MetaboSignal'
finding HTML links ... done
MS2_mergeNetworks html
MS2_ppiNetwork html
MS_changeNames html
MS_convertGene html
MS_distances html
MS_exportCytoscape html
MS_findMappedNodes html
MS_getPathIds html
MS_keggFinder html
MS_keggNetwork html
MS_nodeBW html
MS_reactionNetwork html
MS_removeDrugs html
MS_removeNode html
MS_replaceNode html
MS_shortestPaths html
MS_shortestPathsNetwork html
MS_tissueFilter html
MS_topologyFilter html
MetaboSignal_table html
directionality_reactions html
hpaNormalTissue html
keggNet_example html
kegg_pathways html
mergedNet_example html
ppiNet_example html
regulatory_interactions html
** building package indices
** installing vignettes
** testing if installed package can be loaded from temporary location
** testing if installed package can be loaded from final location
** testing if installed package keeps a record of temporary installation path
install for x64
* installing *source* package 'MetaboSignal' ...
** testing if installed package can be loaded
* MD5 sums
packaged installation of 'MetaboSignal' as MetaboSignal_1.20.0.zip
* DONE (MetaboSignal)