| Back to Multiple platform build/check report for BioC 3.12 |
|
This page was generated on 2021-05-06 12:35:32 -0400 (Thu, 06 May 2021).
|
To the developers/maintainers of the M3Drop package: Please make sure to use the following settings in order to reproduce any error or warning you see on this page. |
| Package 981/1974 | Hostname | OS / Arch | INSTALL | BUILD | CHECK | BUILD BIN | ||||||||
| M3Drop 1.16.0 (landing page) Tallulah Andrews
| malbec1 | Linux (Ubuntu 18.04.5 LTS) / x86_64 | OK | OK | OK | |||||||||
| tokay1 | Windows Server 2012 R2 Standard / x64 | OK | OK | OK | OK | |||||||||
| merida1 | macOS 10.14.6 Mojave / x86_64 | OK | OK | OK | OK | |||||||||
| Package: M3Drop |
| Version: 1.16.0 |
| Command: /Library/Frameworks/R.framework/Versions/Current/Resources/bin/R CMD check --install=check:M3Drop.install-out.txt --library=/Library/Frameworks/R.framework/Versions/Current/Resources/library --no-vignettes --timings M3Drop_1.16.0.tar.gz |
| StartedAt: 2021-05-06 03:13:54 -0400 (Thu, 06 May 2021) |
| EndedAt: 2021-05-06 03:22:10 -0400 (Thu, 06 May 2021) |
| EllapsedTime: 495.3 seconds |
| RetCode: 0 |
| Status: OK |
| CheckDir: M3Drop.Rcheck |
| Warnings: 0 |
##############################################################################
##############################################################################
###
### Running command:
###
### /Library/Frameworks/R.framework/Versions/Current/Resources/bin/R CMD check --install=check:M3Drop.install-out.txt --library=/Library/Frameworks/R.framework/Versions/Current/Resources/library --no-vignettes --timings M3Drop_1.16.0.tar.gz
###
##############################################################################
##############################################################################
* using log directory ‘/Users/biocbuild/bbs-3.12-bioc/meat/M3Drop.Rcheck’
* using R version 4.0.5 (2021-03-31)
* using platform: x86_64-apple-darwin17.0 (64-bit)
* using session charset: UTF-8
* using option ‘--no-vignettes’
* checking for file ‘M3Drop/DESCRIPTION’ ... OK
* this is package ‘M3Drop’ version ‘1.16.0’
* checking package namespace information ... OK
* checking package dependencies ... OK
* checking if this is a source package ... OK
* checking if there is a namespace ... OK
* checking for hidden files and directories ... OK
* checking for portable file names ... OK
* checking for sufficient/correct file permissions ... OK
* checking whether package ‘M3Drop’ can be installed ... OK
* checking installed package size ... OK
* checking package directory ... OK
* checking ‘build’ directory ... OK
* checking DESCRIPTION meta-information ... OK
* checking top-level files ... OK
* checking for left-over files ... OK
* checking index information ... OK
* checking package subdirectories ... OK
* checking R files for non-ASCII characters ... OK
* checking R files for syntax errors ... OK
* checking whether the package can be loaded ... OK
* checking whether the package can be loaded with stated dependencies ... OK
* checking whether the package can be unloaded cleanly ... OK
* checking whether the namespace can be loaded with stated dependencies ... OK
* checking whether the namespace can be unloaded cleanly ... OK
* checking dependencies in R code ... NOTE
Package in Depends field not imported from: ‘numDeriv’
These packages need to be imported from (in the NAMESPACE file)
for when this namespace is loaded but not attached.
Missing or unexported object: ‘scater::exprs’
* checking S3 generic/method consistency ... OK
* checking replacement functions ... OK
* checking foreign function calls ... OK
* checking R code for possible problems ... NOTE
M3DropConvertData: no visible global function definition for ‘assays’
NBumiConvertData: no visible global function definition for ‘assays’
bg__filter_cells: no visible binding for global variable ‘x’
bg__get_extreme_residuals: no visible binding for global variable ‘x’
Undefined global functions or variables:
assays x
* checking Rd files ... NOTE
prepare_Rd: NBumi_FSOther.Rd:8-10: Dropping empty section \usage
prepare_Rd: NBumi_TradDE.Rd:7-8: Dropping empty section \usage
* checking Rd metadata ... OK
* checking Rd cross-references ... OK
* checking for missing documentation entries ... OK
* checking for code/documentation mismatches ... OK
* checking Rd \usage sections ... OK
* checking Rd contents ... OK
* checking for unstated dependencies in examples ... OK
* checking sizes of PDF files under ‘inst/doc’ ... OK
* checking files in ‘vignettes’ ... OK
* checking examples ... OK
Examples with CPU (user + system) or elapsed time > 5s
user system elapsed
NewSimulations 210.950 11.089 222.338
Imputation 76.388 0.234 76.717
M3D_getmarkers 47.465 0.922 48.452
M3D_ConverData 8.573 0.216 8.807
* checking for unstated dependencies in vignettes ... OK
* checking package vignettes in ‘inst/doc’ ... OK
* checking running R code from vignettes ... SKIPPED
* checking re-building of vignette outputs ... SKIPPED
* checking PDF version of manual ... OK
* DONE
Status: 3 NOTEs
See
‘/Users/biocbuild/bbs-3.12-bioc/meat/M3Drop.Rcheck/00check.log’
for details.
M3Drop.Rcheck/00install.out
############################################################################## ############################################################################## ### ### Running command: ### ### /Library/Frameworks/R.framework/Versions/Current/Resources/bin/R CMD INSTALL M3Drop ### ############################################################################## ############################################################################## * installing to library ‘/Library/Frameworks/R.framework/Versions/4.0/Resources/library’ * installing *source* package ‘M3Drop’ ... ** using staged installation ** R ** inst ** byte-compile and prepare package for lazy loading ** help *** installing help indices ** building package indices ** installing vignettes ** testing if installed package can be loaded from temporary location ** testing if installed package can be loaded from final location ** testing if installed package keeps a record of temporary installation path * DONE (M3Drop)
M3Drop.Rcheck/M3Drop-Ex.timings
| name | user | system | elapsed | |
| Brennecke_getVariableGenes | 4.175 | 0.262 | 4.452 | |
| Consensus_FS | 0.565 | 0.024 | 0.590 | |
| Fitting_Dropout_Models | 0 | 0 | 0 | |
| Imputation | 76.388 | 0.234 | 76.717 | |
| M3D_Clean_Data | 1.660 | 0.104 | 1.766 | |
| M3D_ConverData | 8.573 | 0.216 | 8.807 | |
| M3D_Differential_Expression | 1.177 | 0.057 | 1.236 | |
| M3D_Dropout_Models | 1.578 | 0.071 | 1.653 | |
| M3D_Expression_Heatmap | 0.634 | 0.012 | 0.647 | |
| M3D_Get_Extremes | 2.286 | 0.125 | 2.418 | |
| M3D_Get_Heatmap_Cell_Clusters | 0.567 | 0.010 | 0.581 | |
| M3D_Simulations | 0.001 | 0.000 | 0.001 | |
| M3D_Test_Shift | 1.087 | 0.049 | 1.139 | |
| M3D_ThreeSet_Venn | 0.353 | 0.011 | 0.366 | |
| M3D_TraditionalDE | 0.011 | 0.001 | 0.011 | |
| M3D_getmarkers | 47.465 | 0.922 | 48.452 | |
| M3D_horz_res | 0.000 | 0.000 | 0.001 | |
| NBumi_CheckFit | 1.945 | 0.106 | 2.054 | |
| NBumi_CoExpression | 1.796 | 0.050 | 1.848 | |
| NBumi_CompareModels | 4.209 | 0.184 | 4.397 | |
| NBumi_ConvertToInteger | 0.001 | 0.000 | 0.001 | |
| NBumi_ConvrtData | 0.792 | 0.031 | 0.824 | |
| NBumi_FSDrop | 2.195 | 0.071 | 2.269 | |
| NBumi_FSHighVar | 1.317 | 0.051 | 1.369 | |
| NBumi_FSOther | 0.009 | 0.001 | 0.010 | |
| NBumi_FitDisp | 0 | 0 | 0 | |
| NBumi_FitDispVsMean | 1.095 | 0.019 | 1.148 | |
| NBumi_FitModel | 1.313 | 0.045 | 1.378 | |
| NBumi_HVG | 2.013 | 0.062 | 2.101 | |
| NBumi_TradDE | 0.000 | 0.000 | 0.001 | |
| NewSimulations | 210.950 | 11.089 | 222.338 | |
| Other_FS | 1.311 | 0.014 | 1.326 | |
| PoissonUMIFeatureSelectionDropouts | 1.356 | 0.054 | 1.411 | |
| bg__fit_gamma | 0 | 0 | 0 | |
| bg__get_stats | 0.000 | 0.001 | 0.000 | |
| bg__mean2disp | 0.000 | 0.001 | 0.000 | |
| bg__shift_size | 0.000 | 0.001 | 0.000 | |
| bg__var_vs_drop | 0.001 | 0.001 | 0.001 | |