| Back to Multiple platform build/check report for BioC 3.12 |
|
This page was generated on 2021-05-06 12:28:06 -0400 (Thu, 06 May 2021).
|
To the developers/maintainers of the M3Drop package: Please make sure to use the following settings in order to reproduce any error or warning you see on this page. |
| Package 981/1974 | Hostname | OS / Arch | INSTALL | BUILD | CHECK | BUILD BIN | ||||||||
| M3Drop 1.16.0 (landing page) Tallulah Andrews
| malbec1 | Linux (Ubuntu 18.04.5 LTS) / x86_64 | OK | OK | OK | |||||||||
| tokay1 | Windows Server 2012 R2 Standard / x64 | OK | OK | OK | OK | |||||||||
| merida1 | macOS 10.14.6 Mojave / x86_64 | OK | OK | OK | OK | |||||||||
| Package: M3Drop |
| Version: 1.16.0 |
| Command: /home/biocbuild/bbs-3.12-bioc/R/bin/R CMD check --install=check:M3Drop.install-out.txt --library=/home/biocbuild/bbs-3.12-bioc/R/library --no-vignettes --timings M3Drop_1.16.0.tar.gz |
| StartedAt: 2021-05-06 03:00:35 -0400 (Thu, 06 May 2021) |
| EndedAt: 2021-05-06 03:08:39 -0400 (Thu, 06 May 2021) |
| EllapsedTime: 484.2 seconds |
| RetCode: 0 |
| Status: OK |
| CheckDir: M3Drop.Rcheck |
| Warnings: 0 |
##############################################################################
##############################################################################
###
### Running command:
###
### /home/biocbuild/bbs-3.12-bioc/R/bin/R CMD check --install=check:M3Drop.install-out.txt --library=/home/biocbuild/bbs-3.12-bioc/R/library --no-vignettes --timings M3Drop_1.16.0.tar.gz
###
##############################################################################
##############################################################################
* using log directory ‘/home/biocbuild/bbs-3.12-bioc/meat/M3Drop.Rcheck’
* using R version 4.0.5 (2021-03-31)
* using platform: x86_64-pc-linux-gnu (64-bit)
* using session charset: UTF-8
* using option ‘--no-vignettes’
* checking for file ‘M3Drop/DESCRIPTION’ ... OK
* this is package ‘M3Drop’ version ‘1.16.0’
* checking package namespace information ... OK
* checking package dependencies ... OK
* checking if this is a source package ... OK
* checking if there is a namespace ... OK
* checking for hidden files and directories ... OK
* checking for portable file names ... OK
* checking for sufficient/correct file permissions ... OK
* checking whether package ‘M3Drop’ can be installed ... OK
* checking installed package size ... OK
* checking package directory ... OK
* checking ‘build’ directory ... OK
* checking DESCRIPTION meta-information ... OK
* checking top-level files ... OK
* checking for left-over files ... OK
* checking index information ... OK
* checking package subdirectories ... OK
* checking R files for non-ASCII characters ... OK
* checking R files for syntax errors ... OK
* checking whether the package can be loaded ... OK
* checking whether the package can be loaded with stated dependencies ... OK
* checking whether the package can be unloaded cleanly ... OK
* checking whether the namespace can be loaded with stated dependencies ... OK
* checking whether the namespace can be unloaded cleanly ... OK
* checking dependencies in R code ... NOTE
Package in Depends field not imported from: ‘numDeriv’
These packages need to be imported from (in the NAMESPACE file)
for when this namespace is loaded but not attached.
Missing or unexported object: ‘scater::exprs’
* checking S3 generic/method consistency ... OK
* checking replacement functions ... OK
* checking foreign function calls ... OK
* checking R code for possible problems ... NOTE
M3DropConvertData: no visible global function definition for ‘assays’
NBumiConvertData: no visible global function definition for ‘assays’
bg__filter_cells: no visible binding for global variable ‘x’
bg__get_extreme_residuals: no visible binding for global variable ‘x’
Undefined global functions or variables:
assays x
* checking Rd files ... NOTE
prepare_Rd: NBumi_FSOther.Rd:8-10: Dropping empty section \usage
prepare_Rd: NBumi_TradDE.Rd:7-8: Dropping empty section \usage
* checking Rd metadata ... OK
* checking Rd cross-references ... OK
* checking for missing documentation entries ... OK
* checking for code/documentation mismatches ... OK
* checking Rd \usage sections ... OK
* checking Rd contents ... OK
* checking for unstated dependencies in examples ... OK
* checking files in ‘vignettes’ ... OK
* checking examples ... OK
Examples with CPU (user + system) or elapsed time > 5s
user system elapsed
NewSimulations 203.092 0.816 204.386
Imputation 84.356 0.032 84.570
M3D_getmarkers 55.296 0.136 55.578
M3D_ConverData 8.124 0.120 8.832
Brennecke_getVariableGenes 5.368 0.112 5.568
* checking for unstated dependencies in vignettes ... OK
* checking package vignettes in ‘inst/doc’ ... OK
* checking running R code from vignettes ... SKIPPED
* checking re-building of vignette outputs ... SKIPPED
* checking PDF version of manual ... OK
* DONE
Status: 3 NOTEs
See
‘/home/biocbuild/bbs-3.12-bioc/meat/M3Drop.Rcheck/00check.log’
for details.
M3Drop.Rcheck/00install.out
############################################################################## ############################################################################## ### ### Running command: ### ### /home/biocbuild/bbs-3.12-bioc/R/bin/R CMD INSTALL M3Drop ### ############################################################################## ############################################################################## * installing to library ‘/home/biocbuild/bbs-3.12-bioc/R/library’ * installing *source* package ‘M3Drop’ ... ** using staged installation ** R ** inst ** byte-compile and prepare package for lazy loading ** help *** installing help indices ** building package indices ** installing vignettes ** testing if installed package can be loaded from temporary location ** testing if installed package can be loaded from final location ** testing if installed package keeps a record of temporary installation path * DONE (M3Drop)
M3Drop.Rcheck/M3Drop-Ex.timings
| name | user | system | elapsed | |
| Brennecke_getVariableGenes | 5.368 | 0.112 | 5.568 | |
| Consensus_FS | 0.472 | 0.004 | 0.475 | |
| Fitting_Dropout_Models | 0 | 0 | 0 | |
| Imputation | 84.356 | 0.032 | 84.570 | |
| M3D_Clean_Data | 1.644 | 0.032 | 1.681 | |
| M3D_ConverData | 8.124 | 0.120 | 8.832 | |
| M3D_Differential_Expression | 2.408 | 0.080 | 2.488 | |
| M3D_Dropout_Models | 1.500 | 0.060 | 1.568 | |
| M3D_Expression_Heatmap | 0.692 | 0.008 | 0.704 | |
| M3D_Get_Extremes | 3.124 | 0.032 | 3.164 | |
| M3D_Get_Heatmap_Cell_Clusters | 0.580 | 0.004 | 0.588 | |
| M3D_Simulations | 0 | 0 | 0 | |
| M3D_Test_Shift | 0.884 | 0.008 | 0.894 | |
| M3D_ThreeSet_Venn | 0.388 | 0.004 | 0.395 | |
| M3D_TraditionalDE | 0.008 | 0.000 | 0.011 | |
| M3D_getmarkers | 55.296 | 0.136 | 55.578 | |
| M3D_horz_res | 0.004 | 0.000 | 0.000 | |
| NBumi_CheckFit | 2.436 | 0.064 | 2.501 | |
| NBumi_CoExpression | 1.188 | 0.032 | 1.221 | |
| NBumi_CompareModels | 4.868 | 0.044 | 4.914 | |
| NBumi_ConvertToInteger | 0.000 | 0.000 | 0.001 | |
| NBumi_ConvrtData | 0.956 | 0.000 | 0.958 | |
| NBumi_FSDrop | 1.372 | 0.012 | 1.387 | |
| NBumi_FSHighVar | 1.212 | 0.012 | 1.224 | |
| NBumi_FSOther | 0.016 | 0.000 | 0.017 | |
| NBumi_FitDisp | 0 | 0 | 0 | |
| NBumi_FitDispVsMean | 0.896 | 0.000 | 0.897 | |
| NBumi_FitModel | 1.468 | 0.012 | 1.480 | |
| NBumi_HVG | 0.952 | 0.016 | 0.968 | |
| NBumi_TradDE | 0 | 0 | 0 | |
| NewSimulations | 203.092 | 0.816 | 204.386 | |
| Other_FS | 1.028 | 0.008 | 1.036 | |
| PoissonUMIFeatureSelectionDropouts | 0.760 | 0.000 | 0.763 | |
| bg__fit_gamma | 0 | 0 | 0 | |
| bg__get_stats | 0.000 | 0.000 | 0.001 | |
| bg__mean2disp | 0 | 0 | 0 | |
| bg__shift_size | 0 | 0 | 0 | |
| bg__var_vs_drop | 0 | 0 | 0 | |