| Back to Multiple platform build/check report for BioC 3.12 |
|
This page was generated on 2021-05-06 12:35:32 -0400 (Thu, 06 May 2021).
|
To the developers/maintainers of the LymphoSeq package: Please make sure to use the following settings in order to reproduce any error or warning you see on this page. |
| Package 979/1974 | Hostname | OS / Arch | INSTALL | BUILD | CHECK | BUILD BIN | ||||||||
| LymphoSeq 1.18.0 (landing page) David Coffey
| malbec1 | Linux (Ubuntu 18.04.5 LTS) / x86_64 | OK | OK | OK | |||||||||
| tokay1 | Windows Server 2012 R2 Standard / x64 | OK | OK | OK | OK | |||||||||
| merida1 | macOS 10.14.6 Mojave / x86_64 | OK | OK | OK | OK | |||||||||
| Package: LymphoSeq |
| Version: 1.18.0 |
| Command: /Library/Frameworks/R.framework/Versions/Current/Resources/bin/R CMD check --install=check:LymphoSeq.install-out.txt --library=/Library/Frameworks/R.framework/Versions/Current/Resources/library --no-vignettes --timings LymphoSeq_1.18.0.tar.gz |
| StartedAt: 2021-05-06 03:13:45 -0400 (Thu, 06 May 2021) |
| EndedAt: 2021-05-06 03:17:46 -0400 (Thu, 06 May 2021) |
| EllapsedTime: 241.3 seconds |
| RetCode: 0 |
| Status: OK |
| CheckDir: LymphoSeq.Rcheck |
| Warnings: 0 |
##############################################################################
##############################################################################
###
### Running command:
###
### /Library/Frameworks/R.framework/Versions/Current/Resources/bin/R CMD check --install=check:LymphoSeq.install-out.txt --library=/Library/Frameworks/R.framework/Versions/Current/Resources/library --no-vignettes --timings LymphoSeq_1.18.0.tar.gz
###
##############################################################################
##############################################################################
* using log directory ‘/Users/biocbuild/bbs-3.12-bioc/meat/LymphoSeq.Rcheck’
* using R version 4.0.5 (2021-03-31)
* using platform: x86_64-apple-darwin17.0 (64-bit)
* using session charset: UTF-8
* using option ‘--no-vignettes’
* checking for file ‘LymphoSeq/DESCRIPTION’ ... OK
* this is package ‘LymphoSeq’ version ‘1.18.0’
* checking package namespace information ... OK
* checking package dependencies ... OK
* checking if this is a source package ... OK
* checking if there is a namespace ... OK
* checking for hidden files and directories ... OK
* checking for portable file names ... OK
* checking for sufficient/correct file permissions ... OK
* checking whether package ‘LymphoSeq’ can be installed ... OK
* checking installed package size ... NOTE
installed size is 5.8Mb
sub-directories of 1Mb or more:
extdata 5.5Mb
* checking package directory ... OK
* checking ‘build’ directory ... OK
* checking DESCRIPTION meta-information ... OK
* checking top-level files ... OK
* checking for left-over files ... OK
* checking index information ... OK
* checking package subdirectories ... OK
* checking R files for non-ASCII characters ... OK
* checking R files for syntax errors ... OK
* checking whether the package can be loaded ... OK
* checking whether the package can be loaded with stated dependencies ... OK
* checking whether the package can be unloaded cleanly ... OK
* checking whether the namespace can be loaded with stated dependencies ... OK
* checking whether the namespace can be unloaded cleanly ... OK
* checking dependencies in R code ... OK
* checking S3 generic/method consistency ... OK
* checking replacement functions ... OK
* checking foreign function calls ... OK
* checking R code for possible problems ... OK
* checking Rd files ... OK
* checking Rd metadata ... OK
* checking Rd cross-references ... OK
* checking for missing documentation entries ... OK
* checking for code/documentation mismatches ... OK
* checking Rd \usage sections ... OK
* checking Rd contents ... OK
* checking for unstated dependencies in examples ... OK
* checking files in ‘vignettes’ ... OK
* checking examples ... OK
Examples with CPU (user + system) or elapsed time > 5s
user system elapsed
cloneTrack 26.257 1.342 27.641
productiveSeq 23.479 0.424 23.931
phyloTree 5.490 0.031 5.550
* checking for unstated dependencies in vignettes ... OK
* checking package vignettes in ‘inst/doc’ ... OK
* checking running R code from vignettes ... SKIPPED
* checking re-building of vignette outputs ... SKIPPED
* checking PDF version of manual ... OK
* DONE
Status: 1 NOTE
See
‘/Users/biocbuild/bbs-3.12-bioc/meat/LymphoSeq.Rcheck/00check.log’
for details.
LymphoSeq.Rcheck/00install.out
############################################################################## ############################################################################## ### ### Running command: ### ### /Library/Frameworks/R.framework/Versions/Current/Resources/bin/R CMD INSTALL LymphoSeq ### ############################################################################## ############################################################################## * installing to library ‘/Library/Frameworks/R.framework/Versions/4.0/Resources/library’ * installing *source* package ‘LymphoSeq’ ... ** using staged installation ** R ** inst ** byte-compile and prepare package for lazy loading ** help *** installing help indices ** building package indices ** installing vignettes ** testing if installed package can be loaded from temporary location ** testing if installed package can be loaded from final location ** testing if installed package keeps a record of temporary installation path * DONE (LymphoSeq)
LymphoSeq.Rcheck/LymphoSeq-Ex.timings
| name | user | system | elapsed | |
| alignSeq | 1.576 | 0.021 | 1.614 | |
| bhattacharyyaCoefficient | 0.251 | 0.018 | 0.284 | |
| bhattacharyyaMatrix | 0.280 | 0.011 | 0.292 | |
| chordDiagramVDJ | 1.084 | 0.029 | 1.116 | |
| clonalRelatedness | 0.714 | 0.005 | 0.720 | |
| clonality | 0.084 | 0.005 | 0.089 | |
| cloneTrack | 26.257 | 1.342 | 27.641 | |
| commonSeqs | 0.229 | 0.023 | 0.252 | |
| commonSeqsBar | 1.158 | 0.141 | 1.301 | |
| commonSeqsPlot | 1.549 | 0.041 | 1.593 | |
| commonSeqsVenn | 1.007 | 0.036 | 1.053 | |
| differentialAbundance | 3.223 | 0.067 | 3.294 | |
| exportFasta | 0.347 | 0.027 | 0.416 | |
| geneFreq | 3.292 | 0.119 | 3.417 | |
| lorenzCurve | 1.471 | 0.016 | 1.490 | |
| mergeFiles | 0.102 | 0.004 | 0.105 | |
| pairwisePlot | 0.861 | 0.012 | 0.875 | |
| phyloTree | 5.490 | 0.031 | 5.550 | |
| productive | 0.073 | 0.003 | 0.077 | |
| productiveSeq | 23.479 | 0.424 | 23.931 | |
| readImmunoSeq | 0.049 | 0.003 | 0.052 | |
| removeSeq | 0.066 | 0.003 | 0.068 | |
| searchPublished | 0.216 | 0.011 | 0.227 | |
| searchSeq | 0.534 | 0.009 | 0.544 | |
| seqMatrix | 1.938 | 0.059 | 1.999 | |
| similarityMatrix | 0.193 | 0.005 | 0.197 | |
| similarityScore | 0.180 | 0.004 | 0.184 | |
| topFreq | 2.340 | 0.053 | 2.399 | |
| topSeqs | 0.179 | 0.003 | 0.181 | |
| topSeqsPlot | 0.376 | 0.005 | 0.382 | |
| uniqueSeqs | 0.249 | 0.007 | 0.256 | |