| Back to Multiple platform build/check report for BioC 3.12 |
|
This page was generated on 2021-05-06 12:28:06 -0400 (Thu, 06 May 2021).
|
To the developers/maintainers of the LymphoSeq package: Please make sure to use the following settings in order to reproduce any error or warning you see on this page. |
| Package 979/1974 | Hostname | OS / Arch | INSTALL | BUILD | CHECK | BUILD BIN | ||||||||
| LymphoSeq 1.18.0 (landing page) David Coffey
| malbec1 | Linux (Ubuntu 18.04.5 LTS) / x86_64 | OK | OK | OK | |||||||||
| tokay1 | Windows Server 2012 R2 Standard / x64 | OK | OK | OK | OK | |||||||||
| merida1 | macOS 10.14.6 Mojave / x86_64 | OK | OK | OK | OK | |||||||||
| Package: LymphoSeq |
| Version: 1.18.0 |
| Command: /home/biocbuild/bbs-3.12-bioc/R/bin/R CMD check --install=check:LymphoSeq.install-out.txt --library=/home/biocbuild/bbs-3.12-bioc/R/library --no-vignettes --timings LymphoSeq_1.18.0.tar.gz |
| StartedAt: 2021-05-06 03:00:30 -0400 (Thu, 06 May 2021) |
| EndedAt: 2021-05-06 03:04:30 -0400 (Thu, 06 May 2021) |
| EllapsedTime: 240.5 seconds |
| RetCode: 0 |
| Status: OK |
| CheckDir: LymphoSeq.Rcheck |
| Warnings: 0 |
##############################################################################
##############################################################################
###
### Running command:
###
### /home/biocbuild/bbs-3.12-bioc/R/bin/R CMD check --install=check:LymphoSeq.install-out.txt --library=/home/biocbuild/bbs-3.12-bioc/R/library --no-vignettes --timings LymphoSeq_1.18.0.tar.gz
###
##############################################################################
##############################################################################
* using log directory ‘/home/biocbuild/bbs-3.12-bioc/meat/LymphoSeq.Rcheck’
* using R version 4.0.5 (2021-03-31)
* using platform: x86_64-pc-linux-gnu (64-bit)
* using session charset: UTF-8
* using option ‘--no-vignettes’
* checking for file ‘LymphoSeq/DESCRIPTION’ ... OK
* this is package ‘LymphoSeq’ version ‘1.18.0’
* checking package namespace information ... OK
* checking package dependencies ... OK
* checking if this is a source package ... OK
* checking if there is a namespace ... OK
* checking for hidden files and directories ... OK
* checking for portable file names ... OK
* checking for sufficient/correct file permissions ... OK
* checking whether package ‘LymphoSeq’ can be installed ... OK
* checking installed package size ... NOTE
installed size is 5.7Mb
sub-directories of 1Mb or more:
extdata 5.5Mb
* checking package directory ... OK
* checking ‘build’ directory ... OK
* checking DESCRIPTION meta-information ... OK
* checking top-level files ... OK
* checking for left-over files ... OK
* checking index information ... OK
* checking package subdirectories ... OK
* checking R files for non-ASCII characters ... OK
* checking R files for syntax errors ... OK
* checking whether the package can be loaded ... OK
* checking whether the package can be loaded with stated dependencies ... OK
* checking whether the package can be unloaded cleanly ... OK
* checking whether the namespace can be loaded with stated dependencies ... OK
* checking whether the namespace can be unloaded cleanly ... OK
* checking dependencies in R code ... OK
* checking S3 generic/method consistency ... OK
* checking replacement functions ... OK
* checking foreign function calls ... OK
* checking R code for possible problems ... OK
* checking Rd files ... OK
* checking Rd metadata ... OK
* checking Rd cross-references ... OK
* checking for missing documentation entries ... OK
* checking for code/documentation mismatches ... OK
* checking Rd \usage sections ... OK
* checking Rd contents ... OK
* checking for unstated dependencies in examples ... OK
* checking files in ‘vignettes’ ... OK
* checking examples ... OK
Examples with CPU (user + system) or elapsed time > 5s
user system elapsed
cloneTrack 30.092 1.268 31.621
productiveSeq 29.508 0.920 30.513
phyloTree 5.804 0.004 5.820
* checking for unstated dependencies in vignettes ... OK
* checking package vignettes in ‘inst/doc’ ... OK
* checking running R code from vignettes ... SKIPPED
* checking re-building of vignette outputs ... SKIPPED
* checking PDF version of manual ... OK
* DONE
Status: 1 NOTE
See
‘/home/biocbuild/bbs-3.12-bioc/meat/LymphoSeq.Rcheck/00check.log’
for details.
LymphoSeq.Rcheck/00install.out
############################################################################## ############################################################################## ### ### Running command: ### ### /home/biocbuild/bbs-3.12-bioc/R/bin/R CMD INSTALL LymphoSeq ### ############################################################################## ############################################################################## * installing to library ‘/home/biocbuild/bbs-3.12-bioc/R/library’ * installing *source* package ‘LymphoSeq’ ... ** using staged installation ** R ** inst ** byte-compile and prepare package for lazy loading ** help *** installing help indices ** building package indices ** installing vignettes ** testing if installed package can be loaded from temporary location ** testing if installed package can be loaded from final location ** testing if installed package keeps a record of temporary installation path * DONE (LymphoSeq)
LymphoSeq.Rcheck/LymphoSeq-Ex.timings
| name | user | system | elapsed | |
| alignSeq | 1.368 | 0.004 | 1.486 | |
| bhattacharyyaCoefficient | 0.276 | 0.008 | 0.318 | |
| bhattacharyyaMatrix | 0.304 | 0.004 | 0.309 | |
| chordDiagramVDJ | 1.380 | 0.016 | 1.397 | |
| clonalRelatedness | 0.800 | 0.000 | 0.445 | |
| clonality | 0.096 | 0.000 | 0.096 | |
| cloneTrack | 30.092 | 1.268 | 31.621 | |
| commonSeqs | 0.284 | 0.008 | 0.293 | |
| commonSeqsBar | 1.212 | 0.188 | 1.401 | |
| commonSeqsPlot | 1.720 | 0.040 | 1.763 | |
| commonSeqsVenn | 0.728 | 0.004 | 0.735 | |
| differentialAbundance | 2.824 | 0.040 | 2.872 | |
| exportFasta | 0.248 | 0.012 | 0.259 | |
| geneFreq | 2.596 | 0.072 | 2.668 | |
| lorenzCurve | 1.704 | 0.000 | 1.714 | |
| mergeFiles | 0.120 | 0.004 | 0.128 | |
| pairwisePlot | 0.748 | 0.000 | 0.753 | |
| phyloTree | 5.804 | 0.004 | 5.820 | |
| productive | 0.092 | 0.004 | 0.098 | |
| productiveSeq | 29.508 | 0.920 | 30.513 | |
| readImmunoSeq | 0.06 | 0.00 | 0.06 | |
| removeSeq | 0.080 | 0.008 | 0.093 | |
| searchPublished | 0.256 | 0.008 | 0.268 | |
| searchSeq | 0.864 | 0.000 | 0.865 | |
| seqMatrix | 2.292 | 0.084 | 2.380 | |
| similarityMatrix | 0.244 | 0.000 | 0.247 | |
| similarityScore | 0.220 | 0.000 | 0.222 | |
| topFreq | 2.816 | 0.108 | 2.927 | |
| topSeqs | 0.164 | 0.000 | 0.163 | |
| topSeqsPlot | 0.32 | 0.00 | 0.32 | |
| uniqueSeqs | 0.200 | 0.004 | 0.204 | |