| Back to Multiple platform build/check report for BioC 3.12 |
|
This page was generated on 2021-05-06 12:35:16 -0400 (Thu, 06 May 2021).
|
To the developers/maintainers of the HiCBricks package: Please make sure to use the following settings in order to reproduce any error or warning you see on this page. |
| Package 829/1974 | Hostname | OS / Arch | INSTALL | BUILD | CHECK | BUILD BIN | ||||||||
| HiCBricks 1.8.0 (landing page) Koustav Pal
| malbec1 | Linux (Ubuntu 18.04.5 LTS) / x86_64 | OK | OK | OK | |||||||||
| tokay1 | Windows Server 2012 R2 Standard / x64 | OK | OK | OK | OK | |||||||||
| merida1 | macOS 10.14.6 Mojave / x86_64 | OK | OK | OK | OK | |||||||||
| Package: HiCBricks |
| Version: 1.8.0 |
| Command: /Library/Frameworks/R.framework/Versions/Current/Resources/bin/R CMD check --install=check:HiCBricks.install-out.txt --library=/Library/Frameworks/R.framework/Versions/Current/Resources/library --no-vignettes --timings HiCBricks_1.8.0.tar.gz |
| StartedAt: 2021-05-06 02:37:46 -0400 (Thu, 06 May 2021) |
| EndedAt: 2021-05-06 02:42:13 -0400 (Thu, 06 May 2021) |
| EllapsedTime: 267.7 seconds |
| RetCode: 0 |
| Status: OK |
| CheckDir: HiCBricks.Rcheck |
| Warnings: 0 |
##############################################################################
##############################################################################
###
### Running command:
###
### /Library/Frameworks/R.framework/Versions/Current/Resources/bin/R CMD check --install=check:HiCBricks.install-out.txt --library=/Library/Frameworks/R.framework/Versions/Current/Resources/library --no-vignettes --timings HiCBricks_1.8.0.tar.gz
###
##############################################################################
##############################################################################
* using log directory ‘/Users/biocbuild/bbs-3.12-bioc/meat/HiCBricks.Rcheck’
* using R version 4.0.5 (2021-03-31)
* using platform: x86_64-apple-darwin17.0 (64-bit)
* using session charset: UTF-8
* using option ‘--no-vignettes’
* checking for file ‘HiCBricks/DESCRIPTION’ ... OK
* checking extension type ... Package
* this is package ‘HiCBricks’ version ‘1.8.0’
* package encoding: UTF-8
* checking package namespace information ... OK
* checking package dependencies ... OK
* checking if this is a source package ... OK
* checking if there is a namespace ... OK
* checking for hidden files and directories ... OK
* checking for portable file names ... OK
* checking for sufficient/correct file permissions ... OK
* checking whether package ‘HiCBricks’ can be installed ... OK
* checking installed package size ... OK
* checking package directory ... OK
* checking ‘build’ directory ... OK
* checking DESCRIPTION meta-information ... OK
* checking top-level files ... OK
* checking for left-over files ... OK
* checking index information ... OK
* checking package subdirectories ... OK
* checking R files for non-ASCII characters ... OK
* checking R files for syntax errors ... OK
* checking whether the package can be loaded ... OK
* checking whether the package can be loaded with stated dependencies ... OK
* checking whether the package can be unloaded cleanly ... OK
* checking whether the namespace can be loaded with stated dependencies ... OK
* checking whether the namespace can be unloaded cleanly ... OK
* checking dependencies in R code ... OK
* checking S3 generic/method consistency ... OK
* checking replacement functions ... OK
* checking foreign function calls ... OK
* checking R code for possible problems ... OK
* checking Rd files ... OK
* checking Rd metadata ... OK
* checking Rd cross-references ... OK
* checking for missing documentation entries ... OK
* checking for code/documentation mismatches ... OK
* checking Rd \usage sections ... OK
* checking Rd contents ... OK
* checking for unstated dependencies in examples ... OK
* checking files in ‘vignettes’ ... OK
* checking examples ... OK
Examples with CPU (user + system) or elapsed time > 5s
user system elapsed
Brick_export_to_sparse 4.616 0.345 5.143
* checking for unstated dependencies in vignettes ... OK
* checking package vignettes in ‘inst/doc’ ... OK
* checking running R code from vignettes ... SKIPPED
* checking re-building of vignette outputs ... SKIPPED
* checking PDF version of manual ... OK
* DONE
Status: OK
HiCBricks.Rcheck/00install.out
############################################################################## ############################################################################## ### ### Running command: ### ### /Library/Frameworks/R.framework/Versions/Current/Resources/bin/R CMD INSTALL HiCBricks ### ############################################################################## ############################################################################## * installing to library ‘/Library/Frameworks/R.framework/Versions/4.0/Resources/library’ * installing *source* package ‘HiCBricks’ ... ** using staged installation ** R ** inst ** byte-compile and prepare package for lazy loading ** help *** installing help indices ** building package indices ** installing vignettes ** testing if installed package can be loaded from temporary location ** testing if installed package can be loaded from final location ** testing if installed package keeps a record of temporary installation path * DONE (HiCBricks)
HiCBricks.Rcheck/HiCBricks-Ex.timings
| name | user | system | elapsed | |
| BrickContainer_change_experiment_name | 1.722 | 0.138 | 2.153 | |
| BrickContainer_change_output_directory | 1.518 | 0.108 | 1.715 | |
| BrickContainer_get_path_to_file | 1.435 | 0.087 | 1.529 | |
| BrickContainer_list_chromosomes | 1.439 | 0.090 | 2.042 | |
| BrickContainer_list_experiment_name | 1.480 | 0.088 | 1.832 | |
| BrickContainer_list_files | 1.395 | 0.085 | 1.561 | |
| BrickContainer_list_output_directory | 1.312 | 0.078 | 1.630 | |
| BrickContainer_list_resolutions | 1.380 | 0.077 | 1.868 | |
| BrickContainer_unlink_resolution | 2.912 | 0.168 | 3.084 | |
| Brick_add_ranges | 2.775 | 0.134 | 3.559 | |
| Brick_call_compartments | 2.312 | 0.252 | 2.706 | |
| Brick_export_to_sparse | 4.616 | 0.345 | 5.143 | |
| Brick_fetch_range_index | 1.666 | 0.089 | 1.797 | |
| Brick_fetch_row_vector | 2.573 | 0.203 | 2.783 | |
| Brick_get_bintable | 1.448 | 0.089 | 1.540 | |
| Brick_get_chrominfo | 1.342 | 0.084 | 1.428 | |
| Brick_get_entire_matrix | 2.006 | 0.223 | 2.232 | |
| Brick_get_matrix | 1.916 | 0.192 | 2.232 | |
| Brick_get_matrix_mcols | 2.052 | 0.206 | 2.303 | |
| Brick_get_matrix_within_coords | 2.857 | 0.203 | 3.066 | |
| Brick_get_ranges | 1.427 | 0.088 | 1.570 | |
| Brick_get_values_by_distance | 2.218 | 0.230 | 2.452 | |
| Brick_get_vector_values | 2.006 | 0.213 | 2.473 | |
| Brick_list_matrices | 1.385 | 0.091 | 1.488 | |
| Brick_list_matrix_mcols | 1.292 | 0.083 | 1.493 | |
| Brick_list_mcool_normalisations | 0.000 | 0.001 | 0.001 | |
| Brick_list_mcool_resolutions | 0.001 | 0.001 | 0.001 | |
| Brick_list_rangekeys | 1.369 | 0.086 | 1.541 | |
| Brick_list_ranges_mcols | 1.350 | 0.083 | 1.660 | |
| Brick_load_cis_matrix_till_distance | 1.821 | 0.186 | 2.021 | |
| Brick_load_data_from_mcool | 0.000 | 0.001 | 0.002 | |
| Brick_load_data_from_sparse | 0.000 | 0.000 | 0.002 | |
| Brick_load_matrix | 1.957 | 0.187 | 2.152 | |
| Brick_local_score_differentiator | 3.546 | 0.312 | 4.165 | |
| Brick_make_ranges | 0.02 | 0.00 | 0.02 | |
| Brick_matrix_dimensions | 2.029 | 0.209 | 2.248 | |
| Brick_matrix_exists | 1.982 | 0.213 | 2.204 | |
| Brick_matrix_filename | 2.016 | 0.206 | 2.227 | |
| Brick_matrix_isdone | 1.984 | 0.196 | 2.346 | |
| Brick_matrix_issparse | 1.931 | 0.379 | 2.793 | |
| Brick_matrix_maxdist | 1.868 | 0.196 | 2.102 | |
| Brick_matrix_minmax | 1.857 | 0.194 | 2.335 | |
| Brick_mcool_normalisation_exists | 0.001 | 0.000 | 0.000 | |
| Brick_rangekey_exists | 1.321 | 0.081 | 1.404 | |
| Brick_return_region_position | 1.491 | 0.080 | 1.575 | |
| Brick_vizart_plot_heatmap | 3.358 | 0.274 | 3.711 | |
| Create_many_Bricks | 1.321 | 0.094 | 1.541 | |
| Create_many_Bricks_from_mcool | 0.001 | 0.001 | 0.001 | |
| load_BrickContainer | 1.304 | 0.218 | 1.927 | |