| Back to Multiple platform build/check report for BioC 3.12 |
|
This page was generated on 2021-05-06 12:27:52 -0400 (Thu, 06 May 2021).
|
To the developers/maintainers of the HiCBricks package: Please make sure to use the following settings in order to reproduce any error or warning you see on this page. |
| Package 829/1974 | Hostname | OS / Arch | INSTALL | BUILD | CHECK | BUILD BIN | ||||||||
| HiCBricks 1.8.0 (landing page) Koustav Pal
| malbec1 | Linux (Ubuntu 18.04.5 LTS) / x86_64 | OK | OK | OK | |||||||||
| tokay1 | Windows Server 2012 R2 Standard / x64 | OK | OK | OK | OK | |||||||||
| merida1 | macOS 10.14.6 Mojave / x86_64 | OK | OK | OK | OK | |||||||||
| Package: HiCBricks |
| Version: 1.8.0 |
| Command: /home/biocbuild/bbs-3.12-bioc/R/bin/R CMD check --install=check:HiCBricks.install-out.txt --library=/home/biocbuild/bbs-3.12-bioc/R/library --no-vignettes --timings HiCBricks_1.8.0.tar.gz |
| StartedAt: 2021-05-06 02:24:35 -0400 (Thu, 06 May 2021) |
| EndedAt: 2021-05-06 02:28:33 -0400 (Thu, 06 May 2021) |
| EllapsedTime: 238.3 seconds |
| RetCode: 0 |
| Status: OK |
| CheckDir: HiCBricks.Rcheck |
| Warnings: 0 |
##############################################################################
##############################################################################
###
### Running command:
###
### /home/biocbuild/bbs-3.12-bioc/R/bin/R CMD check --install=check:HiCBricks.install-out.txt --library=/home/biocbuild/bbs-3.12-bioc/R/library --no-vignettes --timings HiCBricks_1.8.0.tar.gz
###
##############################################################################
##############################################################################
* using log directory ‘/home/biocbuild/bbs-3.12-bioc/meat/HiCBricks.Rcheck’
* using R version 4.0.5 (2021-03-31)
* using platform: x86_64-pc-linux-gnu (64-bit)
* using session charset: UTF-8
* using option ‘--no-vignettes’
* checking for file ‘HiCBricks/DESCRIPTION’ ... OK
* checking extension type ... Package
* this is package ‘HiCBricks’ version ‘1.8.0’
* package encoding: UTF-8
* checking package namespace information ... OK
* checking package dependencies ... OK
* checking if this is a source package ... OK
* checking if there is a namespace ... OK
* checking for hidden files and directories ... OK
* checking for portable file names ... OK
* checking for sufficient/correct file permissions ... OK
* checking whether package ‘HiCBricks’ can be installed ... OK
* checking installed package size ... OK
* checking package directory ... OK
* checking ‘build’ directory ... OK
* checking DESCRIPTION meta-information ... OK
* checking top-level files ... OK
* checking for left-over files ... OK
* checking index information ... OK
* checking package subdirectories ... OK
* checking R files for non-ASCII characters ... OK
* checking R files for syntax errors ... OK
* checking whether the package can be loaded ... OK
* checking whether the package can be loaded with stated dependencies ... OK
* checking whether the package can be unloaded cleanly ... OK
* checking whether the namespace can be loaded with stated dependencies ... OK
* checking whether the namespace can be unloaded cleanly ... OK
* checking dependencies in R code ... OK
* checking S3 generic/method consistency ... OK
* checking replacement functions ... OK
* checking foreign function calls ... OK
* checking R code for possible problems ... OK
* checking Rd files ... OK
* checking Rd metadata ... OK
* checking Rd cross-references ... OK
* checking for missing documentation entries ... OK
* checking for code/documentation mismatches ... OK
* checking Rd \usage sections ... OK
* checking Rd contents ... OK
* checking for unstated dependencies in examples ... OK
* checking files in ‘vignettes’ ... OK
* checking examples ... OK
Examples with CPU (user + system) or elapsed time > 5s
user system elapsed
Brick_export_to_sparse 4.448 0.056 5.21
* checking for unstated dependencies in vignettes ... OK
* checking package vignettes in ‘inst/doc’ ... OK
* checking running R code from vignettes ... SKIPPED
* checking re-building of vignette outputs ... SKIPPED
* checking PDF version of manual ... OK
* DONE
Status: OK
HiCBricks.Rcheck/00install.out
############################################################################## ############################################################################## ### ### Running command: ### ### /home/biocbuild/bbs-3.12-bioc/R/bin/R CMD INSTALL HiCBricks ### ############################################################################## ############################################################################## * installing to library ‘/home/biocbuild/bbs-3.12-bioc/R/library’ * installing *source* package ‘HiCBricks’ ... ** using staged installation ** R ** inst ** byte-compile and prepare package for lazy loading ** help *** installing help indices ** building package indices ** installing vignettes ** testing if installed package can be loaded from temporary location ** testing if installed package can be loaded from final location ** testing if installed package keeps a record of temporary installation path * DONE (HiCBricks)
HiCBricks.Rcheck/HiCBricks-Ex.timings
| name | user | system | elapsed | |
| BrickContainer_change_experiment_name | 1.452 | 0.044 | 2.647 | |
| BrickContainer_change_output_directory | 1.516 | 0.044 | 1.566 | |
| BrickContainer_get_path_to_file | 1.456 | 0.020 | 1.522 | |
| BrickContainer_list_chromosomes | 1.384 | 0.028 | 1.416 | |
| BrickContainer_list_experiment_name | 1.204 | 0.016 | 2.036 | |
| BrickContainer_list_files | 1.056 | 0.004 | 1.064 | |
| BrickContainer_list_output_directory | 1.360 | 0.020 | 1.383 | |
| BrickContainer_list_resolutions | 1.38 | 0.02 | 1.40 | |
| BrickContainer_unlink_resolution | 2.912 | 0.028 | 2.946 | |
| Brick_add_ranges | 2.644 | 0.032 | 3.673 | |
| Brick_call_compartments | 2.168 | 0.024 | 2.547 | |
| Brick_export_to_sparse | 4.448 | 0.056 | 5.210 | |
| Brick_fetch_range_index | 1.656 | 0.020 | 1.686 | |
| Brick_fetch_row_vector | 2.428 | 0.040 | 2.474 | |
| Brick_get_bintable | 1.336 | 0.004 | 1.856 | |
| Brick_get_chrominfo | 1.216 | 0.000 | 1.277 | |
| Brick_get_entire_matrix | 1.700 | 0.036 | 1.746 | |
| Brick_get_matrix | 1.744 | 0.020 | 1.772 | |
| Brick_get_matrix_mcols | 1.736 | 0.020 | 2.789 | |
| Brick_get_matrix_within_coords | 2.576 | 0.036 | 2.613 | |
| Brick_get_ranges | 1.372 | 0.012 | 1.385 | |
| Brick_get_values_by_distance | 1.852 | 0.040 | 2.191 | |
| Brick_get_vector_values | 1.664 | 0.040 | 1.865 | |
| Brick_list_matrices | 1.384 | 0.020 | 1.418 | |
| Brick_list_matrix_mcols | 1.404 | 0.012 | 1.456 | |
| Brick_list_mcool_normalisations | 0 | 0 | 0 | |
| Brick_list_mcool_resolutions | 0 | 0 | 0 | |
| Brick_list_rangekeys | 1.272 | 0.008 | 1.563 | |
| Brick_list_ranges_mcols | 1.336 | 0.008 | 1.935 | |
| Brick_load_cis_matrix_till_distance | 1.708 | 0.012 | 1.725 | |
| Brick_load_data_from_mcool | 0 | 0 | 0 | |
| Brick_load_data_from_sparse | 0.000 | 0.000 | 0.001 | |
| Brick_load_matrix | 1.676 | 0.032 | 2.576 | |
| Brick_local_score_differentiator | 2.708 | 0.060 | 2.956 | |
| Brick_make_ranges | 0.008 | 0.000 | 0.009 | |
| Brick_matrix_dimensions | 1.400 | 0.040 | 1.442 | |
| Brick_matrix_exists | 1.584 | 0.052 | 2.557 | |
| Brick_matrix_filename | 1.756 | 0.020 | 1.785 | |
| Brick_matrix_isdone | 1.528 | 0.024 | 1.555 | |
| Brick_matrix_issparse | 1.680 | 0.012 | 1.695 | |
| Brick_matrix_maxdist | 1.636 | 0.012 | 1.649 | |
| Brick_matrix_minmax | 1.604 | 0.020 | 2.618 | |
| Brick_mcool_normalisation_exists | 0.000 | 0.000 | 0.001 | |
| Brick_rangekey_exists | 1.356 | 0.020 | 1.381 | |
| Brick_return_region_position | 1.592 | 0.012 | 1.606 | |
| Brick_vizart_plot_heatmap | 3.272 | 0.052 | 4.249 | |
| Create_many_Bricks | 1.432 | 0.008 | 1.442 | |
| Create_many_Bricks_from_mcool | 0 | 0 | 0 | |
| load_BrickContainer | 1.408 | 0.024 | 1.433 | |