| Back to Multiple platform build/check report for BioC 3.12 |
|
This page was generated on 2021-05-06 12:31:22 -0400 (Thu, 06 May 2021).
|
To the developers/maintainers of the FoldGO package: Please make sure to use the following settings in order to reproduce any error or warning you see on this page. |
| Package 645/1974 | Hostname | OS / Arch | INSTALL | BUILD | CHECK | BUILD BIN | ||||||||
| FoldGO 1.8.0 (landing page) Daniil Wiebe
| malbec1 | Linux (Ubuntu 18.04.5 LTS) / x86_64 | OK | OK | OK | |||||||||
| tokay1 | Windows Server 2012 R2 Standard / x64 | OK | OK | OK | OK | |||||||||
| merida1 | macOS 10.14.6 Mojave / x86_64 | OK | OK | OK | OK | |||||||||
| Package: FoldGO |
| Version: 1.8.0 |
| Command: C:\Users\biocbuild\bbs-3.12-bioc\R\bin\R.exe CMD check --force-multiarch --install=check:FoldGO.install-out.txt --library=C:\Users\biocbuild\bbs-3.12-bioc\R\library --no-vignettes --timings FoldGO_1.8.0.tar.gz |
| StartedAt: 2021-05-06 02:54:47 -0400 (Thu, 06 May 2021) |
| EndedAt: 2021-05-06 02:57:56 -0400 (Thu, 06 May 2021) |
| EllapsedTime: 189.4 seconds |
| RetCode: 0 |
| Status: OK |
| CheckDir: FoldGO.Rcheck |
| Warnings: 0 |
##############################################################################
##############################################################################
###
### Running command:
###
### C:\Users\biocbuild\bbs-3.12-bioc\R\bin\R.exe CMD check --force-multiarch --install=check:FoldGO.install-out.txt --library=C:\Users\biocbuild\bbs-3.12-bioc\R\library --no-vignettes --timings FoldGO_1.8.0.tar.gz
###
##############################################################################
##############################################################################
* using log directory 'C:/Users/biocbuild/bbs-3.12-bioc/meat/FoldGO.Rcheck'
* using R version 4.0.5 (2021-03-31)
* using platform: x86_64-w64-mingw32 (64-bit)
* using session charset: ISO8859-1
* using option '--no-vignettes'
* checking for file 'FoldGO/DESCRIPTION' ... OK
* checking extension type ... Package
* this is package 'FoldGO' version '1.8.0'
* package encoding: UTF-8
* checking package namespace information ... OK
* checking package dependencies ... OK
* checking if this is a source package ... OK
* checking if there is a namespace ... OK
* checking for hidden files and directories ... OK
* checking for portable file names ... OK
* checking whether package 'FoldGO' can be installed ... OK
* checking installed package size ... OK
* checking package directory ... OK
* checking 'build' directory ... OK
* checking DESCRIPTION meta-information ... OK
* checking top-level files ... OK
* checking for left-over files ... OK
* checking index information ... OK
* checking package subdirectories ... OK
* checking R files for non-ASCII characters ... OK
* checking R files for syntax errors ... OK
* loading checks for arch 'i386'
** checking whether the package can be loaded ... OK
** checking whether the package can be loaded with stated dependencies ... OK
** checking whether the package can be unloaded cleanly ... OK
** checking whether the namespace can be loaded with stated dependencies ... OK
** checking whether the namespace can be unloaded cleanly ... OK
* loading checks for arch 'x64'
** checking whether the package can be loaded ... OK
** checking whether the package can be loaded with stated dependencies ... OK
** checking whether the package can be unloaded cleanly ... OK
** checking whether the namespace can be loaded with stated dependencies ... OK
** checking whether the namespace can be unloaded cleanly ... OK
* checking dependencies in R code ... OK
* checking S3 generic/method consistency ... OK
* checking replacement functions ... OK
* checking foreign function calls ... OK
* checking R code for possible problems ... OK
* checking Rd files ... OK
* checking Rd metadata ... OK
* checking Rd cross-references ... OK
* checking for missing documentation entries ... OK
* checking for code/documentation mismatches ... OK
* checking Rd \usage sections ... OK
* checking Rd contents ... OK
* checking for unstated dependencies in examples ... OK
* checking contents of 'data' directory ... OK
* checking data for non-ASCII characters ... OK
* checking data for ASCII and uncompressed saves ... OK
* checking files in 'vignettes' ... OK
* checking examples ...
** running examples for arch 'i386' ... OK
Examples with CPU (user + system) or elapsed time > 5s
user system elapsed
plot-FoldSpecTest-ANY-method 6.19 0.00 6.19
fagroupstopgo_class 5.05 0.27 5.43
** running examples for arch 'x64' ... OK
Examples with CPU (user + system) or elapsed time > 5s
user system elapsed
plot-FoldSpecTest-ANY-method 7.64 0.02 7.65
foldspectest_class 5.31 0.00 5.31
fagroupstopgo_class 5.06 0.17 5.24
* checking for unstated dependencies in vignettes ... OK
* checking package vignettes in 'inst/doc' ... OK
* checking running R code from vignettes ... SKIPPED
* checking re-building of vignette outputs ... SKIPPED
* checking PDF version of manual ... OK
* DONE
Status: OK
FoldGO.Rcheck/00install.out
##############################################################################
##############################################################################
###
### Running command:
###
### C:\cygwin\bin\curl.exe -O http://172.29.0.3/BBS/3.12/bioc/src/contrib/FoldGO_1.8.0.tar.gz && rm -rf FoldGO.buildbin-libdir && mkdir FoldGO.buildbin-libdir && C:\Users\biocbuild\bbs-3.12-bioc\R\bin\R.exe CMD INSTALL --merge-multiarch --build --library=FoldGO.buildbin-libdir FoldGO_1.8.0.tar.gz && C:\Users\biocbuild\bbs-3.12-bioc\R\bin\R.exe CMD INSTALL FoldGO_1.8.0.zip && rm FoldGO_1.8.0.tar.gz FoldGO_1.8.0.zip
###
##############################################################################
##############################################################################
% Total % Received % Xferd Average Speed Time Time Time Current
Dload Upload Total Spent Left Speed
0 0 0 0 0 0 0 0 --:--:-- --:--:-- --:--:-- 0
100 1748k 100 1748k 0 0 41.5M 0 --:--:-- --:--:-- --:--:-- 42.6M
install for i386
* installing *source* package 'FoldGO' ...
** using staged installation
** R
** data
*** moving datasets to lazyload DB
** inst
** byte-compile and prepare package for lazy loading
in method for 'getAnnotation' with signature '"MgsaSets"': no definition for class "MgsaSets"
** help
*** installing help indices
converting help for package 'FoldGO'
finding HTML links ... done
examdata_bg html
examdata_degs html
examdata_objs html
fagroupstopgo_class html
foldspectest_class html
gafreader_class html
genegroups_class html
getAnnotation html
getWholeIntName html
plot-FoldSpecTest-ANY-method html
rna_seq_data html
** building package indices
** installing vignettes
** testing if installed package can be loaded from temporary location
** testing if installed package can be loaded from final location
** testing if installed package keeps a record of temporary installation path
install for x64
* installing *source* package 'FoldGO' ...
** testing if installed package can be loaded
* MD5 sums
packaged installation of 'FoldGO' as FoldGO_1.8.0.zip
* DONE (FoldGO)
* installing to library 'C:/Users/biocbuild/bbs-3.12-bioc/R/library'
package 'FoldGO' successfully unpacked and MD5 sums checked
|
FoldGO.Rcheck/examples_i386/FoldGO-Ex.timings
|
FoldGO.Rcheck/examples_x64/FoldGO-Ex.timings
|