| Back to Multiple platform build/check report for BioC 3.12 |
|
This page was generated on 2021-05-06 12:31:22 -0400 (Thu, 06 May 2021).
|
To the developers/maintainers of the FoldGO package: Please make sure to use the following settings in order to reproduce any error or warning you see on this page. |
| Package 645/1974 | Hostname | OS / Arch | INSTALL | BUILD | CHECK | BUILD BIN | ||||||||
| FoldGO 1.8.0 (landing page) Daniil Wiebe
| malbec1 | Linux (Ubuntu 18.04.5 LTS) / x86_64 | OK | OK | OK | |||||||||
| tokay1 | Windows Server 2012 R2 Standard / x64 | OK | OK | OK | OK | |||||||||
| merida1 | macOS 10.14.6 Mojave / x86_64 | OK | OK | OK | OK | |||||||||
| Package: FoldGO |
| Version: 1.8.0 |
| Command: rm -rf FoldGO.buildbin-libdir && mkdir FoldGO.buildbin-libdir && C:\Users\biocbuild\bbs-3.12-bioc\R\bin\R.exe CMD INSTALL --merge-multiarch --build --library=FoldGO.buildbin-libdir FoldGO_1.8.0.tar.gz |
| StartedAt: 2021-05-06 09:06:29 -0400 (Thu, 06 May 2021) |
| EndedAt: 2021-05-06 09:07:08 -0400 (Thu, 06 May 2021) |
| EllapsedTime: 39.0 seconds |
| RetCode: 0 |
| Status: OK |
| PackageFile: FoldGO_1.8.0.zip |
| PackageFileSize: 1.23 MiB |
##############################################################################
##############################################################################
###
### Running command:
###
### rm -rf FoldGO.buildbin-libdir && mkdir FoldGO.buildbin-libdir && C:\Users\biocbuild\bbs-3.12-bioc\R\bin\R.exe CMD INSTALL --merge-multiarch --build --library=FoldGO.buildbin-libdir FoldGO_1.8.0.tar.gz
###
##############################################################################
##############################################################################
install for i386
* installing *source* package 'FoldGO' ...
** using staged installation
** R
** data
*** moving datasets to lazyload DB
** inst
** byte-compile and prepare package for lazy loading
in method for 'getAnnotation' with signature '"MgsaSets"': no definition for class "MgsaSets"
** help
*** installing help indices
converting help for package 'FoldGO'
finding HTML links ... done
examdata_bg html
examdata_degs html
examdata_objs html
fagroupstopgo_class html
foldspectest_class html
gafreader_class html
genegroups_class html
getAnnotation html
getWholeIntName html
plot-FoldSpecTest-ANY-method html
rna_seq_data html
** building package indices
** installing vignettes
** testing if installed package can be loaded from temporary location
** testing if installed package can be loaded from final location
** testing if installed package keeps a record of temporary installation path
install for x64
* installing *source* package 'FoldGO' ...
** testing if installed package can be loaded
* MD5 sums
packaged installation of 'FoldGO' as FoldGO_1.8.0.zip
* DONE (FoldGO)