| Back to Multiple platform build/check report for BioC 3.12 |
|
This page was generated on 2021-05-06 12:34:56 -0400 (Thu, 06 May 2021).
|
To the developers/maintainers of the ExperimentSubset package: Please make sure to use the following settings in order to reproduce any error or warning you see on this page. |
| Package 580/1974 | Hostname | OS / Arch | INSTALL | BUILD | CHECK | BUILD BIN | ||||||||
| ExperimentSubset 1.0.0 (landing page) Irzam Sarfraz
| malbec1 | Linux (Ubuntu 18.04.5 LTS) / x86_64 | OK | OK | OK | |||||||||
| tokay1 | Windows Server 2012 R2 Standard / x64 | OK | OK | OK | OK | |||||||||
| merida1 | macOS 10.14.6 Mojave / x86_64 | OK | OK | OK | OK | |||||||||
| Package: ExperimentSubset |
| Version: 1.0.0 |
| Command: /Library/Frameworks/R.framework/Versions/Current/Resources/bin/R CMD check --install=check:ExperimentSubset.install-out.txt --library=/Library/Frameworks/R.framework/Versions/Current/Resources/library --no-vignettes --timings ExperimentSubset_1.0.0.tar.gz |
| StartedAt: 2021-05-06 01:40:27 -0400 (Thu, 06 May 2021) |
| EndedAt: 2021-05-06 01:45:59 -0400 (Thu, 06 May 2021) |
| EllapsedTime: 331.6 seconds |
| RetCode: 0 |
| Status: OK |
| CheckDir: ExperimentSubset.Rcheck |
| Warnings: 0 |
############################################################################## ############################################################################## ### ### Running command: ### ### /Library/Frameworks/R.framework/Versions/Current/Resources/bin/R CMD check --install=check:ExperimentSubset.install-out.txt --library=/Library/Frameworks/R.framework/Versions/Current/Resources/library --no-vignettes --timings ExperimentSubset_1.0.0.tar.gz ### ############################################################################## ############################################################################## * using log directory ‘/Users/biocbuild/bbs-3.12-bioc/meat/ExperimentSubset.Rcheck’ * using R version 4.0.5 (2021-03-31) * using platform: x86_64-apple-darwin17.0 (64-bit) * using session charset: UTF-8 * using option ‘--no-vignettes’ * checking for file ‘ExperimentSubset/DESCRIPTION’ ... OK * checking extension type ... Package * this is package ‘ExperimentSubset’ version ‘1.0.0’ * package encoding: UTF-8 * checking package namespace information ... OK * checking package dependencies ... OK * checking if this is a source package ... OK * checking if there is a namespace ... OK * checking for hidden files and directories ... OK * checking for portable file names ... OK * checking for sufficient/correct file permissions ... OK * checking whether package ‘ExperimentSubset’ can be installed ... OK * checking installed package size ... OK * checking package directory ... OK * checking ‘build’ directory ... OK * checking DESCRIPTION meta-information ... OK * checking top-level files ... OK * checking for left-over files ... OK * checking index information ... OK * checking package subdirectories ... OK * checking R files for non-ASCII characters ... OK * checking R files for syntax errors ... OK * checking whether the package can be loaded ... OK * checking whether the package can be loaded with stated dependencies ... OK * checking whether the package can be unloaded cleanly ... OK * checking whether the namespace can be loaded with stated dependencies ... OK * checking whether the namespace can be unloaded cleanly ... OK * checking dependencies in R code ... OK * checking S3 generic/method consistency ... OK * checking replacement functions ... OK * checking foreign function calls ... OK * checking R code for possible problems ... OK * checking Rd files ... OK * checking Rd metadata ... OK * checking Rd cross-references ... OK * checking for missing documentation entries ... OK * checking for code/documentation mismatches ... OK * checking Rd \usage sections ... OK * checking Rd contents ... OK * checking for unstated dependencies in examples ... OK * checking files in ‘vignettes’ ... OK * checking examples ... OK * checking for unstated dependencies in ‘tests’ ... OK * checking tests ... Running ‘testthat.R’ OK * checking for unstated dependencies in vignettes ... OK * checking package vignettes in ‘inst/doc’ ... OK * checking running R code from vignettes ... SKIPPED * checking re-building of vignette outputs ... SKIPPED * checking PDF version of manual ... OK * DONE Status: OK
ExperimentSubset.Rcheck/00install.out
############################################################################## ############################################################################## ### ### Running command: ### ### /Library/Frameworks/R.framework/Versions/Current/Resources/bin/R CMD INSTALL ExperimentSubset ### ############################################################################## ############################################################################## * installing to library ‘/Library/Frameworks/R.framework/Versions/4.0/Resources/library’ * installing *source* package ‘ExperimentSubset’ ... ** using staged installation ** R ** byte-compile and prepare package for lazy loading Creating a new generic function for ‘rownames’ in package ‘ExperimentSubset’ Creating a new generic function for ‘rownames<-’ in package ‘ExperimentSubset’ Creating a new generic function for ‘colnames’ in package ‘ExperimentSubset’ Creating a new generic function for ‘colnames<-’ in package ‘ExperimentSubset’ ** help *** installing help indices ** building package indices ** installing vignettes ** testing if installed package can be loaded from temporary location ** testing if installed package can be loaded from final location ** testing if installed package keeps a record of temporary installation path * DONE (ExperimentSubset)
ExperimentSubset.Rcheck/tests/testthat.Rout
R version 4.0.5 (2021-03-31) -- "Shake and Throw"
Copyright (C) 2021 The R Foundation for Statistical Computing
Platform: x86_64-apple-darwin17.0 (64-bit)
R is free software and comes with ABSOLUTELY NO WARRANTY.
You are welcome to redistribute it under certain conditions.
Type 'license()' or 'licence()' for distribution details.
R is a collaborative project with many contributors.
Type 'contributors()' for more information and
'citation()' on how to cite R or R packages in publications.
Type 'demo()' for some demos, 'help()' for on-line help, or
'help.start()' for an HTML browser interface to help.
Type 'q()' to quit R.
> library(testthat)
> library(ExperimentSubset)
Loading required package: SummarizedExperiment
Loading required package: MatrixGenerics
Loading required package: matrixStats
Attaching package: 'MatrixGenerics'
The following objects are masked from 'package:matrixStats':
colAlls, colAnyNAs, colAnys, colAvgsPerRowSet, colCollapse,
colCounts, colCummaxs, colCummins, colCumprods, colCumsums,
colDiffs, colIQRDiffs, colIQRs, colLogSumExps, colMadDiffs,
colMads, colMaxs, colMeans2, colMedians, colMins, colOrderStats,
colProds, colQuantiles, colRanges, colRanks, colSdDiffs, colSds,
colSums2, colTabulates, colVarDiffs, colVars, colWeightedMads,
colWeightedMeans, colWeightedMedians, colWeightedSds,
colWeightedVars, rowAlls, rowAnyNAs, rowAnys, rowAvgsPerColSet,
rowCollapse, rowCounts, rowCummaxs, rowCummins, rowCumprods,
rowCumsums, rowDiffs, rowIQRDiffs, rowIQRs, rowLogSumExps,
rowMadDiffs, rowMads, rowMaxs, rowMeans2, rowMedians, rowMins,
rowOrderStats, rowProds, rowQuantiles, rowRanges, rowRanks,
rowSdDiffs, rowSds, rowSums2, rowTabulates, rowVarDiffs, rowVars,
rowWeightedMads, rowWeightedMeans, rowWeightedMedians,
rowWeightedSds, rowWeightedVars
Loading required package: GenomicRanges
Loading required package: stats4
Loading required package: BiocGenerics
Loading required package: parallel
Attaching package: 'BiocGenerics'
The following objects are masked from 'package:parallel':
clusterApply, clusterApplyLB, clusterCall, clusterEvalQ,
clusterExport, clusterMap, parApply, parCapply, parLapply,
parLapplyLB, parRapply, parSapply, parSapplyLB
The following objects are masked from 'package:stats':
IQR, mad, sd, var, xtabs
The following objects are masked from 'package:base':
Filter, Find, Map, Position, Reduce, anyDuplicated, append,
as.data.frame, basename, cbind, colnames, dirname, do.call,
duplicated, eval, evalq, get, grep, grepl, intersect, is.unsorted,
lapply, mapply, match, mget, order, paste, pmax, pmax.int, pmin,
pmin.int, rank, rbind, rownames, sapply, setdiff, sort, table,
tapply, union, unique, unsplit, which.max, which.min
Loading required package: S4Vectors
Attaching package: 'S4Vectors'
The following object is masked from 'package:base':
expand.grid
Loading required package: IRanges
Loading required package: GenomeInfoDb
Loading required package: Biobase
Welcome to Bioconductor
Vignettes contain introductory material; view with
'browseVignettes()'. To cite Bioconductor, see
'citation("Biobase")', and for packages 'citation("pkgname")'.
Attaching package: 'Biobase'
The following object is masked from 'package:MatrixGenerics':
rowMedians
The following objects are masked from 'package:matrixStats':
anyMissing, rowMedians
Loading required package: SingleCellExperiment
Attaching package: 'ExperimentSubset'
The following objects are masked from 'package:SingleCellExperiment':
altExp, altExp<-, altExpNames, altExpNames<-, altExps, altExps<-,
reducedDim, reducedDim<-, reducedDimNames, reducedDimNames<-,
reducedDims, reducedDims<-
The following object is masked from 'package:SummarizedExperiment':
metadata<-
The following objects are masked from 'package:IRanges':
colnames, colnames<-, rownames, rownames<-
The following objects are masked from 'package:S4Vectors':
colnames, colnames<-, metadata, metadata<-, rownames, rownames<-
The following objects are masked from 'package:BiocGenerics':
colnames, colnames<-, rownames, rownames<-
The following objects are masked from 'package:base':
colnames, colnames<-, rownames, rownames<-
>
> test_check("ExperimentSubset")
Main assay(s):
counts logcounts
Subset(s):
Name Dim Parent Assays
1 subset1 10, 10 counts scaledSubset1
class: ExperimentSubset
root class: SingleCellExperiment
dim: 2000 2000
metadata(0):
assays(2): counts logcounts
rownames(2000): C12orf73 RNU6-1256P ... FOXF1 PRR3
rowData names(1): gene
colnames(2000): CTGCTGTCAGGGTATG CAGTCCTTCGGTTAAC ... GATGCTATCAGCAACT
ATTTCTGGTGATGATA
colData names(11): nGene nUMI ... ident doublet_true_labels
reducedDimNames(0):
altExpNames(0):
subsets(1): subset1
subsetAssays(2): subset1 scaledSubset1[ FAIL 0 | WARN 0 | SKIP 0 | PASS 87 ]
>
> proc.time()
user system elapsed
136.826 5.516 143.422
ExperimentSubset.Rcheck/ExperimentSubset-Ex.timings
| name | user | system | elapsed | |
| ExperimentSubset | 0.615 | 0.040 | 0.656 | |
| altExp-set | 1.191 | 0.019 | 1.211 | |
| altExp | 0.619 | 0.045 | 0.664 | |
| altExpNames-set | 0.501 | 0.010 | 0.511 | |
| altExpNames | 0.430 | 0.008 | 0.438 | |
| altExps-set | 0.995 | 0.009 | 1.006 | |
| altExps | 0.598 | 0.031 | 0.629 | |
| assay-ExperimentSubset-character-method | 0.534 | 0.023 | 0.558 | |
| assay-set-ExperimentSubset-character-method | 0.476 | 0.013 | 0.490 | |
| colnames-set | 0.278 | 0.006 | 0.285 | |
| colnames | 0.286 | 0.007 | 0.294 | |
| createSubset | 0.404 | 0.009 | 0.413 | |
| dim-ExperimentSubset-method | 0.202 | 0.004 | 0.206 | |
| metadata-set | 0.277 | 0.010 | 0.287 | |
| metadata | 0.255 | 0.003 | 0.258 | |
| reducedDim-set | 2.454 | 0.084 | 2.545 | |
| reducedDim | 1.208 | 0.684 | 1.934 | |
| reducedDims-set | 0.712 | 0.011 | 0.722 | |
| reducedDims | 0.887 | 0.017 | 0.957 | |
| rownames-set | 0.306 | 0.005 | 0.311 | |
| rownames | 0.291 | 0.005 | 0.297 | |
| show | 0.896 | 0.013 | 0.910 | |
| storeSubset | 0.585 | 0.009 | 0.596 | |
| subsetAssayCount | 0.317 | 0.004 | 0.321 | |
| subsetAssayNames | 0.299 | 0.014 | 0.314 | |
| subsetCount | 0.281 | 0.007 | 0.288 | |
| subsetDim | 0.259 | 0.005 | 0.265 | |
| subsetNames | 0.260 | 0.006 | 0.265 | |
| subsetParent | 0.308 | 0.007 | 0.315 | |
| subsetSummary | 0.333 | 0.009 | 0.342 | |