| Back to Multiple platform build/check report for BioC 3.12 |
|
This page was generated on 2021-05-06 12:27:31 -0400 (Thu, 06 May 2021).
|
To the developers/maintainers of the ExperimentSubset package: Please make sure to use the following settings in order to reproduce any error or warning you see on this page. |
| Package 580/1974 | Hostname | OS / Arch | INSTALL | BUILD | CHECK | BUILD BIN | ||||||||
| ExperimentSubset 1.0.0 (landing page) Irzam Sarfraz
| malbec1 | Linux (Ubuntu 18.04.5 LTS) / x86_64 | OK | OK | OK | |||||||||
| tokay1 | Windows Server 2012 R2 Standard / x64 | OK | OK | OK | OK | |||||||||
| merida1 | macOS 10.14.6 Mojave / x86_64 | OK | OK | OK | OK | |||||||||
| Package: ExperimentSubset |
| Version: 1.0.0 |
| Command: /home/biocbuild/bbs-3.12-bioc/R/bin/R CMD INSTALL ExperimentSubset |
| StartedAt: 2021-05-05 16:32:17 -0400 (Wed, 05 May 2021) |
| EndedAt: 2021-05-05 16:32:41 -0400 (Wed, 05 May 2021) |
| EllapsedTime: 23.4 seconds |
| RetCode: 0 |
| Status: OK |
############################################################################## ############################################################################## ### ### Running command: ### ### /home/biocbuild/bbs-3.12-bioc/R/bin/R CMD INSTALL ExperimentSubset ### ############################################################################## ############################################################################## * installing to library ‘/home/biocbuild/bbs-3.12-bioc/R/library’ * installing *source* package ‘ExperimentSubset’ ... ** using staged installation ** R ** byte-compile and prepare package for lazy loading Creating a new generic function for ‘rownames’ in package ‘ExperimentSubset’ Creating a new generic function for ‘rownames<-’ in package ‘ExperimentSubset’ Creating a new generic function for ‘colnames’ in package ‘ExperimentSubset’ Creating a new generic function for ‘colnames<-’ in package ‘ExperimentSubset’ ** help *** installing help indices ** building package indices ** installing vignettes ** testing if installed package can be loaded from temporary location ** testing if installed package can be loaded from final location ** testing if installed package keeps a record of temporary installation path * DONE (ExperimentSubset)