| Back to Multiple platform build/check report for BioC 3.12 | 
  | 
This page was generated on 2021-05-06 12:31:02 -0400 (Thu, 06 May 2021).
| 
To the developers/maintainers of the EnrichedHeatmap package: Please make sure to use the following settings in order to reproduce any error or warning you see on this page.  | 
| Package 548/1974 | Hostname | OS / Arch | INSTALL | BUILD | CHECK | BUILD BIN | ||||||||
| EnrichedHeatmap 1.20.0  (landing page) Zuguang Gu 
  | malbec1 | Linux (Ubuntu 18.04.5 LTS) / x86_64 | OK | OK | OK | |||||||||
| tokay1 | Windows Server 2012 R2 Standard / x64 | OK | OK | OK | OK | |||||||||
| merida1 | macOS 10.14.6 Mojave / x86_64 | OK | OK | OK | OK | |||||||||
| Package: EnrichedHeatmap | 
| Version: 1.20.0 | 
| Command: rm -rf EnrichedHeatmap.buildbin-libdir && mkdir EnrichedHeatmap.buildbin-libdir && C:\Users\biocbuild\bbs-3.12-bioc\R\bin\R.exe CMD INSTALL --merge-multiarch --build --library=EnrichedHeatmap.buildbin-libdir EnrichedHeatmap_1.20.0.tar.gz | 
| StartedAt: 2021-05-06 08:59:59 -0400 (Thu, 06 May 2021) | 
| EndedAt: 2021-05-06 09:01:02 -0400 (Thu, 06 May 2021) | 
| EllapsedTime: 62.9 seconds | 
| RetCode: 0 | 
| Status: OK | 
| PackageFile: EnrichedHeatmap_1.20.0.zip | 
| PackageFileSize: 7.246 MiB | 
##############################################################################
##############################################################################
###
### Running command:
###
###   rm -rf EnrichedHeatmap.buildbin-libdir && mkdir EnrichedHeatmap.buildbin-libdir && C:\Users\biocbuild\bbs-3.12-bioc\R\bin\R.exe CMD INSTALL --merge-multiarch --build --library=EnrichedHeatmap.buildbin-libdir EnrichedHeatmap_1.20.0.tar.gz
###
##############################################################################
##############################################################################
install for i386
* installing *source* package 'EnrichedHeatmap' ...
** using staged installation
** libs
"C:/rtools40/mingw32/bin/"g++ -std=gnu++11  -I"C:/Users/BIOCBU~1/BBS-3~1.12-/R/include" -DNDEBUG  -I'C:/Users/biocbuild/bbs-3.12-bioc/R/library/Rcpp/include'   -I"C:/extsoft/include"     -O2 -Wall  -mfpmath=sse -msse2 -mstackrealign -c RcppExports.cpp -o RcppExports.o
"C:/rtools40/mingw32/bin/"g++ -std=gnu++11  -I"C:/Users/BIOCBU~1/BBS-3~1.12-/R/include" -DNDEBUG  -I'C:/Users/biocbuild/bbs-3.12-bioc/R/library/Rcpp/include'   -I"C:/extsoft/include"     -O2 -Wall  -mfpmath=sse -msse2 -mstackrealign -c dist_by_closeness.cpp -o dist_by_closeness.o
C:/rtools40/mingw32/bin/g++ -std=gnu++11 -shared -s -static-libgcc -o EnrichedHeatmap.dll tmp.def RcppExports.o dist_by_closeness.o -LC:/extsoft/lib/i386 -LC:/extsoft/lib -LC:/Users/BIOCBU~1/BBS-3~1.12-/R/bin/i386 -lR
installing to C:/Users/biocbuild/bbs-3.12-bioc/meat/EnrichedHeatmap.buildbin-libdir/00LOCK-EnrichedHeatmap/00new/EnrichedHeatmap/libs/i386
** R
** inst
** byte-compile and prepare package for lazy loading
** help
*** installing help indices
  converting help for package 'EnrichedHeatmap'
    finding HTML links ... done
    EnrichedHeatmap                         html  
    finding level-2 HTML links ... done
    Extract.normalizedMatrix                html  
    anno_enriched                           html  
    as.normalizedMatrix                     html  
    copyAttr                                html  
    default_smooth_fun                      html  
    discretize                              html  
    dist_by_closeness                       html  
    enriched_score                          html  
    extract_anno_enriched                   html  
    failed_rows                             html  
    getSignalsFromList                      html  
    makeWindows                             html  
    normalizeToMatrix                       html  
    print.normalizedMatrix                  html  
    rbind.normalizedMatrix                  html  
** building package indices
** installing vignettes
** testing if installed package can be loaded from temporary location
** testing if installed package can be loaded from final location
** testing if installed package keeps a record of temporary installation path
install for x64
* installing *source* package 'EnrichedHeatmap' ...
** libs
"C:/rtools40/mingw64/bin/"g++ -std=gnu++11  -I"C:/Users/BIOCBU~1/BBS-3~1.12-/R/include" -DNDEBUG  -I'C:/Users/biocbuild/bbs-3.12-bioc/R/library/Rcpp/include'   -I"C:/extsoft/include"     -O2 -Wall  -mfpmath=sse -msse2 -mstackrealign -c RcppExports.cpp -o RcppExports.o
"C:/rtools40/mingw64/bin/"g++ -std=gnu++11  -I"C:/Users/BIOCBU~1/BBS-3~1.12-/R/include" -DNDEBUG  -I'C:/Users/biocbuild/bbs-3.12-bioc/R/library/Rcpp/include'   -I"C:/extsoft/include"     -O2 -Wall  -mfpmath=sse -msse2 -mstackrealign -c dist_by_closeness.cpp -o dist_by_closeness.o
C:/rtools40/mingw64/bin/g++ -std=gnu++11 -shared -s -static-libgcc -o EnrichedHeatmap.dll tmp.def RcppExports.o dist_by_closeness.o -LC:/extsoft/lib/x64 -LC:/extsoft/lib -LC:/Users/BIOCBU~1/BBS-3~1.12-/R/bin/x64 -lR
installing to C:/Users/biocbuild/bbs-3.12-bioc/meat/EnrichedHeatmap.buildbin-libdir/EnrichedHeatmap/libs/x64
** testing if installed package can be loaded
* MD5 sums
packaged installation of 'EnrichedHeatmap' as EnrichedHeatmap_1.20.0.zip
* DONE (EnrichedHeatmap)