| Back to Multiple platform build/check report for BioC 3.12 |
|
This page was generated on 2021-05-06 12:27:29 -0400 (Thu, 06 May 2021).
|
To the developers/maintainers of the EnrichedHeatmap package: Please make sure to use the following settings in order to reproduce any error or warning you see on this page. |
| Package 548/1974 | Hostname | OS / Arch | INSTALL | BUILD | CHECK | BUILD BIN | ||||||||
| EnrichedHeatmap 1.20.0 (landing page) Zuguang Gu
| malbec1 | Linux (Ubuntu 18.04.5 LTS) / x86_64 | OK | OK | OK | |||||||||
| tokay1 | Windows Server 2012 R2 Standard / x64 | OK | OK | OK | OK | |||||||||
| merida1 | macOS 10.14.6 Mojave / x86_64 | OK | OK | OK | OK | |||||||||
| Package: EnrichedHeatmap |
| Version: 1.20.0 |
| Command: /home/biocbuild/bbs-3.12-bioc/R/bin/R CMD check --install=check:EnrichedHeatmap.install-out.txt --library=/home/biocbuild/bbs-3.12-bioc/R/library --no-vignettes --timings EnrichedHeatmap_1.20.0.tar.gz |
| StartedAt: 2021-05-06 01:15:13 -0400 (Thu, 06 May 2021) |
| EndedAt: 2021-05-06 01:17:28 -0400 (Thu, 06 May 2021) |
| EllapsedTime: 135.6 seconds |
| RetCode: 0 |
| Status: OK |
| CheckDir: EnrichedHeatmap.Rcheck |
| Warnings: 0 |
##############################################################################
##############################################################################
###
### Running command:
###
### /home/biocbuild/bbs-3.12-bioc/R/bin/R CMD check --install=check:EnrichedHeatmap.install-out.txt --library=/home/biocbuild/bbs-3.12-bioc/R/library --no-vignettes --timings EnrichedHeatmap_1.20.0.tar.gz
###
##############################################################################
##############################################################################
* using log directory ‘/home/biocbuild/bbs-3.12-bioc/meat/EnrichedHeatmap.Rcheck’
* using R version 4.0.5 (2021-03-31)
* using platform: x86_64-pc-linux-gnu (64-bit)
* using session charset: UTF-8
* using option ‘--no-vignettes’
* checking for file ‘EnrichedHeatmap/DESCRIPTION’ ... OK
* checking extension type ... Package
* this is package ‘EnrichedHeatmap’ version ‘1.20.0’
* checking package namespace information ... OK
* checking package dependencies ... OK
* checking if this is a source package ... OK
* checking if there is a namespace ... OK
* checking for hidden files and directories ... OK
* checking for portable file names ... OK
* checking for sufficient/correct file permissions ... OK
* checking whether package ‘EnrichedHeatmap’ can be installed ... OK
* checking installed package size ... OK
* checking package directory ... OK
* checking ‘build’ directory ... OK
* checking DESCRIPTION meta-information ... OK
* checking top-level files ... OK
* checking for left-over files ... OK
* checking index information ... OK
* checking package subdirectories ... OK
* checking R files for non-ASCII characters ... OK
* checking R files for syntax errors ... OK
* checking whether the package can be loaded ... OK
* checking whether the package can be loaded with stated dependencies ... OK
* checking whether the package can be unloaded cleanly ... OK
* checking whether the namespace can be loaded with stated dependencies ... OK
* checking whether the namespace can be unloaded cleanly ... OK
* checking dependencies in R code ... OK
* checking S3 generic/method consistency ... OK
* checking replacement functions ... OK
* checking foreign function calls ... OK
* checking R code for possible problems ... OK
* checking Rd files ... OK
* checking Rd metadata ... OK
* checking Rd cross-references ... OK
* checking for missing documentation entries ... OK
* checking for code/documentation mismatches ... OK
* checking Rd \usage sections ... OK
* checking Rd contents ... OK
* checking for unstated dependencies in examples ... OK
* checking line endings in C/C++/Fortran sources/headers ... OK
* checking compiled code ... NOTE
Note: information on .o files is not available
* checking files in ‘vignettes’ ... OK
* checking examples ... OK
Examples with CPU (user + system) or elapsed time > 5s
user system elapsed
EnrichedHeatmap 11.488 0.076 11.601
* checking for unstated dependencies in ‘tests’ ... OK
* checking tests ...
Running ‘test-all.R’
OK
* checking for unstated dependencies in vignettes ... OK
* checking package vignettes in ‘inst/doc’ ... OK
* checking running R code from vignettes ... SKIPPED
* checking re-building of vignette outputs ... SKIPPED
* checking PDF version of manual ... OK
* DONE
Status: 1 NOTE
See
‘/home/biocbuild/bbs-3.12-bioc/meat/EnrichedHeatmap.Rcheck/00check.log’
for details.
EnrichedHeatmap.Rcheck/00install.out
############################################################################## ############################################################################## ### ### Running command: ### ### /home/biocbuild/bbs-3.12-bioc/R/bin/R CMD INSTALL EnrichedHeatmap ### ############################################################################## ############################################################################## * installing to library ‘/home/biocbuild/bbs-3.12-bioc/R/library’ * installing *source* package ‘EnrichedHeatmap’ ... ** using staged installation ** libs g++ -std=gnu++11 -I"/home/biocbuild/bbs-3.12-bioc/R/include" -DNDEBUG -I'/home/biocbuild/bbs-3.12-bioc/R/library/Rcpp/include' -I/usr/local/include -fpic -g -O2 -Wall -c RcppExports.cpp -o RcppExports.o g++ -std=gnu++11 -I"/home/biocbuild/bbs-3.12-bioc/R/include" -DNDEBUG -I'/home/biocbuild/bbs-3.12-bioc/R/library/Rcpp/include' -I/usr/local/include -fpic -g -O2 -Wall -c dist_by_closeness.cpp -o dist_by_closeness.o g++ -std=gnu++11 -shared -L/home/biocbuild/bbs-3.12-bioc/R/lib -L/usr/local/lib -o EnrichedHeatmap.so RcppExports.o dist_by_closeness.o -L/home/biocbuild/bbs-3.12-bioc/R/lib -lR installing to /home/biocbuild/bbs-3.12-bioc/R/library/00LOCK-EnrichedHeatmap/00new/EnrichedHeatmap/libs ** R ** inst ** byte-compile and prepare package for lazy loading ** help *** installing help indices ** building package indices ** installing vignettes ** testing if installed package can be loaded from temporary location ** checking absolute paths in shared objects and dynamic libraries ** testing if installed package can be loaded from final location ** testing if installed package keeps a record of temporary installation path * DONE (EnrichedHeatmap)
EnrichedHeatmap.Rcheck/tests/test-all.Rout
R version 4.0.5 (2021-03-31) -- "Shake and Throw"
Copyright (C) 2021 The R Foundation for Statistical Computing
Platform: x86_64-pc-linux-gnu (64-bit)
R is free software and comes with ABSOLUTELY NO WARRANTY.
You are welcome to redistribute it under certain conditions.
Type 'license()' or 'licence()' for distribution details.
R is a collaborative project with many contributors.
Type 'contributors()' for more information and
'citation()' on how to cite R or R packages in publications.
Type 'demo()' for some demos, 'help()' for on-line help, or
'help.start()' for an HTML browser interface to help.
Type 'q()' to quit R.
> library(testthat)
> suppressWarnings(suppressPackageStartupMessages(library(EnrichedHeatmap)))
>
> test_check("EnrichedHeatmap")
[ FAIL 0 | WARN 6 | SKIP 0 | PASS 19 ]
>
> proc.time()
user system elapsed
14.880 0.188 15.086
EnrichedHeatmap.Rcheck/EnrichedHeatmap-Ex.timings
| name | user | system | elapsed | |
| EnrichedHeatmap | 11.488 | 0.076 | 11.601 | |
| Extract.normalizedMatrix | 0 | 0 | 0 | |
| anno_enriched | 3.088 | 0.044 | 3.141 | |
| as.normalizedMatrix | 0 | 0 | 0 | |
| copyAttr | 0.404 | 0.000 | 0.402 | |
| default_smooth_fun | 0 | 0 | 0 | |
| discretize | 0 | 0 | 0 | |
| dist_by_closeness | 0.004 | 0.000 | 0.002 | |
| enriched_score | 0 | 0 | 0 | |
| extract_anno_enriched | 0 | 0 | 0 | |
| failed_rows | 0 | 0 | 0 | |
| getSignalsFromList | 0.000 | 0.000 | 0.001 | |
| makeWindows | 0.268 | 0.000 | 0.268 | |
| normalizeToMatrix | 4.120 | 0.000 | 4.128 | |
| print.normalizedMatrix | 0 | 0 | 0 | |
| rbind.normalizedMatrix | 0.000 | 0.000 | 0.001 | |