| Back to Multiple platform build/check report for BioC 3.12 | 
 | 
This page was generated on 2021-05-06 12:27:25 -0400 (Thu, 06 May 2021).
| To the developers/maintainers of the DRIMSeq package: Please make sure to use the following settings in order to reproduce any error or warning you see on this page. | 
| Package 509/1974 | Hostname | OS / Arch | INSTALL | BUILD | CHECK | BUILD BIN | ||||||||
| DRIMSeq 1.18.0  (landing page) Malgorzata Nowicka 
 | malbec1 | Linux (Ubuntu 18.04.5 LTS) / x86_64 | OK | OK | WARNINGS |  | ||||||||
| tokay1 | Windows Server 2012 R2 Standard / x64 | OK | OK | WARNINGS | OK |  | ||||||||
| merida1 | macOS 10.14.6 Mojave / x86_64 | OK | OK | WARNINGS | OK |  | ||||||||
| Package: DRIMSeq | 
| Version: 1.18.0 | 
| Command: /home/biocbuild/bbs-3.12-bioc/R/bin/R CMD INSTALL DRIMSeq | 
| StartedAt: 2021-05-05 16:20:28 -0400 (Wed, 05 May 2021) | 
| EndedAt: 2021-05-05 16:20:43 -0400 (Wed, 05 May 2021) | 
| EllapsedTime: 15.3 seconds | 
| RetCode: 0 | 
| Status: OK | 
############################################################################## ############################################################################## ### ### Running command: ### ### /home/biocbuild/bbs-3.12-bioc/R/bin/R CMD INSTALL DRIMSeq ### ############################################################################## ############################################################################## * installing to library ‘/home/biocbuild/bbs-3.12-bioc/R/library’ * installing *source* package ‘DRIMSeq’ ... ** using staged installation ** R ** inst ** preparing package for lazy loading Creating a new generic function for ‘proportions’ in package ‘DRIMSeq’ ** help *** installing help indices ** building package indices ** installing vignettes ** testing if installed package can be loaded from temporary location ** testing if installed package can be loaded from final location ** testing if installed package keeps a record of temporary installation path * DONE (DRIMSeq)