| Back to Multiple platform build/check report for BioC 3.12 | 
  | 
This page was generated on 2021-05-06 12:34:37 -0400 (Thu, 06 May 2021).
| 
To the developers/maintainers of the CorMut package: Please make sure to use the following settings in order to reproduce any error or warning you see on this page.  | 
| Package 381/1974 | Hostname | OS / Arch | INSTALL | BUILD | CHECK | BUILD BIN | ||||||||
Zhenpeng Li 
  | malbec1 | Linux (Ubuntu 18.04.5 LTS) / x86_64 | OK | ERROR | skipped | |||||||||
| tokay1 | Windows Server 2012 R2 Standard / x64 | OK | ERROR | skipped | skipped | |||||||||
| merida1 | macOS 10.14.6 Mojave / x86_64 | OK | ERROR | skipped | skipped | |||||||||
| Package: CorMut | 
| Version: 1.32.0 | 
| Command: /Library/Frameworks/R.framework/Versions/Current/Resources/bin/R CMD INSTALL CorMut | 
| StartedAt: 2021-05-05 16:37:01 -0400 (Wed, 05 May 2021) | 
| EndedAt: 2021-05-05 16:37:48 -0400 (Wed, 05 May 2021) | 
| EllapsedTime: 46.8 seconds | 
| RetCode: 0 | 
| Status: OK | 
##############################################################################
##############################################################################
###
### Running command:
###
###   /Library/Frameworks/R.framework/Versions/Current/Resources/bin/R CMD INSTALL CorMut
###
##############################################################################
##############################################################################
* installing to library ‘/Library/Frameworks/R.framework/Versions/4.0/Resources/library’
* installing *source* package ‘CorMut’ ...
** using staged installation
** R
** inst
** byte-compile and prepare package for lazy loading
Warning in .recursiveCallTest(body, fname) :
  the body of the generic function for ‘seq_num.CorMut’ calls 'standardGeneric' to dispatch on a different name ("aslot")!
Warning in .recursiveCallTest(body, fname) :
  the body of the generic function for ‘kaks.CorMut’ calls 'standardGeneric' to dispatch on a different name ("aslot")!
Warning in .recursiveCallTest(body, fname) :
  the body of the generic function for ‘lod.CorMut’ calls 'standardGeneric' to dispatch on a different name ("aslot")!
Warning in .recursiveCallTest(body, fname) :
  the body of the generic function for ‘q.CorMut’ calls 'standardGeneric' to dispatch on a different name ("aslot")!
Warning in .recursiveCallTest(body, fname) :
  the body of the generic function for ‘ka.CorMut’ calls 'standardGeneric' to dispatch on a different name ("aslot")!
Warning in .recursiveCallTest(body, fname) :
  the body of the generic function for ‘ks.CorMut’ calls 'standardGeneric' to dispatch on a different name ("aslot")!
Warning in .recursiveCallTest(body, fname) :
  the body of the generic function for ‘mi.CorMut’ calls 'standardGeneric' to dispatch on a different name ("aslot")!
Warning in .recursiveCallTest(body, fname) :
  the body of the generic function for ‘p.value.CorMut’ calls 'standardGeneric' to dispatch on a different name ("aslot")!
Warning in .recursiveCallTest(body, fname) :
  the body of the generic function for ‘ckaks.CorMut’ calls 'standardGeneric' to dispatch on a different name ("aslot")!
Warning in .recursiveCallTest(body, fname) :
  the body of the generic function for ‘method.CorMut’ calls 'standardGeneric' to dispatch on a different name ("aslot")!
Warning in .recursiveCallTest(body, fname) :
  the body of the generic function for ‘positiveSite01.CorMut’ calls 'standardGeneric' to dispatch on a different name ("aslot")!
Warning in .recursiveCallTest(body, fname) :
  the body of the generic function for ‘positiveSite02.CorMut’ calls 'standardGeneric' to dispatch on a different name ("aslot")!
Warning in .recursiveCallTest(body, fname) :
  the body of the generic function for ‘state_1.CorMut’ calls 'standardGeneric' to dispatch on a different name ("aslot")!
Warning in .recursiveCallTest(body, fname) :
  the body of the generic function for ‘statistic_1.CorMut’ calls 'standardGeneric' to dispatch on a different name ("aslot")!
Warning in .recursiveCallTest(body, fname) :
  the body of the generic function for ‘state_2.CorMut’ calls 'standardGeneric' to dispatch on a different name ("aslot")!
Warning in .recursiveCallTest(body, fname) :
  the body of the generic function for ‘statistic_2.CorMut’ calls 'standardGeneric' to dispatch on a different name ("aslot")!
** help
*** installing help indices
** building package indices
** installing vignettes
** testing if installed package can be loaded from temporary location
Warning: Package 'CorMut' is deprecated and will be removed from Bioconductor
  version 3.13
** testing if installed package can be loaded from final location
Warning: Package 'CorMut' is deprecated and will be removed from Bioconductor
  version 3.13
** testing if installed package keeps a record of temporary installation path
* DONE (CorMut)