| Back to Multiple platform build/check report for BioC 3.12 |
|
This page was generated on 2021-05-06 12:30:07 -0400 (Thu, 06 May 2021).
|
To the developers/maintainers of the CancerSubtypes package: Please make sure to use the following settings in order to reproduce any error or warning you see on this page. |
| Package 231/1974 | Hostname | OS / Arch | INSTALL | BUILD | CHECK | BUILD BIN | ||||||||
| CancerSubtypes 1.16.0 (landing page) Taosheng Xu
| malbec1 | Linux (Ubuntu 18.04.5 LTS) / x86_64 | ERROR | ERROR | skipped | |||||||||
| tokay1 | Windows Server 2012 R2 Standard / x64 | ERROR | ERROR | skipped | skipped | |||||||||
| merida1 | macOS 10.14.6 Mojave / x86_64 | ERROR | ERROR | skipped | skipped | |||||||||
| Package: CancerSubtypes |
| Version: 1.16.0 |
| Command: C:\cygwin\bin\curl.exe -O http://172.29.0.3/BBS/3.12/bioc/src/contrib/CancerSubtypes_1.16.0.tar.gz && rm -rf CancerSubtypes.buildbin-libdir && mkdir CancerSubtypes.buildbin-libdir && C:\Users\biocbuild\bbs-3.12-bioc\R\bin\R.exe CMD INSTALL --merge-multiarch --build --library=CancerSubtypes.buildbin-libdir CancerSubtypes_1.16.0.tar.gz && C:\Users\biocbuild\bbs-3.12-bioc\R\bin\R.exe CMD INSTALL CancerSubtypes_1.16.0.zip && rm CancerSubtypes_1.16.0.tar.gz CancerSubtypes_1.16.0.zip |
| StartedAt: 2021-05-05 19:24:46 -0400 (Wed, 05 May 2021) |
| EndedAt: 2021-05-05 19:24:47 -0400 (Wed, 05 May 2021) |
| EllapsedTime: 0.9 seconds |
| RetCode: 1 |
| Status: ERROR |
##############################################################################
##############################################################################
###
### Running command:
###
### C:\cygwin\bin\curl.exe -O http://172.29.0.3/BBS/3.12/bioc/src/contrib/CancerSubtypes_1.16.0.tar.gz && rm -rf CancerSubtypes.buildbin-libdir && mkdir CancerSubtypes.buildbin-libdir && C:\Users\biocbuild\bbs-3.12-bioc\R\bin\R.exe CMD INSTALL --merge-multiarch --build --library=CancerSubtypes.buildbin-libdir CancerSubtypes_1.16.0.tar.gz && C:\Users\biocbuild\bbs-3.12-bioc\R\bin\R.exe CMD INSTALL CancerSubtypes_1.16.0.zip && rm CancerSubtypes_1.16.0.tar.gz CancerSubtypes_1.16.0.zip
###
##############################################################################
##############################################################################
% Total % Received % Xferd Average Speed Time Time Time Current
Dload Upload Total Spent Left Speed
0 0 0 0 0 0 0 0 --:--:-- --:--:-- --:--:-- 0
100 2100k 100 2100k 0 0 11.3M 0 --:--:-- --:--:-- --:--:-- 11.3M
install for i386
ERROR: dependency 'SNFtool' is not available for package 'CancerSubtypes'
* removing 'C:/Users/biocbuild/bbs-3.12-bioc/meat/CancerSubtypes.buildbin-libdir/CancerSubtypes'