| Back to Multiple platform build/check report for BioC 3.12 |
|
This page was generated on 2021-05-06 12:30:07 -0400 (Thu, 06 May 2021).
|
To the developers/maintainers of the CancerSubtypes package: Please make sure to use the following settings in order to reproduce any error or warning you see on this page. |
| Package 231/1974 | Hostname | OS / Arch | INSTALL | BUILD | CHECK | BUILD BIN | ||||||||
| CancerSubtypes 1.16.0 (landing page) Taosheng Xu
| malbec1 | Linux (Ubuntu 18.04.5 LTS) / x86_64 | ERROR | ERROR | skipped | |||||||||
| tokay1 | Windows Server 2012 R2 Standard / x64 | ERROR | ERROR | skipped | skipped | |||||||||
| merida1 | macOS 10.14.6 Mojave / x86_64 | ERROR | ERROR | skipped | skipped | |||||||||
| Package: CancerSubtypes |
| Version: 1.16.0 |
| Command: chmod a+r CancerSubtypes -R && C:\Users\biocbuild\bbs-3.12-bioc\R\bin\R.exe CMD build --keep-empty-dirs --no-resave-data CancerSubtypes |
| StartedAt: 2021-05-05 20:00:49 -0400 (Wed, 05 May 2021) |
| EndedAt: 2021-05-05 20:00:50 -0400 (Wed, 05 May 2021) |
| EllapsedTime: 1.2 seconds |
| RetCode: 1 |
| Status: ERROR |
| PackageFile: CancerSubtypes_1.16.0.tar.gz |
| PackageFileSize: 2.052 MiB |
##############################################################################
##############################################################################
###
### Running command:
###
### chmod a+r CancerSubtypes -R && C:\Users\biocbuild\bbs-3.12-bioc\R\bin\R.exe CMD build --keep-empty-dirs --no-resave-data CancerSubtypes
###
##############################################################################
##############################################################################
* checking for file 'CancerSubtypes/DESCRIPTION' ... OK
* preparing 'CancerSubtypes':
* checking DESCRIPTION meta-information ... OK
* installing the package to build vignettes
-----------------------------------
ERROR: dependency 'SNFtool' is not available for package 'CancerSubtypes'
* removing 'C:/Users/biocbuild/bbs-3.12-bioc/tmpdir/RtmpqECFAm/Rinst1b6c57c62ffa/CancerSubtypes'
-----------------------------------
ERROR: package installation failed