| Back to Multiple platform build/check report for BioC 3.12 |
|
This page was generated on 2021-05-06 12:30:15 -0400 (Thu, 06 May 2021).
|
To the developers/maintainers of the CHRONOS package: Please make sure to use the following settings in order to reproduce any error or warning you see on this page. |
| Package 302/1974 | Hostname | OS / Arch | INSTALL | BUILD | CHECK | BUILD BIN | ||||||||
| CHRONOS 1.18.0 (landing page) Panos Balomenos
| malbec1 | Linux (Ubuntu 18.04.5 LTS) / x86_64 | OK | OK | OK | |||||||||
| tokay1 | Windows Server 2012 R2 Standard / x64 | OK | OK | OK | OK | |||||||||
| merida1 | macOS 10.14.6 Mojave / x86_64 | OK | OK | OK | OK | |||||||||
| Package: CHRONOS |
| Version: 1.18.0 |
| Command: C:\Users\biocbuild\bbs-3.12-bioc\R\bin\R.exe --arch x64 CMD INSTALL --no-multiarch CHRONOS |
| StartedAt: 2021-05-05 17:21:13 -0400 (Wed, 05 May 2021) |
| EndedAt: 2021-05-05 17:22:06 -0400 (Wed, 05 May 2021) |
| EllapsedTime: 52.6 seconds |
| RetCode: 0 |
| Status: OK |
##############################################################################
##############################################################################
###
### Running command:
###
### C:\Users\biocbuild\bbs-3.12-bioc\R\bin\R.exe --arch x64 CMD INSTALL --no-multiarch CHRONOS
###
##############################################################################
##############################################################################
* installing to library 'C:/Users/biocbuild/bbs-3.12-bioc/R/library'
* installing *source* package 'CHRONOS' ...
** using staged installation
** R
** inst
** byte-compile and prepare package for lazy loading
** help
*** installing help indices
converting help for package 'CHRONOS'
finding HTML links ... done
CHRONOSrun html
convertMiRNANomenclature html
convertNomenclature html
createPathwayGraphs html
downloadKEGGPathwayList html
downloadMiRecords html
downloadPathways html
extractLinearSubpathways html
extractNonLinearSubpathways html
getEdgeTypes html
importExpressions html
pathwayMeasures html
scoreSubpathways html
subpathwayKEGGmap html
subpathwayMiRNAs html
visualizeResults html
** building package indices
** installing vignettes
** testing if installed package can be loaded from temporary location
** testing if installed package can be loaded from final location
** testing if installed package keeps a record of temporary installation path
* DONE (CHRONOS)
Making 'packages.html' ... done