| Back to Multiple platform build/check report for BioC 3.12 |
|
This page was generated on 2021-05-06 12:30:10 -0400 (Thu, 06 May 2021).
|
To the developers/maintainers of the CEMiTool package: Please make sure to use the following settings in order to reproduce any error or warning you see on this page. |
| Package 261/1974 | Hostname | OS / Arch | INSTALL | BUILD | CHECK | BUILD BIN | ||||||||
| CEMiTool 1.14.1 (landing page) Helder Nakaya
| malbec1 | Linux (Ubuntu 18.04.5 LTS) / x86_64 | OK | OK | WARNINGS | |||||||||
| tokay1 | Windows Server 2012 R2 Standard / x64 | OK | OK | WARNINGS | OK | |||||||||
| merida1 | macOS 10.14.6 Mojave / x86_64 | OK | OK | WARNINGS | OK | |||||||||
| Package: CEMiTool |
| Version: 1.14.1 |
| Command: rm -rf CEMiTool.buildbin-libdir && mkdir CEMiTool.buildbin-libdir && C:\Users\biocbuild\bbs-3.12-bioc\R\bin\R.exe CMD INSTALL --merge-multiarch --build --library=CEMiTool.buildbin-libdir CEMiTool_1.14.1.tar.gz |
| StartedAt: 2021-05-06 08:39:39 -0400 (Thu, 06 May 2021) |
| EndedAt: 2021-05-06 08:41:21 -0400 (Thu, 06 May 2021) |
| EllapsedTime: 102.4 seconds |
| RetCode: 0 |
| Status: OK |
| PackageFile: CEMiTool_1.14.1.zip |
| PackageFileSize: 5.061 MiB |
##############################################################################
##############################################################################
###
### Running command:
###
### rm -rf CEMiTool.buildbin-libdir && mkdir CEMiTool.buildbin-libdir && C:\Users\biocbuild\bbs-3.12-bioc\R\bin\R.exe CMD INSTALL --merge-multiarch --build --library=CEMiTool.buildbin-libdir CEMiTool_1.14.1.tar.gz
###
##############################################################################
##############################################################################
install for i386
* installing *source* package 'CEMiTool' ...
** using staged installation
** R
** data
*** moving datasets to lazyload DB
** exec
** inst
** byte-compile and prepare package for lazy loading
Warning: replacing previous import 'ggplot2::annotate' by 'ggpmisc::annotate' when loading 'CEMiTool'
** help
*** installing help indices
converting help for package 'CEMiTool'
finding HTML links ... done
CEMiTool-class html
adj_data html
cem html
cemitool html
diagnostic_report html
expr0 html
expr_data html
expr_pct_filter html
filter_expr html
find_modules html
fit_data html
generate_report html
get_adj html
get_beta_data html
get_cemitool_r2_beta html
get_connectivity html
get_hubs html
get_merged_mods html
get_mods html
get_phi html
gsea_data html
interactions_data html
mod_colors html
mod_gene_num html
mod_gsea html
mod_names html
mod_ora html
mod_summary html
module_genes html
module_to_gmt html
new_cem html
nmodules html
ora_data html
plot_beta_r2 html
plot_gsea html
plot_hist html
plot_interactions html
plot_mean_k html
plot_mean_var html
plot_ora html
plot_ora_single html
plot_profile html
plot_qq html
plot_sample_tree html
read_gmt html
sample_annot html
sample_annotation html
save_plots html
select_genes html
show-CEMiTool-method html
show_plot html
vst html
write_files html
** building package indices
** installing vignettes
** testing if installed package can be loaded from temporary location
Warning: replacing previous import 'ggplot2::annotate' by 'ggpmisc::annotate' when loading 'CEMiTool'
** testing if installed package can be loaded from final location
Warning: replacing previous import 'ggplot2::annotate' by 'ggpmisc::annotate' when loading 'CEMiTool'
** testing if installed package keeps a record of temporary installation path
install for x64
* installing *source* package 'CEMiTool' ...
** testing if installed package can be loaded
Warning: replacing previous import 'ggplot2::annotate' by 'ggpmisc::annotate' when loading 'CEMiTool'
* MD5 sums
packaged installation of 'CEMiTool' as CEMiTool_1.14.1.zip
* DONE (CEMiTool)