| Back to Multiple platform build/check report for BioC 3.12 | 
  | 
This page was generated on 2021-05-06 12:29:52 -0400 (Thu, 06 May 2021).
| 
To the developers/maintainers of the AMOUNTAIN package: Please make sure to use the following settings in order to reproduce any error or warning you see on this page.  | 
| Package 52/1974 | Hostname | OS / Arch | INSTALL | BUILD | CHECK | BUILD BIN | ||||||||
| AMOUNTAIN 1.16.0  (landing page) Dong Li 
  | malbec1 | Linux (Ubuntu 18.04.5 LTS) / x86_64 | OK | OK | OK | |||||||||
| tokay1 | Windows Server 2012 R2 Standard / x64 | OK | OK | OK | OK | |||||||||
| merida1 | macOS 10.14.6 Mojave / x86_64 | OK | OK | OK | OK | |||||||||
| Package: AMOUNTAIN | 
| Version: 1.16.0 | 
| Command: chmod a+r AMOUNTAIN -R && C:\Users\biocbuild\bbs-3.12-bioc\R\bin\R.exe CMD build --keep-empty-dirs --no-resave-data AMOUNTAIN | 
| StartedAt: 2021-05-05 19:30:18 -0400 (Wed, 05 May 2021) | 
| EndedAt: 2021-05-05 19:30:40 -0400 (Wed, 05 May 2021) | 
| EllapsedTime: 22.3 seconds | 
| RetCode: 0 | 
| Status: OK | 
| PackageFile: AMOUNTAIN_1.16.0.tar.gz | 
| PackageFileSize: 1.107 MiB | 
##############################################################################
##############################################################################
###
### Running command:
###
###   chmod a+r AMOUNTAIN -R && C:\Users\biocbuild\bbs-3.12-bioc\R\bin\R.exe CMD build --keep-empty-dirs --no-resave-data AMOUNTAIN
###
##############################################################################
##############################################################################
* checking for file 'AMOUNTAIN/DESCRIPTION' ... OK
* preparing 'AMOUNTAIN':
* checking DESCRIPTION meta-information ... OK
* cleaning src
* installing the package to build vignettes
* creating vignettes ... OK
Warning: 'inst/doc' files
    'AMOUNTAIN.Rmd', 'AMOUNTAIN.html'
  ignored as vignettes have been rebuilt.
  Run R CMD build with --no-build-vignettes to prevent rebuilding.
* cleaning src
* checking for LF line-endings in source and make files and shell scripts
* checking for empty or unneeded directories
* building 'AMOUNTAIN_1.16.0.tar.gz'