| Back to Multiple platform build/check report for BioC 3.12 |
|
This page was generated on 2021-05-06 12:29:52 -0400 (Thu, 06 May 2021).
|
To the developers/maintainers of the AMOUNTAIN package: Please make sure to use the following settings in order to reproduce any error or warning you see on this page. |
| Package 52/1974 | Hostname | OS / Arch | INSTALL | BUILD | CHECK | BUILD BIN | ||||||||
| AMOUNTAIN 1.16.0 (landing page) Dong Li
| malbec1 | Linux (Ubuntu 18.04.5 LTS) / x86_64 | OK | OK | OK | |||||||||
| tokay1 | Windows Server 2012 R2 Standard / x64 | OK | OK | OK | OK | |||||||||
| merida1 | macOS 10.14.6 Mojave / x86_64 | OK | OK | OK | OK | |||||||||
| Package: AMOUNTAIN |
| Version: 1.16.0 |
| Command: rm -rf AMOUNTAIN.buildbin-libdir && mkdir AMOUNTAIN.buildbin-libdir && C:\Users\biocbuild\bbs-3.12-bioc\R\bin\R.exe CMD INSTALL --merge-multiarch --build --library=AMOUNTAIN.buildbin-libdir AMOUNTAIN_1.16.0.tar.gz |
| StartedAt: 2021-05-06 08:25:22 -0400 (Thu, 06 May 2021) |
| EndedAt: 2021-05-06 08:25:47 -0400 (Thu, 06 May 2021) |
| EllapsedTime: 25.6 seconds |
| RetCode: 0 |
| Status: OK |
| PackageFile: AMOUNTAIN_1.16.0.zip |
| PackageFileSize: 1.177 MiB |
##############################################################################
##############################################################################
###
### Running command:
###
### rm -rf AMOUNTAIN.buildbin-libdir && mkdir AMOUNTAIN.buildbin-libdir && C:\Users\biocbuild\bbs-3.12-bioc\R\bin\R.exe CMD INSTALL --merge-multiarch --build --library=AMOUNTAIN.buildbin-libdir AMOUNTAIN_1.16.0.tar.gz
###
##############################################################################
##############################################################################
install for i386
* installing *source* package 'AMOUNTAIN' ...
** using staged installation
** libs
"C:/rtools40/mingw32/bin/"gcc -I"C:/Users/BIOCBU~1/BBS-3~1.12-/R/include" -DNDEBUG -I/src/include -I/i386/include -I"C:/extsoft/include" -O2 -Wall -std=gnu99 -mfpmath=sse -msse2 -mstackrealign -c AMOUNTAIN.c -o AMOUNTAIN.o
C:/rtools40/mingw32/bin/gcc -shared -s -static-libgcc -o AMOUNTAIN.dll tmp.def AMOUNTAIN.o -L/i386/lib -lgsl -lgslcblas -lm -LC:/extsoft/lib/i386 -LC:/extsoft/lib -LC:/Users/BIOCBU~1/BBS-3~1.12-/R/bin/i386 -lR
installing to C:/Users/biocbuild/bbs-3.12-bioc/meat/AMOUNTAIN.buildbin-libdir/00LOCK-AMOUNTAIN/00new/AMOUNTAIN/libs/i386
** R
** inst
** byte-compile and prepare package for lazy loading
** help
*** installing help indices
converting help for package 'AMOUNTAIN'
finding HTML links ... done
CGPFixSS html
CGPFixSSMultiLayer html
CGPFixSSTwolayer html
EuclideanProjectionENNORM html
moduleIdentificationGPFixSS html
moduleIdentificationGPFixSSMultilayer html
moduleIdentificationGPFixSSTwolayer html
multilayernetworkSimulation html
networkSimulation html
twolayernetworkSimulation html
** building package indices
** installing vignettes
** testing if installed package can be loaded from temporary location
** testing if installed package can be loaded from final location
** testing if installed package keeps a record of temporary installation path
install for x64
* installing *source* package 'AMOUNTAIN' ...
** libs
"C:/rtools40/mingw64/bin/"gcc -I"C:/Users/BIOCBU~1/BBS-3~1.12-/R/include" -DNDEBUG -I/src/include -I/x64/include -I"C:/extsoft/include" -O2 -Wall -std=gnu99 -mfpmath=sse -msse2 -mstackrealign -c AMOUNTAIN.c -o AMOUNTAIN.o
C:/rtools40/mingw64/bin/gcc -shared -s -static-libgcc -o AMOUNTAIN.dll tmp.def AMOUNTAIN.o -L/x64/lib -lgsl -lgslcblas -lm -LC:/extsoft/lib/x64 -LC:/extsoft/lib -LC:/Users/BIOCBU~1/BBS-3~1.12-/R/bin/x64 -lR
installing to C:/Users/biocbuild/bbs-3.12-bioc/meat/AMOUNTAIN.buildbin-libdir/AMOUNTAIN/libs/x64
** testing if installed package can be loaded
* MD5 sums
packaged installation of 'AMOUNTAIN' as AMOUNTAIN_1.16.0.zip
* DONE (AMOUNTAIN)