| Back to Workflows build report for BioC 3.11 |
This page was generated on 2019-12-03 18:30:08 -0500 (Tue, 03 Dec 2019).
| Package 3/27 | Hostname | OS / Arch | INSTALL | BUILD | ||||||
| BgeeCall 1.3.0 Julien Wollbrett
| malbec2 | Linux (Ubuntu 18.04.3 LTS) / x86_64 | OK | [ OK ] |
| Package: BgeeCall |
| Version: 1.3.0 |
| Command: /home/biocbuild/bbs-3.11-bioc/R/bin/R CMD build --keep-empty-dirs --no-resave-data BgeeCall |
| StartedAt: 2019-12-03 11:19:09 -0500 (Tue, 03 Dec 2019) |
| EndedAt: 2019-12-03 11:20:23 -0500 (Tue, 03 Dec 2019) |
| EllapsedTime: 73.6 seconds |
| RetCode: 0 |
| Status: OK |
| PackageFile: BgeeCall_1.3.0.tar.gz |
| PackageFileSize: 5.621 MiB |
############################################################################## ############################################################################## ### ### Running command: ### ### /home/biocbuild/bbs-3.11-bioc/R/bin/R CMD build --keep-empty-dirs --no-resave-data BgeeCall ### ############################################################################## ############################################################################## * checking for file ‘BgeeCall/DESCRIPTION’ ... OK * preparing ‘BgeeCall’: * checking DESCRIPTION meta-information ... OK * installing the package to build vignettes * creating vignettes ... OK * checking for LF line-endings in source and make files and shell scripts * checking for empty or unneeded directories * building ‘BgeeCall_1.3.0.tar.gz’