| Back to Multiple platform build/check report for BioC 3.10 |
|
This page was generated on 2020-04-15 12:10:17 -0400 (Wed, 15 Apr 2020).
| Package 1470/1823 | Hostname | OS / Arch | INSTALL | BUILD | CHECK | BUILD BIN | ||||||
| ropls 1.18.8 Etienne A. Thevenot
| malbec1 | Linux (Ubuntu 18.04.4 LTS) / x86_64 | OK | OK | [ OK ] | |||||||
| tokay1 | Windows Server 2012 R2 Standard / x64 | OK | OK | OK | OK | |||||||
| merida1 | OS X 10.11.6 El Capitan / x86_64 | OK | OK | OK | OK |
| Package: ropls |
| Version: 1.18.8 |
| Command: /home/biocbuild/bbs-3.10-bioc/R/bin/R CMD check --install=check:ropls.install-out.txt --library=/home/biocbuild/bbs-3.10-bioc/R/library --no-vignettes --timings ropls_1.18.8.tar.gz |
| StartedAt: 2020-04-15 03:08:40 -0400 (Wed, 15 Apr 2020) |
| EndedAt: 2020-04-15 03:09:53 -0400 (Wed, 15 Apr 2020) |
| EllapsedTime: 73.2 seconds |
| RetCode: 0 |
| Status: OK |
| CheckDir: ropls.Rcheck |
| Warnings: 0 |
##############################################################################
##############################################################################
###
### Running command:
###
### /home/biocbuild/bbs-3.10-bioc/R/bin/R CMD check --install=check:ropls.install-out.txt --library=/home/biocbuild/bbs-3.10-bioc/R/library --no-vignettes --timings ropls_1.18.8.tar.gz
###
##############################################################################
##############################################################################
* using log directory ‘/home/biocbuild/bbs-3.10-bioc/meat/ropls.Rcheck’
* using R version 3.6.3 (2020-02-29)
* using platform: x86_64-pc-linux-gnu (64-bit)
* using session charset: UTF-8
* using option ‘--no-vignettes’
* checking for file ‘ropls/DESCRIPTION’ ... OK
* checking extension type ... Package
* this is package ‘ropls’ version ‘1.18.8’
* package encoding: UTF-8
* checking package namespace information ... OK
* checking package dependencies ... OK
* checking if this is a source package ... OK
* checking if there is a namespace ... OK
* checking for hidden files and directories ... OK
* checking for portable file names ... OK
* checking for sufficient/correct file permissions ... OK
* checking whether package ‘ropls’ can be installed ... OK
* checking installed package size ... OK
* checking package directory ... OK
* checking ‘build’ directory ... OK
* checking DESCRIPTION meta-information ... OK
* checking top-level files ... OK
* checking for left-over files ... OK
* checking index information ... OK
* checking package subdirectories ... OK
* checking R files for non-ASCII characters ... OK
* checking R files for syntax errors ... OK
* checking whether the package can be loaded ... OK
* checking whether the package can be loaded with stated dependencies ... OK
* checking whether the package can be unloaded cleanly ... OK
* checking whether the namespace can be loaded with stated dependencies ... OK
* checking whether the namespace can be unloaded cleanly ... OK
* checking dependencies in R code ... NOTE
Namespace in Imports field not imported from: ‘MultiDataSet’
All declared Imports should be used.
* checking S3 generic/method consistency ... OK
* checking replacement functions ... OK
* checking foreign function calls ... OK
* checking R code for possible problems ... OK
* checking Rd files ... OK
* checking Rd metadata ... OK
* checking Rd cross-references ... OK
* checking for missing documentation entries ... OK
* checking for code/documentation mismatches ... OK
* checking Rd \usage sections ... OK
* checking Rd contents ... OK
* checking for unstated dependencies in examples ... OK
* checking contents of ‘data’ directory ... OK
* checking data for non-ASCII characters ... OK
* checking data for ASCII and uncompressed saves ... OK
* checking files in ‘vignettes’ ... OK
* checking examples ... OK
Examples with CPU or elapsed time > 5s
user system elapsed
getMset 7.916 0.256 8.281
* checking for unstated dependencies in vignettes ... OK
* checking package vignettes in ‘inst/doc’ ... OK
* checking running R code from vignettes ... SKIPPED
* checking re-building of vignette outputs ... SKIPPED
* checking PDF version of manual ... OK
* DONE
Status: 1 NOTE
See
‘/home/biocbuild/bbs-3.10-bioc/meat/ropls.Rcheck/00check.log’
for details.
ropls.Rcheck/00install.out
############################################################################## ############################################################################## ### ### Running command: ### ### /home/biocbuild/bbs-3.10-bioc/R/bin/R CMD INSTALL ropls ### ############################################################################## ############################################################################## * installing to library ‘/home/biocbuild/bbs-3.10-bioc/R/library’ * installing *source* package ‘ropls’ ... ** using staged installation ** R ** data ** inst ** byte-compile and prepare package for lazy loading in method for ‘opls’ with signature ‘x="MultiDataSet"’: no definition for class “MultiDataSet” ** help *** installing help indices ** building package indices ** installing vignettes ** testing if installed package can be loaded from temporary location ** testing if installed package can be loaded from final location ** testing if installed package keeps a record of temporary installation path * DONE (ropls)
ropls.Rcheck/ropls-Ex.timings
| name | user | system | elapsed | |
| checkW4M | 0.168 | 0.012 | 0.184 | |
| coef | 0.80 | 0.02 | 0.82 | |
| fitted | 1.688 | 0.000 | 1.691 | |
| fromW4M | 0.208 | 0.000 | 0.205 | |
| getEset | 0.828 | 0.004 | 0.851 | |
| getLoadingMN | 0.768 | 0.000 | 0.768 | |
| getMset | 7.916 | 0.256 | 8.281 | |
| getPcaVarVn | 0.104 | 0.012 | 0.114 | |
| getScoreMN | 0.900 | 0.000 | 0.902 | |
| getSubsetVi | 0.044 | 0.004 | 0.047 | |
| getSummaryDF | 0.460 | 0.000 | 0.457 | |
| getVipVn | 0.572 | 0.012 | 0.586 | |
| getWeightMN | 0.504 | 0.000 | 0.502 | |
| opls-class | 2.140 | 0.036 | 2.180 | |
| opls | 4.576 | 0.008 | 4.615 | |
| oplsMultiDataSet-class | 0 | 0 | 0 | |
| plot | 4.308 | 0.008 | 4.322 | |
| predict | 0.104 | 0.000 | 0.101 | |
| 1.244 | 0.004 | 1.248 | ||
| residuals | 0.552 | 0.000 | 0.551 | |
| ropls-package | 3.100 | 0.012 | 3.119 | |
| show | 0.468 | 0.004 | 0.472 | |
| tested | 0.052 | 0.000 | 0.052 | |
| toW4M | 0.108 | 0.004 | 0.114 | |
| view | 0.628 | 0.012 | 0.648 | |