| Back to Multiple platform build/check report for BioC 3.10 |
|
This page was generated on 2019-10-02 12:23:16 -0400 (Wed, 02 Oct 2019).
| Package 1290/1778 | Hostname | OS / Arch | INSTALL | BUILD | CHECK | BUILD BIN | ||||||
| proteoQC 1.21.0 Bo Wen
| malbec1 | Linux (Ubuntu 18.04.2 LTS) / x86_64 | OK | OK | OK | |||||||
| tokay1 | Windows Server 2012 R2 Standard / x64 | OK | OK | OK | [ OK ] | |||||||
| merida1 | OS X 10.11.6 El Capitan / x86_64 | OK | OK | OK | OK |
| Package: proteoQC |
| Version: 1.21.0 |
| Command: rm -rf proteoQC.buildbin-libdir && mkdir proteoQC.buildbin-libdir && C:\Users\biocbuild\bbs-3.10-bioc\R\bin\R.exe CMD INSTALL --merge-multiarch --build --library=proteoQC.buildbin-libdir proteoQC_1.21.0.tar.gz |
| StartedAt: 2019-10-02 09:34:35 -0400 (Wed, 02 Oct 2019) |
| EndedAt: 2019-10-02 09:35:07 -0400 (Wed, 02 Oct 2019) |
| EllapsedTime: 31.5 seconds |
| RetCode: 0 |
| Status: OK |
| PackageFile: proteoQC_1.21.0.zip |
| PackageFileSize: 5.574 MiB |
##############################################################################
##############################################################################
###
### Running command:
###
### rm -rf proteoQC.buildbin-libdir && mkdir proteoQC.buildbin-libdir && C:\Users\biocbuild\bbs-3.10-bioc\R\bin\R.exe CMD INSTALL --merge-multiarch --build --library=proteoQC.buildbin-libdir proteoQC_1.21.0.tar.gz
###
##############################################################################
##############################################################################
install for i386
* installing *source* package 'proteoQC' ...
** using staged installation
** R
** inst
** byte-compile and prepare package for lazy loading
** help
*** installing help indices
converting help for package 'proteoQC'
finding HTML links ... done
addSummaryChart html
calcMSQCMetrics html
chargeStat html
cntStat html
combineRun html
createTargetDecoyDB html
getEnzyme html
getMods html
labelRatio html
loadmsQCres html
msQCpipe html
plotBioRepVenn html
plotFractionIDResult html
plotMS1Error html
plotMS2Error html
plotMS2Error_obsolete html
plotSampleIDResultErrorBar html
plotSampleVenn html
plotTechRepVenn html
print.msQCres html
proteinGroup html
reportHTML html
runTandem html
showEnzyme html
showMods html
** building package indices
** installing vignettes
** testing if installed package can be loaded from temporary location
** testing if installed package can be loaded from final location
** testing if installed package keeps a record of temporary installation path
install for x64
* installing *source* package 'proteoQC' ...
** testing if installed package can be loaded
* MD5 sums
packaged installation of 'proteoQC' as proteoQC_1.21.0.zip
* DONE (proteoQC)