| Back to Multiple platform build/check report for BioC 3.10 | 
  | 
This page was generated on 2020-04-15 12:40:09 -0400 (Wed, 15 Apr 2020).
| Package 1322/1823 | Hostname | OS / Arch | INSTALL | BUILD | CHECK | BUILD BIN | ||||||
| proteoQC 1.22.0 Bo Wen 
  | malbec1 | Linux (Ubuntu 18.04.4 LTS) / x86_64 | OK | ERROR | skipped | |||||||
| tokay1 | Windows Server 2012 R2 Standard / x64 | OK | ERROR | skipped | skipped | |||||||
| merida1 | OS X 10.11.6 El Capitan / x86_64 | ERROR | [ ERROR ] | skipped | skipped | 
| Package: proteoQC | 
| Version: 1.22.0 | 
| Command: /Library/Frameworks/R.framework/Versions/Current/Resources/bin/R CMD build --keep-empty-dirs --no-resave-data proteoQC | 
| StartedAt: 2020-04-14 21:06:20 -0400 (Tue, 14 Apr 2020) | 
| EndedAt: 2020-04-14 21:06:21 -0400 (Tue, 14 Apr 2020) | 
| EllapsedTime: 1.0 seconds | 
| RetCode: 1 | 
| Status: ERROR | 
| PackageFile: None | 
| PackageFileSize: NA | 
##############################################################################
##############################################################################
###
### Running command:
###
###   /Library/Frameworks/R.framework/Versions/Current/Resources/bin/R CMD build --keep-empty-dirs --no-resave-data proteoQC
###
##############################################################################
##############################################################################
* checking for file ‘proteoQC/DESCRIPTION’ ... OK
* preparing ‘proteoQC’:
* checking DESCRIPTION meta-information ... OK
* installing the package to build vignettes
      -----------------------------------
ERROR: dependency ‘rTANDEM’ is not available for package ‘proteoQC’
* removing ‘/private/tmp/RtmpO3ah0P/Rinst14e332d60a69a/proteoQC’
      -----------------------------------
ERROR: package installation failed