| Back to Multiple platform build/check report for BioC 3.10 | 
  | 
This page was generated on 2020-04-15 12:33:27 -0400 (Wed, 15 Apr 2020).
| Package 971/1823 | Hostname | OS / Arch | INSTALL | BUILD | CHECK | BUILD BIN | ||||||
| MBQN 1.0.1 Ariane Schad 
  | malbec1 | Linux (Ubuntu 18.04.4 LTS) / x86_64 | OK | OK | OK | |||||||
| tokay1 | Windows Server 2012 R2 Standard / x64 | [ OK ] | OK | OK | OK | |||||||
| merida1 | OS X 10.11.6 El Capitan / x86_64 | OK | OK | OK | OK | 
| Package: MBQN | 
| Version: 1.0.1 | 
| Command: C:\cygwin\bin\curl.exe -O https://malbec1.bioconductor.org/BBS/3.10/bioc/src/contrib/MBQN_1.0.1.tar.gz && rm -rf MBQN.buildbin-libdir && mkdir MBQN.buildbin-libdir && C:\Users\biocbuild\bbs-3.10-bioc\R\bin\R.exe CMD INSTALL --merge-multiarch --build --library=MBQN.buildbin-libdir MBQN_1.0.1.tar.gz && C:\Users\biocbuild\bbs-3.10-bioc\R\bin\R.exe CMD INSTALL MBQN_1.0.1.zip && rm MBQN_1.0.1.tar.gz MBQN_1.0.1.zip | 
| StartedAt: 2020-04-14 19:50:37 -0400 (Tue, 14 Apr 2020) | 
| EndedAt: 2020-04-14 19:51:18 -0400 (Tue, 14 Apr 2020) | 
| EllapsedTime: 40.5 seconds | 
| RetCode: 0 | 
| Status: OK | 
##############################################################################
##############################################################################
###
### Running command:
###
###   C:\cygwin\bin\curl.exe -O https://malbec1.bioconductor.org/BBS/3.10/bioc/src/contrib/MBQN_1.0.1.tar.gz && rm -rf MBQN.buildbin-libdir && mkdir MBQN.buildbin-libdir && C:\Users\biocbuild\bbs-3.10-bioc\R\bin\R.exe CMD INSTALL --merge-multiarch --build --library=MBQN.buildbin-libdir MBQN_1.0.1.tar.gz && C:\Users\biocbuild\bbs-3.10-bioc\R\bin\R.exe CMD INSTALL MBQN_1.0.1.zip && rm MBQN_1.0.1.tar.gz MBQN_1.0.1.zip
###
##############################################################################
##############################################################################
  % Total    % Received % Xferd  Average Speed   Time    Time     Time  Current
                                 Dload  Upload   Total   Spent    Left  Speed
  0     0    0     0    0     0      0      0 --:--:-- --:--:-- --:--:--     0
100 44010  100 44010    0     0   307k      0 --:--:-- --:--:-- --:--:--  316k
install for i386
* installing *source* package 'MBQN' ...
** using staged installation
** R
** inst
** byte-compile and prepare package for lazy loading
** help
*** installing help indices
  converting help for package 'MBQN'
    finding HTML links ... done
    example_NApattern                       html  
    getKminmax                              html  
    getPXDfile                              html  
    getPvalue                               html  
    mbqn                                    html  
    mbqnBoxplot                             html  
    mbqnGetIntersect                        html  
    mbqnGetNRIfeatures                      html  
    mbqnGetThreshold                        html  
    mbqnLoadFile                            html  
    mbqnNRI                                 html  
    mbqnPlotAll                             html  
    mbqnPlotRI                              html  
    mbqnSimuData                            html  
    mbqnSimuDistortion                      html  
    oneSidedTest                            html  
    truncateDecimals                        html  
** building package indices
** installing vignettes
** testing if installed package can be loaded from temporary location
** testing if installed package can be loaded from final location
** testing if installed package keeps a record of temporary installation path
install for x64
* installing *source* package 'MBQN' ...
** testing if installed package can be loaded
* MD5 sums
packaged installation of 'MBQN' as MBQN_1.0.1.zip
* DONE (MBQN)
* installing to library 'C:/Users/biocbuild/bbs-3.10-bioc/R/library'
package 'MBQN' successfully unpacked and MD5 sums checked