| Back to Multiple platform build/check report for BioC 3.10 |
|
This page was generated on 2020-04-15 12:16:25 -0400 (Wed, 15 Apr 2020).
| Package 971/1823 | Hostname | OS / Arch | INSTALL | BUILD | CHECK | BUILD BIN | ||||||
| MBQN 1.0.1 Ariane Schad
| malbec1 | Linux (Ubuntu 18.04.4 LTS) / x86_64 | OK | OK | [ OK ] | |||||||
| tokay1 | Windows Server 2012 R2 Standard / x64 | OK | OK | OK | OK | |||||||
| merida1 | OS X 10.11.6 El Capitan / x86_64 | OK | OK | OK | OK |
| Package: MBQN |
| Version: 1.0.1 |
| Command: /home/biocbuild/bbs-3.10-bioc/R/bin/R CMD check --install=check:MBQN.install-out.txt --library=/home/biocbuild/bbs-3.10-bioc/R/library --no-vignettes --timings MBQN_1.0.1.tar.gz |
| StartedAt: 2020-04-15 07:00:46 -0400 (Wed, 15 Apr 2020) |
| EndedAt: 2020-04-15 07:03:51 -0400 (Wed, 15 Apr 2020) |
| EllapsedTime: 185.1 seconds |
| RetCode: 0 |
| Status: OK |
| CheckDir: MBQN.Rcheck |
| Warnings: 0 |
##############################################################################
##############################################################################
###
### Running command:
###
### /home/biocbuild/bbs-3.10-bioc/R/bin/R CMD check --install=check:MBQN.install-out.txt --library=/home/biocbuild/bbs-3.10-bioc/R/library --no-vignettes --timings MBQN_1.0.1.tar.gz
###
##############################################################################
##############################################################################
* using log directory ‘/home/biocbuild/bbs-3.10-bioc/meat/MBQN.Rcheck’
* using R version 3.6.3 (2020-02-29)
* using platform: x86_64-pc-linux-gnu (64-bit)
* using session charset: UTF-8
* using option ‘--no-vignettes’
* checking for file ‘MBQN/DESCRIPTION’ ... OK
* this is package ‘MBQN’ version ‘1.0.1’
* package encoding: UTF-8
* checking package namespace information ... OK
* checking package dependencies ... OK
* checking if this is a source package ... OK
* checking if there is a namespace ... OK
* checking for hidden files and directories ... OK
* checking for portable file names ... OK
* checking for sufficient/correct file permissions ... OK
* checking whether package ‘MBQN’ can be installed ... OK
* checking installed package size ... OK
* checking package directory ... OK
* checking ‘build’ directory ... OK
* checking DESCRIPTION meta-information ... OK
* checking top-level files ... OK
* checking for left-over files ... OK
* checking index information ... OK
* checking package subdirectories ... OK
* checking R files for non-ASCII characters ... OK
* checking R files for syntax errors ... OK
* checking whether the package can be loaded ... OK
* checking whether the package can be loaded with stated dependencies ... OK
* checking whether the package can be unloaded cleanly ... OK
* checking whether the namespace can be loaded with stated dependencies ... OK
* checking whether the namespace can be unloaded cleanly ... OK
* checking dependencies in R code ... NOTE
Namespace in Imports field not imported from: ‘reshape2’
All declared Imports should be used.
* checking S3 generic/method consistency ... OK
* checking replacement functions ... OK
* checking foreign function calls ... OK
* checking R code for possible problems ... OK
* checking Rd files ... OK
* checking Rd metadata ... OK
* checking Rd cross-references ... OK
* checking for missing documentation entries ... OK
* checking for code/documentation mismatches ... OK
* checking Rd \usage sections ... OK
* checking Rd contents ... OK
* checking for unstated dependencies in examples ... OK
* checking R/sysdata.rda ... OK
* checking files in ‘vignettes’ ... OK
* checking examples ... OK
Examples with CPU or elapsed time > 5s
user system elapsed
getPXDfile 1.172 0.16 10.071
* checking for unstated dependencies in vignettes ... OK
* checking package vignettes in ‘inst/doc’ ... OK
* checking running R code from vignettes ... SKIPPED
* checking re-building of vignette outputs ... SKIPPED
* checking PDF version of manual ... OK
* DONE
Status: 1 NOTE
See
‘/home/biocbuild/bbs-3.10-bioc/meat/MBQN.Rcheck/00check.log’
for details.
MBQN.Rcheck/00install.out
############################################################################## ############################################################################## ### ### Running command: ### ### /home/biocbuild/bbs-3.10-bioc/R/bin/R CMD INSTALL MBQN ### ############################################################################## ############################################################################## * installing to library ‘/home/biocbuild/bbs-3.10-bioc/R/library’ * installing *source* package ‘MBQN’ ... ** using staged installation ** R ** inst ** byte-compile and prepare package for lazy loading ** help *** installing help indices ** building package indices ** installing vignettes ** testing if installed package can be loaded from temporary location ** testing if installed package can be loaded from final location ** testing if installed package keeps a record of temporary installation path * DONE (MBQN)
MBQN.Rcheck/MBQN-Ex.timings
| name | user | system | elapsed | |
| getKminmax | 0.000 | 0.000 | 0.002 | |
| getPXDfile | 1.172 | 0.160 | 10.071 | |
| getPvalue | 0.316 | 0.060 | 0.478 | |
| mbqn | 0.008 | 0.000 | 0.008 | |
| mbqnBoxplot | 0.040 | 0.004 | 0.046 | |
| mbqnGetNRIfeatures | 0.624 | 0.024 | 0.652 | |
| mbqnGetThreshold | 0.452 | 0.008 | 0.459 | |
| mbqnLoadFile | 1.960 | 0.180 | 2.156 | |
| mbqnNRI | 0.008 | 0.000 | 0.007 | |
| mbqnPlotAll | 0.024 | 0.000 | 0.022 | |
| mbqnPlotRI | 0.484 | 0.012 | 0.497 | |
| mbqnSimuData | 0.664 | 0.144 | 0.808 | |
| mbqnSimuDistortion | 0.020 | 0.000 | 0.019 | |
| truncateDecimals | 0 | 0 | 0 | |