| name | user | system | elapsed
|
| CytoscapeConnection | 0.11 | 0.08 | 0.29 |
|
| CytoscapeConnectionClass-class | 0 | 0 | 0 |
|
| CytoscapeWindow | 0.06 | 0.00 | 0.08 |
|
| CytoscapeWindowClass-class | 0.08 | 0.00 | 0.11 |
|
| addCyEdge | 0.30 | 0.00 | 6.59 |
|
| addCyNode | 0.25 | 0.03 | 6.56 |
|
| addGraphToGraph | 0.40 | 0.02 | 8.91 |
|
| clearMsg | 0 | 0 | 0 |
|
| clearSelection | 0.28 | 0.01 | 6.34 |
|
| copyVisualStyle | 0.26 | 0.02 | 7.43 |
|
| createWindowFromSelection | 1.19 | 0.03 | 7.86 |
|
| cy2.edge.names | 0.02 | 0.00 | 0.02 |
|
| deleteAllWindows | 0.34 | 0.02 | 1.20 |
|
| deleteEdgeAttribute | 0.22 | 0.00 | 6.57 |
|
| deleteNodeAttribute | 0.25 | 0.00 | 6.53 |
|
| deleteSelectedEdges | 0.28 | 0.01 | 6.57 |
|
| deleteSelectedNodes | 0.33 | 0.00 | 6.60 |
|
| deleteWindow | 0.31 | 0.03 | 6.70 |
|
| demoSimpleGraph | 0.35 | 0.02 | 12.88 |
|
| displayGraph | 0.26 | 0.01 | 6.56 |
|
| dockPanel | 0.02 | 0.00 | 0.03 |
|
| eda | 0.01 | 0.00 | 0.02 |
|
| eda.names | 0.02 | 0.00 | 0.01 |
|
| existing.CytoscapeWindow | 0.98 | 0.02 | 7.13 |
|
| fitContent | 0.28 | 0.00 | 6.54 |
|
| fitSelectedContent | 0.32 | 0.00 | 6.60 |
|
| floatPanel | 0.00 | 0.02 | 0.08 |
|
| getAllEdgeAttributes | 0.26 | 0.01 | 6.51 |
|
| getAllEdges | 0.06 | 0.00 | 0.11 |
|
| getAllNodeAttributes | 0.24 | 0.03 | 6.55 |
|
| getAllNodes | 0.06 | 0.02 | 0.11 |
|
| getArrowShapes | 0.02 | 0.00 | 0.01 |
|
| getAttributeClassNames | 0 | 0 | 0 |
|
| getCenter | 0.26 | 0.00 | 6.52 |
|
| getDefaultBackgroundColor | 0.02 | 0.00 | 0.01 |
|
| getDefaultEdgeReverseSelectionColor | 0 | 0 | 0 |
|
| getDefaultEdgeSelectionColor | 0 | 0 | 0 |
|
| getDefaultNodeReverseSelectionColor | 0.02 | 0.00 | 0.01 |
|
| getDefaultNodeSelectionColor | 0.01 | 0.00 | 0.02 |
|
| getDirectlyModifiableVisualProperties | 0.02 | 0.00 | 0.02 |
|
| getEdgeAttribute | 0.27 | 0.00 | 6.56 |
|
| getEdgeAttributeNames | 0.01 | 0.00 | 0.01 |
|
| getEdgeCount | 0.25 | 0.00 | 6.54 |
|
| getFirstNeighbors | 0.33 | 0.00 | 6.60 |
|
| getGraph | 0.11 | 0.00 | 0.13 |
|
| getGraphFromCyWindow | 0.89 | 0.05 | 7.36 |
|
| getLayoutNameMapping | 0.03 | 0.00 | 0.03 |
|
| getLayoutNames | 0.02 | 0.00 | 0.02 |
|
| getLayoutPropertyNames | 0.01 | 0.00 | 0.01 |
|
| getLayoutPropertyType | 0.11 | 0.00 | 0.11 |
|
| getLayoutPropertyValue | 0.10 | 0.00 | 0.11 |
|
| getLineStyles | 0.01 | 0.00 | 0.02 |
|
| getNodeAttribute | 0.25 | 0.01 | 6.53 |
|
| getNodeAttributeNames | 0.02 | 0.00 | 0.01 |
|
| getNodeCount | 0.29 | 0.00 | 6.53 |
|
| getNodeShapes | 0.02 | 0.00 | 0.02 |
|
| getPosition | 0.30 | 0.00 | 6.58 |
|
| getSelectedEdgeCount | 0.28 | 0.03 | 6.59 |
|
| getSelectedEdges | 0.29 | 0.00 | 6.53 |
|
| getSelectedNodeCount | 0.32 | 0.00 | 6.61 |
|
| getSelectedNodes | 0.36 | 0.00 | 6.66 |
|
| getViewCoordinates | 0.29 | 0.00 | 6.55 |
|
| getVisualStyleNames | 0 | 0 | 0 |
|
| getWindowCount | 0.24 | 0.00 | 0.29 |
|
| getWindowID | 0.29 | 0.00 | 6.39 |
|
| getWindowList | 0.14 | 0.00 | 0.15 |
|
| getZoom | 0.28 | 0.02 | 6.58 |
|
| hideAllPanels | 0.19 | 0.01 | 0.38 |
|
| hideNodes | 0.17 | 0.00 | 0.23 |
|
| hidePanel | 0.02 | 0.00 | 0.02 |
|
| hideSelectedEdges | 0.17 | 0.02 | 0.47 |
|
| hideSelectedNodes | 0.20 | 0.01 | 0.25 |
|
| initEdgeAttribute | 0 | 0 | 0 |
|
| initNodeAttribute | 0 | 0 | 0 |
|
| invertEdgeSelection | 0.13 | 0.00 | 0.18 |
|
| invertNodeSelection | 0.17 | 0.00 | 0.21 |
|
| layout | 0.31 | 0.00 | 6.62 |
|
| lockNodeDimensions | 0.31 | 0.02 | 6.63 |
|
| makeRandomGraph | 0.02 | 0.00 | 0.01 |
|
| makeSimpleGraph | 0.01 | 0.00 | 0.02 |
|
| msg | 0.02 | 0.00 | 0.01 |
|
| new.CytoscapeWindow | 0.11 | 0.00 | 0.16 |
|
| noa | 0.02 | 0.00 | 0.02 |
|
| noa.names | 0.01 | 0.00 | 0.01 |
|
| ping | 0.02 | 0.00 | 0.03 |
|
| raiseWindow | 0.14 | 0.00 | 0.17 |
|
| redraw | 0.12 | 0.00 | 0.16 |
|
| restoreLayout | 0.39 | 0.00 | 8.91 |
|
| saveImage | 0.32 | 0.02 | 6.64 |
|
| saveLayout | 0.40 | 0.00 | 8.87 |
|
| saveNetwork | 0.31 | 0.00 | 6.58 |
|
| selectEdges | 0.36 | 0.00 | 6.73 |
|
| selectFirstNeighborsOfSelectedNodes | 0.49 | 0.02 | 6.77 |
|
| selectNodes | 0.20 | 0.01 | 0.25 |
|
| sendEdges | 0.22 | 0.00 | 2.23 |
|
| sendNodes | 0.16 | 0.00 | 0.20 |
|
| setCenter | 0.39 | 0.00 | 12.71 |
|
| setDefaultBackgroundColor | 0 | 0 | 0 |
|
| setDefaultEdgeColor | 0.39 | 0.00 | 6.64 |
|
| setDefaultEdgeLineWidth | 0.36 | 0.02 | 6.71 |
|
| setDefaultEdgeReverseSelectionColor | 0.02 | 0.00 | 0.01 |
|
| setDefaultEdgeSelectionColor | 0.00 | 0.00 | 0.02 |
|
| setDefaultNodeBorderColor | 0.34 | 0.01 | 6.61 |
|
| setDefaultNodeBorderWidth | 0.36 | 0.00 | 6.68 |
|
| setDefaultNodeColor | 0.38 | 0.00 | 6.65 |
|
| setDefaultNodeFontSize | 0.39 | 0.00 | 6.67 |
|
| setDefaultNodeLabelColor | 0.34 | 0.00 | 6.65 |
|
| setDefaultNodeReverseSelectionColor | 0.00 | 0.02 | 0.02 |
|
| setDefaultNodeSelectionColor | 0.02 | 0.00 | 0.01 |
|
| setDefaultNodeShape | 0.45 | 0.00 | 6.71 |
|
| setDefaultNodeSize | 0.42 | 0.00 | 6.67 |
|
| setEdgeAttributes | 0.34 | 0.00 | 4.37 |
|
| setEdgeAttributesDirect | 0.19 | 0.00 | 2.22 |
|
| setEdgeColorDirect | 0.39 | 0.00 | 6.69 |
|
| setEdgeColorRule | 0.28 | 0.00 | 6.36 |
|
| setEdgeFontSizeDirect | 1.07 | 0.03 | 7.97 |
|
| setEdgeLabelColorDirect | 0.53 | 0.02 | 6.89 |
|
| setEdgeLabelDirect | 0.92 | 0.06 | 7.34 |
|
| setEdgeLabelOpacityDirect | 0.97 | 0.01 | 7.32 |
|
| setEdgeLabelRule | 0.37 | 0.00 | 6.67 |
|
| setEdgeLabelWidthDirect | 1.08 | 0.02 | 7.45 |
|
| setEdgeLineStyleDirect | 1.03 | 0.02 | 7.49 |
|
| setEdgeLineStyleRule | 0.21 | 0.00 | 2.25 |
|
| setEdgeLineWidthDirect | 0.67 | 0.01 | 7.04 |
|
| setEdgeLineWidthRule | 0.39 | 0.00 | 8.67 |
|
| setEdgeOpacityDirect | 0.69 | 0.02 | 47.30 |
|
| setEdgeSourceArrowColorDirect | 0.57 | 0.00 | 14.89 |
|
| setEdgeSourceArrowColorRule | 0.22 | 0.00 | 2.24 |
|
| setEdgeSourceArrowOpacityDirect | 0.69 | 0.03 | 14.11 |
|
| setEdgeSourceArrowRule | 0.27 | 0.00 | 2.28 |
|
| setEdgeSourceArrowShapeDirect | 0.78 | 0.06 | 16.17 |
|
| setEdgeTargetArrowColorDirect | 0.51 | 0.03 | 15.00 |
|
| setEdgeTargetArrowColorRule | 0.22 | 0.00 | 2.26 |
|
| setEdgeTargetArrowOpacityDirect | 0.91 | 0.00 | 7.43 |
|
| setEdgeTargetArrowRule | 0.26 | 0.00 | 2.28 |
|
| setEdgeTargetArrowShapeDirect | 0.77 | 0.05 | 16.17 |
|
| setEdgeTooltipDirect | 0.55 | 0.00 | 7.83 |
|
| setEdgeTooltipRule | 0.42 | 0.00 | 8.79 |
|
| setGraph | 0.25 | 0.00 | 0.29 |
|
| setLayoutProperties | 0.04 | 0.01 | 0.07 |
|
| setNodeAttributes | 0.30 | 0.00 | 0.35 |
|
| setNodeAttributesDirect | 0.25 | 0.00 | 0.31 |
|
| setNodeBorderColorDirect | 0.42 | 0.02 | 6.76 |
|
| setNodeBorderColorRule | 0.30 | 0.00 | 4.33 |
|
| setNodeBorderOpacityDirect | 0.42 | 0.03 | 6.73 |
|
| setNodeBorderWidthDirect | 0.48 | 0.02 | 6.75 |
|
| setNodeBorderWidthRule | 0.45 | 0.00 | 8.83 |
|
| setNodeColorDirect | 0.45 | 0.00 | 6.75 |
|
| setNodeColorRule | 0.30 | 0.01 | 4.34 |
|
| setNodeFillOpacityDirect | 0.44 | 0.00 | 6.77 |
|
| setNodeFontSizeDirect | 0.45 | 0.02 | 6.73 |
|
| setNodeHeightDirect | 0.50 | 0.00 | 6.88 |
|
| setNodeImageDirect | 0.47 | 0.00 | 6.81 |
|
| setNodeLabelColorDirect | 0.42 | 0.01 | 6.81 |
|
| setNodeLabelDirect | 0.46 | 0.00 | 6.75 |
|
| setNodeLabelOpacityDirect | 0.46 | 0.00 | 6.87 |
|
| setNodeLabelRule | 0.54 | 0.00 | 6.88 |
|
| setNodeOpacityDirect | 0.45 | 0.00 | 8.76 |
|
| setNodeShapeDirect | 0.48 | 0.00 | 6.75 |
|
| setNodeShapeRule | 0.32 | 0.00 | 2.36 |
|
| setNodeSizeDirect | 0.53 | 0.02 | 6.99 |
|
| setNodeSizeRule | 0.57 | 0.00 | 12.84 |
|
| setNodeTooltipRule | 0.46 | 0.01 | 12.78 |
|
| setNodeWidthDirect | 0.48 | 0.00 | 6.77 |
|
| setPosition | 0.49 | 0.00 | 8.86 |
|
| setTooltipDismissDelay | 0.47 | 0.00 | 10.89 |
|
| setTooltipInitialDelay | 0.51 | 0.02 | 10.79 |
|
| setVisualStyle | 0.67 | 0.00 | 10.69 |
|
| setWindowSize | 0.50 | 0.03 | 9.25 |
|
| setZoom | 0.50 | 0.00 | 9.17 |
|
| showGraphicsDetails | 0 | 0 | 0 |
|
| unhideAll | 0.57 | 0.00 | 9.05 |
|
| validCyWin | 0.31 | 0.00 | 0.33 |
|
| version | 0.01 | 0.00 | 0.01 |
|