| name | user | system | elapsed
|
| CytoscapeConnection | 0.17 | 0.06 | 0.27 |
|
| CytoscapeConnectionClass-class | 0 | 0 | 0 |
|
| CytoscapeWindow | 0.02 | 0.00 | 0.08 |
|
| CytoscapeWindowClass-class | 0.05 | 0.00 | 0.12 |
|
| addCyEdge | 0.32 | 0.00 | 3.73 |
|
| addCyNode | 0.27 | 0.02 | 3.62 |
|
| addGraphToGraph | 0.54 | 0.00 | 5.13 |
|
| clearMsg | 0.02 | 0.00 | 0.02 |
|
| clearSelection | 0.42 | 0.03 | 3.59 |
|
| copyVisualStyle | 0.34 | 0.03 | 4.89 |
|
| createWindowFromSelection | 1.30 | 0.03 | 5.15 |
|
| cy2.edge.names | 0.01 | 0.00 | 0.01 |
|
| deleteAllWindows | 0.49 | 0.00 | 1.17 |
|
| deleteEdgeAttribute | 0.29 | 0.00 | 3.68 |
|
| deleteNodeAttribute | 0.36 | 0.00 | 3.73 |
|
| deleteSelectedEdges | 0.32 | 0.06 | 3.71 |
|
| deleteSelectedNodes | 0.29 | 0.00 | 3.65 |
|
| deleteWindow | 0.28 | 0.02 | 3.82 |
|
| demoSimpleGraph | 0.31 | 0.01 | 7.29 |
|
| displayGraph | 0.24 | 0.00 | 3.67 |
|
| dockPanel | 0.03 | 0.00 | 0.04 |
|
| eda | 0.02 | 0.00 | 0.02 |
|
| eda.names | 0.01 | 0.00 | 0.01 |
|
| existing.CytoscapeWindow | 0.63 | 0.03 | 4.25 |
|
| fitContent | 0.24 | 0.02 | 3.66 |
|
| fitSelectedContent | 0.29 | 0.00 | 3.81 |
|
| floatPanel | 0.04 | 0.00 | 0.07 |
|
| getAllEdgeAttributes | 0.30 | 0.00 | 3.79 |
|
| getAllEdges | 0.11 | 0.00 | 0.14 |
|
| getAllNodeAttributes | 0.37 | 0.00 | 3.72 |
|
| getAllNodes | 0.08 | 0.02 | 0.11 |
|
| getArrowShapes | 0.02 | 0.00 | 0.02 |
|
| getAttributeClassNames | 0 | 0 | 0 |
|
| getCenter | 0.32 | 0.00 | 3.65 |
|
| getDefaultBackgroundColor | 0.02 | 0.00 | 0.02 |
|
| getDefaultEdgeReverseSelectionColor | 0.01 | 0.00 | 0.01 |
|
| getDefaultEdgeSelectionColor | 0.02 | 0.00 | 0.02 |
|
| getDefaultNodeReverseSelectionColor | 0.02 | 0.00 | 0.01 |
|
| getDefaultNodeSelectionColor | 0.01 | 0.00 | 0.02 |
|
| getDirectlyModifiableVisualProperties | 0.03 | 0.00 | 0.03 |
|
| getEdgeAttribute | 0.36 | 0.00 | 3.73 |
|
| getEdgeAttributeNames | 0.00 | 0.00 | 0.01 |
|
| getEdgeCount | 0.45 | 0.00 | 3.81 |
|
| getFirstNeighbors | 0.47 | 0.01 | 3.79 |
|
| getGraph | 0.16 | 0.00 | 0.17 |
|
| getGraphFromCyWindow | 1.07 | 0.00 | 4.65 |
|
| getLayoutNameMapping | 0.02 | 0.00 | 0.01 |
|
| getLayoutNames | 0.01 | 0.00 | 0.02 |
|
| getLayoutPropertyNames | 0.02 | 0.00 | 0.03 |
|
| getLayoutPropertyType | 0.03 | 0.00 | 0.12 |
|
| getLayoutPropertyValue | 0.08 | 0.03 | 0.11 |
|
| getLineStyles | 0.00 | 0.02 | 0.02 |
|
| getNodeAttribute | 0.35 | 0.01 | 3.66 |
|
| getNodeAttributeNames | 0.02 | 0.00 | 0.02 |
|
| getNodeCount | 0.44 | 0.00 | 3.78 |
|
| getNodeShapes | 0.01 | 0.00 | 0.01 |
|
| getPosition | 0.44 | 0.00 | 3.74 |
|
| getSelectedEdgeCount | 0.41 | 0.00 | 3.86 |
|
| getSelectedEdges | 0.42 | 0.00 | 3.82 |
|
| getSelectedNodeCount | 0.49 | 0.02 | 3.85 |
|
| getSelectedNodes | 0.56 | 0.00 | 3.91 |
|
| getViewCoordinates | 0.45 | 0.00 | 3.81 |
|
| getVisualStyleNames | 0.02 | 0.00 | 0.02 |
|
| getWindowCount | 0.34 | 0.01 | 0.46 |
|
| getWindowID | 0.58 | 0.02 | 3.69 |
|
| getWindowList | 0.14 | 0.00 | 0.14 |
|
| getZoom | 0.46 | 0.00 | 3.83 |
|
| hideAllPanels | 0.41 | 0.00 | 0.58 |
|
| hideNodes | 0.36 | 0.00 | 0.41 |
|
| hidePanel | 0.01 | 0.00 | 0.03 |
|
| hideSelectedEdges | 0.30 | 0.00 | 0.64 |
|
| hideSelectedNodes | 0.30 | 0.00 | 0.34 |
|
| initEdgeAttribute | 0 | 0 | 0 |
|
| initNodeAttribute | 0 | 0 | 0 |
|
| invertEdgeSelection | 0.25 | 0.00 | 0.29 |
|
| invertNodeSelection | 0.30 | 0.00 | 0.35 |
|
| layout | 0.53 | 0.00 | 3.83 |
|
| lockNodeDimensions | 0.53 | 0.00 | 3.87 |
|
| makeRandomGraph | 0.01 | 0.00 | 0.02 |
|
| makeSimpleGraph | 0.02 | 0.00 | 0.01 |
|
| msg | 0.02 | 0.00 | 0.02 |
|
| new.CytoscapeWindow | 0.12 | 0.00 | 0.17 |
|
| noa | 0.02 | 0.00 | 0.02 |
|
| noa.names | 0 | 0 | 0 |
|
| ping | 0.01 | 0.00 | 0.03 |
|
| raiseWindow | 0.16 | 0.00 | 0.19 |
|
| redraw | 0.15 | 0.00 | 0.18 |
|
| restoreLayout | 0.36 | 0.00 | 5.10 |
|
| saveImage | 0.37 | 0.02 | 3.70 |
|
| saveLayout | 0.39 | 0.00 | 4.99 |
|
| saveNetwork | 0.41 | 0.00 | 3.77 |
|
| selectEdges | 0.34 | 0.00 | 3.83 |
|
| selectFirstNeighborsOfSelectedNodes | 0.52 | 0.00 | 3.94 |
|
| selectNodes | 0.21 | 0.03 | 0.32 |
|
| sendEdges | 0.19 | 0.00 | 1.26 |
|
| sendNodes | 0.16 | 0.00 | 0.20 |
|
| setCenter | 0.43 | 0.01 | 9.75 |
|
| setDefaultBackgroundColor | 0.02 | 0.00 | 0.02 |
|
| setDefaultEdgeColor | 0.42 | 0.02 | 3.76 |
|
| setDefaultEdgeLineWidth | 0.41 | 0.01 | 3.74 |
|
| setDefaultEdgeReverseSelectionColor | 0 | 0 | 0 |
|
| setDefaultEdgeSelectionColor | 0.01 | 0.00 | 0.02 |
|
| setDefaultNodeBorderColor | 0.49 | 0.00 | 3.88 |
|
| setDefaultNodeBorderWidth | 0.51 | 0.00 | 3.84 |
|
| setDefaultNodeColor | 0.41 | 0.00 | 3.78 |
|
| setDefaultNodeFontSize | 0.42 | 0.07 | 3.79 |
|
| setDefaultNodeLabelColor | 0.40 | 0.01 | 3.76 |
|
| setDefaultNodeReverseSelectionColor | 0.00 | 0.00 | 0.01 |
|
| setDefaultNodeSelectionColor | 0.02 | 0.00 | 0.02 |
|
| setDefaultNodeShape | 0.56 | 0.00 | 3.90 |
|
| setDefaultNodeSize | 0.50 | 0.00 | 3.93 |
|
| setEdgeAttributes | 0.25 | 0.00 | 2.31 |
|
| setEdgeAttributesDirect | 0.23 | 0.00 | 1.28 |
|
| setEdgeColorDirect | 0.46 | 0.02 | 3.80 |
|
| setEdgeColorRule | 0.46 | 0.01 | 3.52 |
|
| setEdgeFontSizeDirect | 1.57 | 0.07 | 5.67 |
|
| setEdgeLabelColorDirect | 0.47 | 0.04 | 3.94 |
|
| setEdgeLabelDirect | 1.42 | 0.02 | 5.01 |
|
| setEdgeLabelOpacityDirect | 1.18 | 0.04 | 4.90 |
|
| setEdgeLabelRule | 0.49 | 0.00 | 3.90 |
|
| setEdgeLabelWidthDirect | 1.35 | 0.02 | 4.85 |
|
| setEdgeLineStyleDirect | 1.61 | 0.05 | 5.15 |
|
| setEdgeLineStyleRule | 0.36 | 0.00 | 1.42 |
|
| setEdgeLineWidthDirect | 0.89 | 0.04 | 4.41 |
|
| setEdgeLineWidthRule | 0.41 | 0.00 | 4.92 |
|
| setEdgeOpacityDirect | 0.78 | 0.02 | 24.60 |
|
| setEdgeSourceArrowColorDirect | 0.74 | 0.00 | 10.28 |
|
| setEdgeSourceArrowColorRule | 0.27 | 0.00 | 1.31 |
|
| setEdgeSourceArrowOpacityDirect | 0.89 | 0.00 | 11.67 |
|
| setEdgeSourceArrowRule | 0.36 | 0.00 | 1.39 |
|
| setEdgeSourceArrowShapeDirect | 0.98 | 0.03 | 13.76 |
|
| setEdgeTargetArrowColorDirect | 0.75 | 0.00 | 10.31 |
|
| setEdgeTargetArrowColorRule | 0.22 | 0.00 | 1.32 |
|
| setEdgeTargetArrowOpacityDirect | 1.06 | 0.03 | 4.56 |
|
| setEdgeTargetArrowRule | 0.42 | 0.00 | 1.45 |
|
| setEdgeTargetArrowShapeDirect | 0.89 | 0.00 | 13.81 |
|
| setEdgeTooltipDirect | 0.65 | 0.02 | 5.21 |
|
| setEdgeTooltipRule | 0.66 | 0.01 | 5.05 |
|
| setGraph | 0.33 | 0.00 | 0.36 |
|
| setLayoutProperties | 0.07 | 0.00 | 0.10 |
|
| setNodeAttributes | 0.47 | 0.02 | 0.53 |
|
| setNodeAttributesDirect | 0.39 | 0.00 | 0.40 |
|
| setNodeBorderColorDirect | 0.58 | 0.00 | 3.95 |
|
| setNodeBorderColorRule | 0.31 | 0.00 | 2.38 |
|
| setNodeBorderOpacityDirect | 0.56 | 0.00 | 3.95 |
|
| setNodeBorderWidthDirect | 0.61 | 0.01 | 4.07 |
|
| setNodeBorderWidthRule | 0.61 | 0.02 | 5.03 |
|
| setNodeColorDirect | 0.62 | 0.03 | 4.02 |
|
| setNodeColorRule | 0.44 | 0.00 | 2.54 |
|
| setNodeFillOpacityDirect | 0.72 | 0.02 | 4.11 |
|
| setNodeFontSizeDirect | 0.75 | 0.01 | 4.18 |
|
| setNodeHeightDirect | 0.64 | 0.02 | 4.04 |
|
| setNodeImageDirect | 0.70 | 0.01 | 4.18 |
|
| setNodeLabelColorDirect | 0.72 | 0.00 | 4.07 |
|
| setNodeLabelDirect | 0.75 | 0.02 | 4.23 |
|
| setNodeLabelOpacityDirect | 0.67 | 0.00 | 4.01 |
|
| setNodeLabelRule | 0.78 | 0.03 | 4.21 |
|
| setNodeOpacityDirect | 0.64 | 0.00 | 5.02 |
|
| setNodeShapeDirect | 0.64 | 0.02 | 4.15 |
|
| setNodeShapeRule | 0.46 | 0.01 | 1.52 |
|
| setNodeSizeDirect | 0.77 | 0.03 | 4.13 |
|
| setNodeSizeRule | 0.76 | 0.00 | 7.16 |
|
| setNodeTooltipRule | 0.66 | 0.02 | 7.07 |
|
| setNodeWidthDirect | 0.53 | 0.01 | 4.02 |
|
| setPosition | 0.76 | 0.02 | 5.13 |
|
| setTooltipDismissDelay | 0.83 | 0.01 | 6.20 |
|
| setTooltipInitialDelay | 0.74 | 0.00 | 6.07 |
|
| setVisualStyle | 0.72 | 0.02 | 7.49 |
|
| setWindowSize | 0.78 | 0.00 | 6.52 |
|
| setZoom | 0.74 | 0.00 | 6.41 |
|
| showGraphicsDetails | 0.02 | 0.00 | 0.02 |
|
| unhideAll | 0.80 | 0.02 | 6.50 |
|
| validCyWin | 0.48 | 0.00 | 0.53 |
|
| version | 0.00 | 0.00 | 0.02 |
|