inSilicoDb 0.99.1 Jonatan Taminau
| Snapshot Date: 2011-06-21 19:21:48 -0700 (Tue, 21 Jun 2011) | | URL: https://hedgehog.fhcrc.org/bioconductor/trunk/madman/Rpacks/inSilicoDb | | Last Changed Rev: 56332 / Revision: 56351 | | Last Changed Date: 2011-06-20 15:21:24 -0700 (Mon, 20 Jun 2011) |
| wilson2 | Linux (openSUSE 11.4) / x86_64 | OK | WARNINGS | |
| liverpool | Windows Server 2003 R2 (32-bit) / x64 | OK | WARNINGS | OK |
| gewurz | Windows Server 2008 R2 Enterprise (64-bit) / x64 | OK | WARNINGS | OK |
| moscato1 | Windows Server 2008 R2 Enterprise (64-bit) / x64 | OK | WARNINGS | OK |
| pelham | Mac OS X Leopard (10.5.8) / i386 | OK | WARNINGS | [ OK ] |
>>>>>>>
>>>>>>> INSTALLATION WITH 'R CMD INSTALL --preclean --library=inSilicoDb.buildbin-libdir inSilicoDb_0.99.1.tar.gz'
>>>>>>>
* installing *source* package ‘inSilicoDb’ ...
** R
** inst
** preparing package for lazy loading
Welcome to Bioconductor
Vignettes contain introductory material. To view, type
'browseVignettes()'. To cite Bioconductor, see
'citation("Biobase")' and for packages 'citation("pkgname")'.
** help
*** installing help indices
** building package indices ...
*** tangling vignette sources ...
‘inSilicoDb.Rnw’
** testing if installed package can be loaded
* DONE (inSilicoDb)